BEGIN:VCALENDAR
VERSION:2.0
PRODID:-//Montana Association of Conservation Districts - ECPv6.15.20//NONSGML v1.0//EN
CALSCALE:GREGORIAN
METHOD:PUBLISH
X-ORIGINAL-URL:https://macdnet.org
X-WR-CALDESC:Events for Montana Association of Conservation Districts
REFRESH-INTERVAL;VALUE=DURATION:PT1H
X-Robots-Tag:noindex
X-PUBLISHED-TTL:PT1H
BEGIN:VTIMEZONE
TZID:America/Denver
BEGIN:DAYLIGHT
TZOFFSETFROM:-0700
TZOFFSETTO:-0600
TZNAME:MDT
DTSTART:20240310T090000
END:DAYLIGHT
BEGIN:STANDARD
TZOFFSETFROM:-0600
TZOFFSETTO:-0700
TZNAME:MST
DTSTART:20241103T080000
END:STANDARD
BEGIN:DAYLIGHT
TZOFFSETFROM:-0700
TZOFFSETTO:-0600
TZNAME:MDT
DTSTART:20250309T090000
END:DAYLIGHT
BEGIN:STANDARD
TZOFFSETFROM:-0600
TZOFFSETTO:-0700
TZNAME:MST
DTSTART:20251102T080000
END:STANDARD
BEGIN:DAYLIGHT
TZOFFSETFROM:-0700
TZOFFSETTO:-0600
TZNAME:MDT
DTSTART:20260308T090000
END:DAYLIGHT
BEGIN:STANDARD
TZOFFSETFROM:-0600
TZOFFSETTO:-0700
TZNAME:MST
DTSTART:20261101T080000
END:STANDARD
END:VTIMEZONE
BEGIN:VEVENT
DTSTART;TZID=America/Denver:20250611T123000
DTEND;TZID=America/Denver:20250611T160000
DTSTAMP:20260420T103546
CREATED:20250430T165636Z
LAST-MODIFIED:20250430T165636Z
UID:67221-1749645000-1749657600@macdnet.org
SUMMARY:Ladies Day on the Range
DESCRIPTION:Ladies Day on the Range\nJune 11  \n12:30PM-04:00PM  \nTopics Covered: Building a Rural Food Web; Vermicast for Soil Health; Cattle parasites\, Reproduction\, & Breeding. \nDeparting from Winnett PCCD/NRCS office at 12:30PM\, concludes around 4:00PM. \nLocation: Reba Ahlgren Ranch\, 16 miles NE of Winnett\, Jitney Rd \nFor more information\, contact (406)-429-6646 or petroleumcd@macdnet.org.
URL:https://macdnet.org/event-calendar/ladies-day-on-the-range/
LOCATION:Petroleum County Conservation District Office\, 813 N Broadway Ste B\, Winnett\, Montana\, 59087
CATEGORIES:Events Calendar
END:VEVENT
END:VCALENDAR