BEGIN:VCALENDAR
VERSION:2.0
PRODID:-//Montana Association of Conservation Districts - ECPv6.15.20//NONSGML v1.0//EN
CALSCALE:GREGORIAN
METHOD:PUBLISH
X-ORIGINAL-URL:https://macdnet.org
X-WR-CALDESC:Events for Montana Association of Conservation Districts
REFRESH-INTERVAL;VALUE=DURATION:PT1H
X-Robots-Tag:noindex
X-PUBLISHED-TTL:PT1H
BEGIN:VTIMEZONE
TZID:America/Denver
BEGIN:DAYLIGHT
TZOFFSETFROM:-0700
TZOFFSETTO:-0600
TZNAME:MDT
DTSTART:20230312T090000
END:DAYLIGHT
BEGIN:STANDARD
TZOFFSETFROM:-0600
TZOFFSETTO:-0700
TZNAME:MST
DTSTART:20231105T080000
END:STANDARD
BEGIN:DAYLIGHT
TZOFFSETFROM:-0700
TZOFFSETTO:-0600
TZNAME:MDT
DTSTART:20240310T090000
END:DAYLIGHT
BEGIN:STANDARD
TZOFFSETFROM:-0600
TZOFFSETTO:-0700
TZNAME:MST
DTSTART:20241103T080000
END:STANDARD
BEGIN:DAYLIGHT
TZOFFSETFROM:-0700
TZOFFSETTO:-0600
TZNAME:MDT
DTSTART:20250309T090000
END:DAYLIGHT
BEGIN:STANDARD
TZOFFSETFROM:-0600
TZOFFSETTO:-0700
TZNAME:MST
DTSTART:20251102T080000
END:STANDARD
END:VTIMEZONE
BEGIN:VEVENT
DTSTART;TZID=America/Denver:20240424T113000
DTEND;TZID=America/Denver:20240424T143000
DTSTAMP:20260423T040425
CREATED:20240412T150320Z
LAST-MODIFIED:20240412T150320Z
UID:43170-1713958200-1713969000@macdnet.org
SUMMARY:National Association of State Conservation Agencies Webinar Meeting
DESCRIPTION:NASCA Webinar Meeting\nApril 24  11:30am-2:30pm \nJoin the National Association of State Conservation Agency (NASCA) Webinar Meeting. This meeting topic will be about state conservation agency leaders will share the successes (and challenges) in advancing the Local Work Group effort in their states. \nRegister Here
URL:https://macdnet.org/event-calendar/national-association-of-state-conservation-agencies-webinar-meeting/
LOCATION:Zoom
CATEGORIES:Meetings
END:VEVENT
END:VCALENDAR