BEGIN:VCALENDAR
VERSION:2.0
PRODID:-//Montana Association of Conservation Districts - ECPv6.15.20//NONSGML v1.0//EN
CALSCALE:GREGORIAN
METHOD:PUBLISH
X-ORIGINAL-URL:https://macdnet.org
X-WR-CALDESC:Events for Montana Association of Conservation Districts
REFRESH-INTERVAL;VALUE=DURATION:PT1H
X-Robots-Tag:noindex
X-PUBLISHED-TTL:PT1H
BEGIN:VTIMEZONE
TZID:America/Denver
BEGIN:DAYLIGHT
TZOFFSETFROM:-0700
TZOFFSETTO:-0600
TZNAME:MDT
DTSTART:20240310T090000
END:DAYLIGHT
BEGIN:STANDARD
TZOFFSETFROM:-0600
TZOFFSETTO:-0700
TZNAME:MST
DTSTART:20241103T080000
END:STANDARD
BEGIN:DAYLIGHT
TZOFFSETFROM:-0700
TZOFFSETTO:-0600
TZNAME:MDT
DTSTART:20250309T090000
END:DAYLIGHT
BEGIN:STANDARD
TZOFFSETFROM:-0600
TZOFFSETTO:-0700
TZNAME:MST
DTSTART:20251102T080000
END:STANDARD
BEGIN:DAYLIGHT
TZOFFSETFROM:-0700
TZOFFSETTO:-0600
TZNAME:MDT
DTSTART:20260308T090000
END:DAYLIGHT
BEGIN:STANDARD
TZOFFSETFROM:-0600
TZOFFSETTO:-0700
TZNAME:MST
DTSTART:20261101T080000
END:STANDARD
END:VTIMEZONE
BEGIN:VEVENT
DTSTART;TZID=America/Denver:20250618T073000
DTEND;TZID=America/Denver:20250618T150000
DTSTAMP:20260423T133020
CREATED:20250521T180447Z
LAST-MODIFIED:20250521T180447Z
UID:70451-1750231800-1750258800@macdnet.org
SUMMARY:America's Conservation Ag Movement Farmer-Led Field Day
DESCRIPTION:America’s Conservation Ag Movement Farmer-Led Field Day\nJune 18  \n07:30AM-03:00PM  \nR L Lankford Farms Inc. \n7444 Lankford Lane \nHarlem\, MT 59523 \nOn June 18\, Ryan Lankford will open the farm gate at R.L. Lankford Farms/Kimberlite Farms to share personal experience on how conservation is helping him find success in productivity\, profitability and stewardship. \nRegistration is FREE and lunch is provided. During the field day\, you’ll have the chance to discuss soil health\, leveraging technology and innovation and conservation funding. \nClick here for more information or to register.
URL:https://macdnet.org/event-calendar/americas-conservation-ag-movement-farmer-led-field-day/
LOCATION:R L Lankford Farms Inc\, 7444 Lankford Lane\, Harlem\, Montana\, 59523
CATEGORIES:Events Calendar
END:VEVENT
END:VCALENDAR