BEGIN:VCALENDAR
VERSION:2.0
PRODID:-//Montana Association of Conservation Districts - ECPv6.15.20//NONSGML v1.0//EN
CALSCALE:GREGORIAN
METHOD:PUBLISH
X-ORIGINAL-URL:https://macdnet.org
X-WR-CALDESC:Events for Montana Association of Conservation Districts
REFRESH-INTERVAL;VALUE=DURATION:PT1H
X-Robots-Tag:noindex
X-PUBLISHED-TTL:PT1H
BEGIN:VTIMEZONE
TZID:America/Denver
BEGIN:DAYLIGHT
TZOFFSETFROM:-0700
TZOFFSETTO:-0600
TZNAME:MDT
DTSTART:20250309T090000
END:DAYLIGHT
BEGIN:STANDARD
TZOFFSETFROM:-0600
TZOFFSETTO:-0700
TZNAME:MST
DTSTART:20251102T080000
END:STANDARD
BEGIN:DAYLIGHT
TZOFFSETFROM:-0700
TZOFFSETTO:-0600
TZNAME:MDT
DTSTART:20260308T090000
END:DAYLIGHT
BEGIN:STANDARD
TZOFFSETFROM:-0600
TZOFFSETTO:-0700
TZNAME:MST
DTSTART:20261101T080000
END:STANDARD
BEGIN:DAYLIGHT
TZOFFSETFROM:-0700
TZOFFSETTO:-0600
TZNAME:MDT
DTSTART:20270314T090000
END:DAYLIGHT
BEGIN:STANDARD
TZOFFSETFROM:-0600
TZOFFSETTO:-0700
TZNAME:MST
DTSTART:20271107T080000
END:STANDARD
END:VTIMEZONE
BEGIN:VEVENT
DTSTART;TZID=America/Denver:20260420T073000
DTEND;TZID=America/Denver:20260420T090000
DTSTAMP:20260420T172230
CREATED:20220202T204005Z
LAST-MODIFIED:20220202T204005Z
UID:43312-1776670200-1776675600@macdnet.org
SUMMARY:MACD Board Meeting
DESCRIPTION:[vc_row][vc_column][vc_column_text]The MACD Board will meet on the second Monday of the Month at 7:30am. Contact Rebecca Boslough for meeting details.[/vc_column_text][/vc_column][/vc_row]
URL:https://macdnet.org/event-calendar/macd-board-meeting-3/2026-04-20/
LOCATION:Zoom
CATEGORIES:Meetings
ATTACH;FMTTYPE=image/png:https://macdnet.org/wp-content/uploads/2021/12/macd-draft-3.png
END:VEVENT
BEGIN:VEVENT
DTSTART;TZID=America/Denver:20260420T073000
DTEND;TZID=America/Denver:20260420T093000
DTSTAMP:20260420T172230
CREATED:20230915T212232Z
LAST-MODIFIED:20240718T162021Z
UID:43311-1776670200-1776677400@macdnet.org
SUMMARY:MACD Board Meeting
DESCRIPTION:[vc_row][vc_column][vc_column_text]The MACD Board meets on the third Monday of the Month at 7:30am via zoom. Contact Rebecca Boslough for meeting details. \nhttps://macdnet.org/about-us/board-organization-documents/[/vc_column_text][/vc_column][/vc_row]
URL:https://macdnet.org/event-calendar/macd-board-meeting-5/2026-04-20/
LOCATION:Zoom
CATEGORIES:Meetings
ATTACH;FMTTYPE=image/png:https://macdnet.org/wp-content/uploads/2021/12/macd-draft-3.png
END:VEVENT
BEGIN:VEVENT
DTSTART;TZID=America/Denver:20260421T070000
DTEND;TZID=America/Denver:20260421T070000
DTSTAMP:20260420T172230
CREATED:20210920T235805Z
LAST-MODIFIED:20210920T235805Z
UID:43334-1776754800-1776754800@macdnet.org
SUMMARY:Jefferson Valley CD Meeting
DESCRIPTION:
URL:https://macdnet.org/event-calendar/__trashed-73__trashed/2026-04-21/
CATEGORIES:CD Board Meetings
END:VEVENT
BEGIN:VEVENT
DTSTART;TZID=America/Denver:20260421T133000
DTEND;TZID=America/Denver:20260421T173000
DTSTAMP:20260420T172230
CREATED:20210908T032348Z
LAST-MODIFIED:20210908T032348Z
UID:43333-1776778200-1776792600@macdnet.org
SUMMARY:Carter CD Board Meeting
DESCRIPTION:Contact Carter CD for the most up-to-date meeting information.
URL:https://macdnet.org/event-calendar/carter-cd-meeting/2026-04-21/
LOCATION:Carter County CD Office\, 308 Mormon Avenue\, Ekalaka\, MT\, 59324
END:VEVENT
BEGIN:VEVENT
DTSTART;TZID=America/Denver:20260421T171500
DTEND;TZID=America/Denver:20260421T171500
DTSTAMP:20260420T172230
CREATED:20210920T235755Z
LAST-MODIFIED:20210920T235755Z
UID:43335-1776791700-1776791700@macdnet.org
SUMMARY:Blaine County CD Meeting
DESCRIPTION:
URL:https://macdnet.org/event-calendar/__trashed-15__trashed/2026-04-21/
CATEGORIES:CD Board Meetings
END:VEVENT
BEGIN:VEVENT
DTSTART;TZID=America/Denver:20260421T180000
DTEND;TZID=America/Denver:20260421T180000
DTSTAMP:20260420T172230
CREATED:20210920T235755Z
LAST-MODIFIED:20210920T235755Z
UID:43336-1776794400-1776794400@macdnet.org
SUMMARY:Mineral County CD Meeting
DESCRIPTION:
URL:https://macdnet.org/event-calendar/__trashed-16__trashed/2026-04-21/
CATEGORIES:CD Board Meetings
END:VEVENT
END:VCALENDAR