BEGIN:VCALENDAR
VERSION:2.0
PRODID:-//Montana Association of Conservation Districts - ECPv6.15.20//NONSGML v1.0//EN
CALSCALE:GREGORIAN
METHOD:PUBLISH
X-WR-CALNAME:Montana Association of Conservation Districts
X-ORIGINAL-URL:https://macdnet.org
X-WR-CALDESC:Events for Montana Association of Conservation Districts
REFRESH-INTERVAL;VALUE=DURATION:PT1H
X-Robots-Tag:noindex
X-PUBLISHED-TTL:PT1H
BEGIN:VTIMEZONE
TZID:America/Denver
BEGIN:DAYLIGHT
TZOFFSETFROM:-0700
TZOFFSETTO:-0600
TZNAME:MDT
DTSTART:20240310T090000
END:DAYLIGHT
BEGIN:STANDARD
TZOFFSETFROM:-0600
TZOFFSETTO:-0700
TZNAME:MST
DTSTART:20241103T080000
END:STANDARD
BEGIN:DAYLIGHT
TZOFFSETFROM:-0700
TZOFFSETTO:-0600
TZNAME:MDT
DTSTART:20250309T090000
END:DAYLIGHT
BEGIN:STANDARD
TZOFFSETFROM:-0600
TZOFFSETTO:-0700
TZNAME:MST
DTSTART:20251102T080000
END:STANDARD
BEGIN:DAYLIGHT
TZOFFSETFROM:-0700
TZOFFSETTO:-0600
TZNAME:MDT
DTSTART:20260308T090000
END:DAYLIGHT
BEGIN:STANDARD
TZOFFSETFROM:-0600
TZOFFSETTO:-0700
TZNAME:MST
DTSTART:20261101T080000
END:STANDARD
END:VTIMEZONE
BEGIN:VEVENT
DTSTART;TZID=America/Denver:20250120T073000
DTEND;TZID=America/Denver:20250120T093000
DTSTAMP:20260422T131919
CREATED:20230915T212232Z
LAST-MODIFIED:20240718T161950Z
UID:39670-1737358200-1737365400@macdnet.org
SUMMARY:MACD Board Meeting
DESCRIPTION:[vc_row][vc_column][vc_column_text]The MACD Board meets on the third Monday of the Month at 7:30am via zoom. Contact Rebecca Boslough for meeting details. \nhttps://macdnet.org/about-us/board-organization-documents/[/vc_column_text][/vc_column][/vc_row]
URL:https://macdnet.org/event-calendar/macd-board-meeting-5/2025-01-20/
LOCATION:Zoom
CATEGORIES:Meetings
ATTACH;FMTTYPE=image/png:https://macdnet.org/wp-content/uploads/2021/12/macd-draft-3.png
END:VEVENT
BEGIN:VEVENT
DTSTART;TZID=America/Denver:20250121T070000
DTEND;TZID=America/Denver:20250121T070000
DTSTAMP:20260422T131919
CREATED:20210920T235805Z
LAST-MODIFIED:20210920T235805Z
UID:35293-1737442800-1737442800@macdnet.org
SUMMARY:Jefferson Valley CD Meeting
DESCRIPTION:
URL:https://macdnet.org/event-calendar/__trashed-73__trashed/2025-01-21/
CATEGORIES:CD Board Meetings
END:VEVENT
BEGIN:VEVENT
DTSTART;TZID=America/Denver:20250121T070000
DTEND;TZID=America/Denver:20250121T080000
DTSTAMP:20260422T131919
CREATED:20241219T215345Z
LAST-MODIFIED:20241219T215431Z
UID:51077-1737442800-1737446400@macdnet.org
SUMMARY:MACD Legislative Committee
DESCRIPTION:[vc_row][vc_column][vc_column_text]During the legislative session\, the MACD Legislative Committee meets weekly on Tuesdays at 7am via zoom. Please contact rebecca@macdnet.org for further information and the zoom link.[/vc_column_text][/vc_column][/vc_row]
URL:https://macdnet.org/event-calendar/macd-legislative-committee-3/2025-01-21/
LOCATION:Zoom
END:VEVENT
BEGIN:VEVENT
DTSTART;TZID=America/Denver:20250121T133000
DTEND;TZID=America/Denver:20250121T173000
DTSTAMP:20260422T131919
CREATED:20210908T032348Z
LAST-MODIFIED:20210908T032348Z
UID:38700-1737466200-1737480600@macdnet.org
SUMMARY:Carter CD Board Meeting
DESCRIPTION:Contact Carter CD for the most up-to-date meeting information.
URL:https://macdnet.org/event-calendar/carter-cd-meeting/2025-01-21/
LOCATION:Carter County CD Office\, 308 Mormon Avenue\, Ekalaka\, MT\, 59324
END:VEVENT
BEGIN:VEVENT
DTSTART;TZID=America/Denver:20250121T171500
DTEND;TZID=America/Denver:20250121T171500
DTSTAMP:20260422T131919
CREATED:20210920T235755Z
LAST-MODIFIED:20210920T235755Z
UID:35294-1737479700-1737479700@macdnet.org
SUMMARY:Blaine County CD Meeting
DESCRIPTION:
URL:https://macdnet.org/event-calendar/__trashed-15__trashed/2025-01-21/
CATEGORIES:CD Board Meetings
END:VEVENT
BEGIN:VEVENT
DTSTART;TZID=America/Denver:20250121T180000
DTEND;TZID=America/Denver:20250121T180000
DTSTAMP:20260422T131919
CREATED:20210920T235755Z
LAST-MODIFIED:20210920T235755Z
UID:35296-1737482400-1737482400@macdnet.org
SUMMARY:Mineral County CD Meeting
DESCRIPTION:
URL:https://macdnet.org/event-calendar/__trashed-16__trashed/2025-01-21/
CATEGORIES:CD Board Meetings
END:VEVENT
BEGIN:VEVENT
DTSTART;TZID=America/Denver:20250122T100000
DTEND;TZID=America/Denver:20250122T113000
DTSTAMP:20260422T131919
CREATED:20250117T190923Z
LAST-MODIFIED:20250311T203609Z
UID:51483-1737540000-1737545400@macdnet.org
SUMMARY:NCDEA Successful Youth Education Webinar
DESCRIPTION:NCDEA Successful Youth Education Webinar\nJanuary 22  \n10:00AM-11:30AM Mountain Time  \nJoin NCDEA on Wednesday\, January 22\, 2025 at 9:00am PST/11:00am CST for a discussion on Successful Youth Education – building and supporting programming. They have districts from Colorado and South Dakota presenting.  Grab some coffee or your lunch and bring your questions on how to start a program or how to continue to grow and support existing programs. Registration is required and open at www.ncdea.us. These webinars will be recorded and posted on the NCDEA website following the program if you’re unable to join  them live.\n\nIf you have any questions\, contact sarah.tunge@ncdea.org for more information.
URL:https://macdnet.org/event-calendar/ncdea-successful-youth-education-webinar/
LOCATION:Zoom
CATEGORIES:Events Calendar,Trainings and Workshops
END:VEVENT
BEGIN:VEVENT
DTSTART;TZID=America/Denver:20250122T113000
DTEND;TZID=America/Denver:20250122T130000
DTSTAMP:20260422T131919
CREATED:20250115T162136Z
LAST-MODIFIED:20250311T203603Z
UID:51448-1737545400-1737550800@macdnet.org
SUMMARY:NASCA Webinar: Engaging State Legislators & Influencing Policy
DESCRIPTION:NASCA Webinar:\nEngaging State Legislators & Influencing Policy: Effective Strategies and Activities (Part 2)\nJanuary 22\, 2025 \n11:30AM-01:00PM \nJoin us for our January 22 webinar\, “Engaging State Legislators and Influencing Policy: Effective Strategies and Activities (Part 2)”. The second part of our webinar series will discuss activities that are making a difference at the state level. This session will focus on how states are effectively engaging with their legislators and influencing policy\, featuring real-world examples from our member organizations. \nOur presenters from Alabama and Oklahoma will discuss successful approaches\, such as crafting impactful one-pagers\, organizing state visits\, and building meaningful relationships with policymakers. Learn firsthand from experts representing our organizations who will share strategies\, experiences\, and insights on advocating for change within state legislative frameworks. \nRegister Here
URL:https://macdnet.org/event-calendar/nasca-webinar-engaging-state-legislators-influencing-policy/
LOCATION:Zoom
CATEGORIES:Events Calendar,Trainings and Workshops
END:VEVENT
BEGIN:VEVENT
DTSTART;TZID=America/Denver:20250122T120000
DTEND;TZID=America/Denver:20250122T130000
DTSTAMP:20260422T131919
CREATED:20240904T181000Z
LAST-MODIFIED:20250311T203558Z
UID:46700-1737547200-1737550800@macdnet.org
SUMMARY:MWCC Conservation Conversations: Contracting for Watershed Conservation
DESCRIPTION:MWCC Conservation Conversations:\nContracting for Watershed Conservation\nJanuary 22\, 2025 \n12:00pm-01:00pm \nIt’s hard to avoid contracting outside of our organizations – for everything from restoration projects to accounting\, and maybe even for your own watershed coordinator. Join MWCC and Lynn Job\, Director of Finance and Grants for the Blackfoot Challenge\, as she shares processes\, tips\, and tricks for hiring and working with contractors\, including special requirements for contracting with state and federal grant funds. Come with your questions and examples! \nRegister Here \nLearn More About Conservation Conversations Here
URL:https://macdnet.org/event-calendar/mwcc-conservation-conversations-contracting-for-watershed-conservation/
LOCATION:Zoom
CATEGORIES:Events Calendar,Trainings and Workshops
END:VEVENT
BEGIN:VEVENT
DTSTART;VALUE=DATE:20250123
DTEND;VALUE=DATE:20250124
DTSTAMP:20260422T131919
CREATED:20241126T153143Z
LAST-MODIFIED:20250311T203548Z
UID:49908-1737590400-1737676799@macdnet.org
SUMMARY:Conservation Districts Awareness Day in the Capitol
DESCRIPTION:Conservation Districts Awareness Day in the Capitol\nJanuary 23\, 2025  \nHelena\, MT  \nJoin the DNRC Conservation Districts Bureau and MACD for the 2025 Conservation Districts Awareness Day in the Capitol Rotunda on January 23rd! This event is an opportunity to connect with legislators and partners and highlight the important work done by conservation districts across the state. Lunch will be provided and tables are still available for interested districts\, please contact Steph Criswell at (406)558-9912 for details.
URL:https://macdnet.org/event-calendar/cd-awareness-day/
LOCATION:Montana State Capitol\, 1301 E 6th Ave\, Helena\, MT\, 59601
CATEGORIES:Events Calendar
END:VEVENT
BEGIN:VEVENT
DTSTART;VALUE=DATE:20250123
DTEND;VALUE=DATE:20250124
DTSTAMP:20260422T131919
CREATED:20241126T153354Z
LAST-MODIFIED:20250311T203554Z
UID:49910-1737590400-1737676799@macdnet.org
SUMMARY:MACD Legislative Meet and Greet
DESCRIPTION:MACD Legislative Meet and Greet\nJanuary 23\, 2025 \nThe Union \n361 N Last Chance Gulch \nHelena\, MT 59601 \nMACD will be holding a special legislative meet and greet. More information coming soon! \nMore Information Flyer
URL:https://macdnet.org/event-calendar/macd-legislative-meet-and-greet/
LOCATION:Montana State Capitol\, 1301 E 6th Ave\, Helena\, MT\, 59601
CATEGORIES:Events Calendar
END:VEVENT
BEGIN:VEVENT
DTSTART;TZID=America/Denver:20250123T190000
DTEND;TZID=America/Denver:20250123T203000
DTSTAMP:20260422T131919
CREATED:20250107T153329Z
LAST-MODIFIED:20250311T203502Z
UID:51262-1737658800-1737664200@macdnet.org
SUMMARY:Rural Resilience Webinar: Grass Growth Via Goat
DESCRIPTION:Rural Resilience Webinar:\nStimulating Native Grass Growth With Goat Grazing Techniques\nJanuary 23\, 2025 \n07:00PM-08:30PM  \nJoin us for the fifth year of the Rural Resilience Webinar Series\, where we’re growing our ranching and rural community’s financial\, ecological\, and social resilience with experienced speakers and actionable insights. This free\, four-part series will tackle key topics designed to support ranchers and rural residents. \nEach webinar will take place on the fourth Thursday of the month\, January through April\, from 7:00 to 8:30 PM Mountain Time. Each session includes a 60-minute presentation followed by a 30-minute Q&A\, allowing you to engage directly with our expert speakers. Don’t miss this opportunity to gain practical knowledge and connect with others dedicated to building resilient ranching and rural communities. Pre-registration is required—Zoom link will be emailed upon registration. \nJanuary: Stimulating native grass growth with goat grazing techniques. Presenter: Lani Malmberg (Goat Green LLC);  \nRegister Here
URL:https://macdnet.org/event-calendar/rural-resilience-webinar-grass-growth-via-goat/
LOCATION:Zoom
CATEGORIES:Events Calendar,Trainings and Workshops
END:VEVENT
END:VCALENDAR