BEGIN:VCALENDAR
VERSION:2.0
PRODID:-//Montana Association of Conservation Districts - ECPv6.15.20//NONSGML v1.0//EN
CALSCALE:GREGORIAN
METHOD:PUBLISH
X-WR-CALNAME:Montana Association of Conservation Districts
X-ORIGINAL-URL:https://macdnet.org
X-WR-CALDESC:Events for Montana Association of Conservation Districts
REFRESH-INTERVAL;VALUE=DURATION:PT1H
X-Robots-Tag:noindex
X-PUBLISHED-TTL:PT1H
BEGIN:VTIMEZONE
TZID:America/Denver
BEGIN:DAYLIGHT
TZOFFSETFROM:-0700
TZOFFSETTO:-0600
TZNAME:MDT
DTSTART:20240310T090000
END:DAYLIGHT
BEGIN:STANDARD
TZOFFSETFROM:-0600
TZOFFSETTO:-0700
TZNAME:MST
DTSTART:20241103T080000
END:STANDARD
BEGIN:DAYLIGHT
TZOFFSETFROM:-0700
TZOFFSETTO:-0600
TZNAME:MDT
DTSTART:20250309T090000
END:DAYLIGHT
BEGIN:STANDARD
TZOFFSETFROM:-0600
TZOFFSETTO:-0700
TZNAME:MST
DTSTART:20251102T080000
END:STANDARD
BEGIN:DAYLIGHT
TZOFFSETFROM:-0700
TZOFFSETTO:-0600
TZNAME:MDT
DTSTART:20260308T090000
END:DAYLIGHT
BEGIN:STANDARD
TZOFFSETFROM:-0600
TZOFFSETTO:-0700
TZNAME:MST
DTSTART:20261101T080000
END:STANDARD
END:VTIMEZONE
BEGIN:VEVENT
DTSTART;TZID=America/Denver:20250211T120000
DTEND;TZID=America/Denver:20250211T133000
DTSTAMP:20260419T175236
CREATED:20250211T203050Z
LAST-MODIFIED:20250311T202645Z
UID:54447-1739275200-1739280600@macdnet.org
SUMMARY:MWCC Conservation Conversation - Policy & Watershed Conservation
DESCRIPTION:MWCC Conservation Conversation – Policy & Watershed Conservation\nFebruary 12  \nJoin us this Wednesday\, February 12\, for a Conservation Conversation with Water Policy Manager\, Katherine Berry\, and Executive Director\, Holly Hill\, from the Gallatin Watershed Council on Policy and Watershed Conservation! \nClick here to register. \n 
URL:https://macdnet.org/event-calendar/mwcc-conservation-conversation-policy-watershed-conservation/
LOCATION:Zoom
CATEGORIES:Events Calendar
END:VEVENT
END:VCALENDAR