BEGIN:VCALENDAR
VERSION:2.0
PRODID:-//Montana Association of Conservation Districts - ECPv6.15.20//NONSGML v1.0//EN
CALSCALE:GREGORIAN
METHOD:PUBLISH
X-WR-CALNAME:Montana Association of Conservation Districts
X-ORIGINAL-URL:https://macdnet.org
X-WR-CALDESC:Events for Montana Association of Conservation Districts
REFRESH-INTERVAL;VALUE=DURATION:PT1H
X-Robots-Tag:noindex
X-PUBLISHED-TTL:PT1H
BEGIN:VTIMEZONE
TZID:America/Denver
BEGIN:DAYLIGHT
TZOFFSETFROM:-0700
TZOFFSETTO:-0600
TZNAME:MDT
DTSTART:20240310T090000
END:DAYLIGHT
BEGIN:STANDARD
TZOFFSETFROM:-0600
TZOFFSETTO:-0700
TZNAME:MST
DTSTART:20241103T080000
END:STANDARD
BEGIN:DAYLIGHT
TZOFFSETFROM:-0700
TZOFFSETTO:-0600
TZNAME:MDT
DTSTART:20250309T090000
END:DAYLIGHT
BEGIN:STANDARD
TZOFFSETFROM:-0600
TZOFFSETTO:-0700
TZNAME:MST
DTSTART:20251102T080000
END:STANDARD
BEGIN:DAYLIGHT
TZOFFSETFROM:-0700
TZOFFSETTO:-0600
TZNAME:MDT
DTSTART:20260308T090000
END:DAYLIGHT
BEGIN:STANDARD
TZOFFSETFROM:-0600
TZOFFSETTO:-0700
TZNAME:MST
DTSTART:20261101T080000
END:STANDARD
END:VTIMEZONE
BEGIN:VEVENT
DTSTART;TZID=America/Denver:20250521T100000
DTEND;TZID=America/Denver:20250521T110000
DTSTAMP:20260420T235254
CREATED:20250428T154626Z
LAST-MODIFIED:20250428T154627Z
UID:66940-1747821600-1747825200@macdnet.org
SUMMARY:MCDEO Roundtable: 310 Refresher
DESCRIPTION:MCDEO Roundtable\n310 Refresher\nMay 21\, 2025 \n10:00AM-11:00AM \nVia Zoom \nHailey will be presenting a 310 refresher during the May CD Roundtable. This refresher course will be great for anyone new to 310 permitting or seasoned pros. We’ll cover timelines\, the review process\, emergency procedures\, and violations. \nMore Information Here
URL:https://macdnet.org/event-calendar/mcdeo-roundtable-310-refresher/
LOCATION:Zoom
CATEGORIES:Events Calendar,Trainings and Workshops
END:VEVENT
END:VCALENDAR