BEGIN:VCALENDAR
VERSION:2.0
PRODID:-//Montana Association of Conservation Districts - ECPv6.15.20//NONSGML v1.0//EN
CALSCALE:GREGORIAN
METHOD:PUBLISH
X-WR-CALNAME:Montana Association of Conservation Districts
X-ORIGINAL-URL:https://macdnet.org
X-WR-CALDESC:Events for Montana Association of Conservation Districts
REFRESH-INTERVAL;VALUE=DURATION:PT1H
X-Robots-Tag:noindex
X-PUBLISHED-TTL:PT1H
BEGIN:VTIMEZONE
TZID:America/Denver
BEGIN:DAYLIGHT
TZOFFSETFROM:-0700
TZOFFSETTO:-0600
TZNAME:MDT
DTSTART:20240310T090000
END:DAYLIGHT
BEGIN:STANDARD
TZOFFSETFROM:-0600
TZOFFSETTO:-0700
TZNAME:MST
DTSTART:20241103T080000
END:STANDARD
BEGIN:DAYLIGHT
TZOFFSETFROM:-0700
TZOFFSETTO:-0600
TZNAME:MDT
DTSTART:20250309T090000
END:DAYLIGHT
BEGIN:STANDARD
TZOFFSETFROM:-0600
TZOFFSETTO:-0700
TZNAME:MST
DTSTART:20251102T080000
END:STANDARD
BEGIN:DAYLIGHT
TZOFFSETFROM:-0700
TZOFFSETTO:-0600
TZNAME:MDT
DTSTART:20260308T090000
END:DAYLIGHT
BEGIN:STANDARD
TZOFFSETFROM:-0600
TZOFFSETTO:-0700
TZNAME:MST
DTSTART:20261101T080000
END:STANDARD
END:VTIMEZONE
BEGIN:VEVENT
DTSTART;TZID=America/Denver:20250406T143000
DTEND;TZID=America/Denver:20250406T160000
DTSTAMP:20260420T184734
CREATED:20250401T181515Z
LAST-MODIFIED:20250401T182918Z
UID:62744-1743949800-1743955200@macdnet.org
SUMMARY:Wild Montana Presents: Amazing\, Beneficial Beavers
DESCRIPTION:Wild Montana Presents: Amazing\, Beneficial Beavers\nApril 6  \n02:30PM-04:00PM  \nMissoula Public Library \n455 E Main St \n Missoula\, MT 59802 \nFor more information\, contact Caroline at LakeCD@macdnet.org.  \n 
URL:https://macdnet.org/event-calendar/wild-montana-presents-amazing-beneficial-beavers/
LOCATION:Missoula Public Library\, 455 E Main Street\, Missoula\, Montana\, 59802
CATEGORIES:Events Calendar
END:VEVENT
BEGIN:VEVENT
DTSTART;VALUE=DATE:20250416
DTEND;VALUE=DATE:20250417
DTSTAMP:20260420T184734
CREATED:20250401T201837Z
LAST-MODIFIED:20250401T201837Z
UID:62808-1744761600-1744847999@macdnet.org
SUMMARY:SRWG Water Management Working Group & SRWG Board Meetings
DESCRIPTION:SRWG Water Management Working Group & SRWG Board Meetings\nApril 16 \n10:00AM-01:00PM  \nThe Water Management Working Group meeting will begin at 10:00AM\, with the Board meeting occurring after the Working Group meeting is done. Both meetings are open to the public. For more information\, contact Madison Coyler.
URL:https://macdnet.org/event-calendar/srwg-water-management-working-group-srwg-board-meetings/
CATEGORIES:Events Calendar
END:VEVENT
BEGIN:VEVENT
DTSTART;TZID=America/Denver:20250417T083000
DTEND;TZID=America/Denver:20250417T100000
DTSTAMP:20260420T184734
CREATED:20250411T162735Z
LAST-MODIFIED:20250411T162735Z
UID:64597-1744878600-1744884000@macdnet.org
SUMMARY:Fish & Wildlife Commission Meeting (Virtual)
DESCRIPTION:Fish & Wildlife Commission Meeting (Virtual)\nApril 17  \n8:30AM-10:00PM  \nThe Montana Fish and Wildlife Commission will meet virtually via Zoom on April 17 beginning at 8:30 a.m. The meeting will be streamed live on Fish\, Wildlife & Parks’ website and YouTube. \nThe commission will take public comment on agenda items from registered commenters on Zoom. Registration for public comment end at noon on April 16. To register\, go to FWP’s website. \nAgenda items include the following: \n\nProposed Fish Removal Project for 2025\n\n\n2025–2026 Migratory Bird Regulations and 2026–2030 Federal Zones and Splits for Montana\n\n\nEar Mountain WMA Grazing Lease Renewal\, Region\n\n\nFishing Access Site Annual Rule\n\n\nCommercial Use Permit Fee Rule Renewal\n\nFor the full agenda\, background on the scheduled topics and to provide public comment\, go to the Fish and Wildlife Commission page on the FWP website. \nFWP ensures its meetings are fully accessible to those with special needs. To request arrangements\, call FWP at 406-444-7826. \n 
URL:https://macdnet.org/event-calendar/fish-wildlife-commission-meeting-virtual/
LOCATION:Zoom
CATEGORIES:Events Calendar
END:VEVENT
BEGIN:VEVENT
DTSTART;TZID=America/Denver:20250417T100000
DTEND;TZID=America/Denver:20250417T113000
DTSTAMP:20260420T184734
CREATED:20250423T153715Z
LAST-MODIFIED:20250423T153715Z
UID:66062-1744884000-1744889400@macdnet.org
SUMMARY:Convention Planning Meeting
DESCRIPTION:Convention Planning Meeting\nThird Thursday of every month  \n10:00AM-11:30AM \nWe are looking forward to seeing everyone in Billings this November 18-20 for the 2025 Convention!\n\nWe aim to keep Convention’s location central for venue logistics and reasonable travel while ensuring that all areas have the opportunity to participate as hosts (and no areas are overburdened)\, and I am excited to share that Area 1 and Area 2 will be hosting this year’s event! With that said\, Convention planning meetings are open to everyone\, and we invite all suggestions for training and content.\n\nConvention planning meetings will be held on the third Thursday of each month – the first will be held tomorrow (4/17) at 10am! Planning meetings are open to all conservation district staff\, supervisors\, and partners. My apologies for sending out this notice last minute – meeting reminders and agenda will typically go out 1 week prior to meetings.\nJoin Zoom Meeting \nMeeting ID: 898 5985 3141 \n\nPasscode: 642957
URL:https://macdnet.org/event-calendar/convention-planning-meeting-2/2025-04-17/
LOCATION:Zoom
CATEGORIES:Events Calendar
END:VEVENT
BEGIN:VEVENT
DTSTART;TZID=America/Denver:20250422T170000
DTEND;TZID=America/Denver:20250422T190000
DTSTAMP:20260420T184734
CREATED:20250331T151310Z
LAST-MODIFIED:20250331T175756Z
UID:62179-1745341200-1745348400@macdnet.org
SUMMARY:Public invited to provide input on new Judith Landing State Park
DESCRIPTION:Public invited to open house meetings on new Judith Landing State Park \nNOTE: This meeting will be rescheduled at a later date.  \nApril 22  \n05:00PM-07:00PM  \nPublic Library \n60 Johannes Ave \nBig Sandy\, MT 59520 \nIn February of 2025\, Montana Fish\, Wildlife & Parks (FWP) acquired 109 acres at the confluence of the Judith and Missouri Rivers in north-central Montana and plans to manage the property as Judith Landing State Park. As part of the initial planning process for the new park\, the public is invited to attend one of several open house meetings in April to learn about plans for the park and share their thoughts on how it can best serve visitors\, the region\, and the local community. \nThe meetings will be held in an open house format allowing attendees to drop in at their convenience anytime between 5 – 7 p.m. and visit information stations set up at the meeting venue. There will be no formal presentation\, allowing participants to move through the stations at their own pace and visit directly with FWP staff about the plans for the newly acquired property. \nFor more information\, please contact FWP recreation manager Colegrove at 406-454-5854 or cannon.colegrove@mt.gov.
URL:https://macdnet.org/event-calendar/public-invited-to-provide-input-on-new-judith-landing-state-park/
CATEGORIES:Events Calendar
END:VEVENT
BEGIN:VEVENT
DTSTART;TZID=America/Denver:20250423T170000
DTEND;TZID=America/Denver:20250423T190000
DTSTAMP:20260420T184734
CREATED:20250331T151725Z
LAST-MODIFIED:20250331T175822Z
UID:62187-1745427600-1745434800@macdnet.org
SUMMARY:Public invited to provide input on new Judith Landing State Park
DESCRIPTION:Public invited to open house meetings on new Judith Landing State Park\nNOTE: This meeting will be rescheduled at a later date.  \nApril 23  \n05:00PM-07:00PM  \nPublic Library \n210 Main Street \nWinifred\, MT 59489 \nIn February of 2025\, Montana Fish\, Wildlife & Parks (FWP) acquired 109 acres at the confluence of the Judith and Missouri Rivers in north-central Montana and plans to manage the property as Judith Landing State Park. As part of the initial planning process for the new park\, the public is invited to attend one of several open house meetings in April to learn about plans for the park and share their thoughts on how it can best serve visitors\, the region\, and the local community. \nThe meetings will be held in an open house format allowing attendees to drop in at their convenience anytime between 5 – 7 p.m. and visit information stations set up at the meeting venue. There will be no formal presentation\, allowing participants to move through the stations at their own pace and visit directly with FWP staff about the plans for the newly acquired property. \nFor more information\, please contact FWP recreation manager Colegrove at 406-454-5854 or cannon.colegrove@mt.gov.
URL:https://macdnet.org/event-calendar/public-invited-to-provide-input-on-new-judith-landing-state-park-2/
CATEGORIES:Events Calendar
END:VEVENT
BEGIN:VEVENT
DTSTART;TZID=America/Denver:20250423T180000
DTEND;TZID=America/Denver:20250423T193000
DTSTAMP:20260420T184734
CREATED:20250401T180643Z
LAST-MODIFIED:20250401T180643Z
UID:62733-1745431200-1745436600@macdnet.org
SUMMARY:Conservation Speaker Series: SKQ Dam
DESCRIPTION:Conservation Speaker Series: SKQ Dam\nApril 23  \n06:00PM-07:30PM  \nNinepipes Lodge  \nUS-93 South  \nCharlo\, MT 59824 \nJoin Lake County Conservation District and Brian Lipscomb (CEO\, Energy Keepers Inc.) at Ninepipes Lodge to learn more about the SKQ Dam!
URL:https://macdnet.org/event-calendar/conservation-speaker-series-skq-dam/
LOCATION:Ninepipes Lodge\, US-93 South\, Charlo\, Montana\, 59824
CATEGORIES:Events Calendar
END:VEVENT
BEGIN:VEVENT
DTSTART;TZID=America/Denver:20250423T180000
DTEND;TZID=America/Denver:20250423T193000
DTSTAMP:20260420T184734
CREATED:20250407T162855Z
LAST-MODIFIED:20250407T162855Z
UID:63621-1745431200-1745436600@macdnet.org
SUMMARY:Fresno Reservoir Informational Public Meeting
DESCRIPTION:Fresno Reservoir Informational Public Meeting\nApril 23 \n06:00PM-07:30PM  \nBest Western Plus Inn & Suites \n 1425 Highway 2 NW  \nHavre\, MT 59501 \nHavre-area FWP fisheries biologist Cody Nagel and Bureau of Reclamation (BOR) staff will provide updates on the Fresno fishery in Havre\, including: \n\nFWP reviewing the 10-year Fresno Fisheries Management plan and the status of the Fresno fishery\, including a review of the 2024 netting results and other projects.\nBOR providing Milk River Project updates and 2025 water forecasts on the Milk River and Fresno Reservoir.\n\nClick here for more information.
URL:https://macdnet.org/event-calendar/fresno-reservoir-informational-public-meeting/
LOCATION:Best Western Plus Havre Inn & Suites\, 1425 U.S. Rte 2\, Havre\, MT\, 59501\, United States
CATEGORIES:Events Calendar
END:VEVENT
BEGIN:VEVENT
DTSTART;TZID=America/Denver:20250423T180000
DTEND;TZID=America/Denver:20250423T200000
DTSTAMP:20260420T184734
CREATED:20250414T203031Z
LAST-MODIFIED:20250414T203031Z
UID:64861-1745431200-1745438400@macdnet.org
SUMMARY:Flathead Reservation Fish and Wildlife Board to meet April 23
DESCRIPTION:Flathead Reservation Fish and Wildlife Board to meet April 23\nApril 23 \n06:00PM-08:00PM  \nThe Flathead Reservation Fish and Wildlife Board will meet Wednesday\, April 23\, 2025\, at the Lake County Library in Polson. All interested persons are invited to attend. \nThe board is composed of tribal and state appointees and a representative of the U.S. Fish and Wildlife Service. The board is advisory to the state and tribes and is responsible for the development of cooperative management plans\, which include fishing and bird hunting regulations. \nFor more information\, contact Stephanie Gillin\, information and education program manager with Confederated Salish & Kootenai Tribes\, at 406-883-2888 or stephanie.gillin@cskt.org or Vivaca Crowser at FWP at 406-542-5518\, or vcrowser@mt.gov. \nClick here for more information about the board.
URL:https://macdnet.org/event-calendar/flathead-reservation-fish-and-wildlife-board-to-meet-april-23/
CATEGORIES:Events Calendar
END:VEVENT
BEGIN:VEVENT
DTSTART;TZID=America/Denver:20250429T170000
DTEND;TZID=America/Denver:20250429T190000
DTSTAMP:20260420T184734
CREATED:20250331T152137Z
LAST-MODIFIED:20250331T175825Z
UID:62190-1745946000-1745953200@macdnet.org
SUMMARY:Public invited to provide input on new Judith Landing State Park
DESCRIPTION:Public invited to open house meetings on new Judith Landing State Park \nNOTE: This meeting will be rescheduled at a later date.  \nApril 29  \nYogo Inn \n211 East Main Street \nLewistown\, MT 59457 \nIn February of 2025\, Montana Fish\, Wildlife & Parks (FWP) acquired 109 acres at the confluence of the Judith and Missouri Rivers in north-central Montana and plans to manage the property as Judith Landing State Park. As part of the initial planning process for the new park\, the public is invited to attend one of several open house meetings in April to learn about plans for the park and share their thoughts on how it can best serve visitors\, the region\, and the local community. \nThe meetings will be held in an open house format allowing attendees to drop in at their convenience anytime between 5 – 7 p.m. and visit information stations set up at the meeting venue. There will be no formal presentation\, allowing participants to move through the stations at their own pace and visit directly with FWP staff about the plans for the newly acquired property. \nFor more information\, please contact FWP recreation manager Colegrove at 406-454-5854 or cannon.colegrove@mt.gov.
URL:https://macdnet.org/event-calendar/public-invited-to-provide-input-on-new-judith-landing-state-park-3/
LOCATION:Yogo Inn\, 211 E Main St\, Lewistown\, MT\, 59457\, United States
CATEGORIES:Events Calendar
END:VEVENT
BEGIN:VEVENT
DTSTART;TZID=America/Denver:20250429T180000
DTEND;TZID=America/Denver:20250429T193000
DTSTAMP:20260420T184734
CREATED:20250410T144800Z
LAST-MODIFIED:20250410T144800Z
UID:64290-1745949600-1745955000@macdnet.org
SUMMARY:Lake Elmo State Park Community Education Meeting
DESCRIPTION:Lake Elmo State Park Community Education Meeting\nApril 29  \n06:00PM-07:30PM  \n2300 Lake Elmo Drive  \nBillings\, MT 59105 \nMontana Fish\, Wildlife & Parks will host a Lake Elmo State Park Community Engagement meeting on Tuesday\, April 29\, at the Billings FWP office (2300 Lake Elmo Dr.) beginning at 6 p.m. \nAs a state park within the limits of Montana’s largest city\, Lake Elmo draws a variety of users. The park\, which includes a 64-acre reservoir\, trails and fishing pier\, is consistently one of the most visited state parks in Montana. Visitors can walk\, paddle and fish at this park just minutes from downtown Billings. \nLake Elmo\, however\, is lacking a long-term recreation plan. FWP staff are developing a recreation plan for the park and want to hear directly from Lake Elmo users and neighbors as the plan is developed. The meeting will be discussion-based and allow participants time to share opinions\, favorite uses and activities\, future wishes and complaints or concerns about the park. \nFor questions about the meeting or Lake Elmo State Park\, contact recreation manager Emily Tyler at 406-422 2277 or emily.tyler@mt.gov.
URL:https://macdnet.org/event-calendar/lake-elmo-state-park-community-education-meeting/
LOCATION:2300 Lake Elmo Drive\, 2300 Lake Elmo Dr.\, Billings\, MT\, 59105
CATEGORIES:Events Calendar
END:VEVENT
BEGIN:VEVENT
DTSTART;TZID=America/Denver:20250430T170000
DTEND;TZID=America/Denver:20250430T190000
DTSTAMP:20260420T184734
CREATED:20250331T152457Z
LAST-MODIFIED:20250331T175833Z
UID:62194-1746032400-1746039600@macdnet.org
SUMMARY:Public invited to provide input on new Judith Landing State Park
DESCRIPTION:Public invited to open house meetings on new Judith Landing State Park \nNOTE: This meeting will be rescheduled at a later date.  \nApril 30  \n05:00PM-07:00PM \nFort Benton High School Auditorium \n1406 Franklin Street \nFort Benton\, MT 59442 \nIn February of 2025\, Montana Fish\, Wildlife & Parks (FWP) acquired 109 acres at the confluence of the Judith and Missouri Rivers in north-central Montana and plans to manage the property as Judith Landing State Park. As part of the initial planning process for the new park\, the public is invited to attend one of several open house meetings in April to learn about plans for the park and share their thoughts on how it can best serve visitors\, the region\, and the local community. \nThe meetings will be held in an open house format allowing attendees to drop in at their convenience anytime between 5 – 7 p.m. and visit information stations set up at the meeting venue. There will be no formal presentation\, allowing participants to move through the stations at their own pace and visit directly with FWP staff about the plans for the newly acquired property. \nFor more information\, please contact FWP recreation manager Colegrove at 406-454-5854 or cannon.colegrove@mt.gov. \n 
URL:https://macdnet.org/event-calendar/public-invited-to-provide-input-on-new-judith-landing-state-park-4/
LOCATION:Fort Benton High School Auditorium\, 1406 Franklin Street\, Fort Benton\, Montana\, 59442
CATEGORIES:Events Calendar
END:VEVENT
BEGIN:VEVENT
DTSTART;TZID=America/Denver:20250430T180000
DTEND;TZID=America/Denver:20250430T193000
DTSTAMP:20260420T184734
CREATED:20250331T171208Z
LAST-MODIFIED:20250331T171208Z
UID:62288-1746036000-1746041400@macdnet.org
SUMMARY:Upper Missouri River Reservoir Fisheries Plan Meeting
DESCRIPTION:Upper Missouri River Reservoir Fisheries Plan meeting \nApril 30  \n06:00PM-07:30PM  \nMontana Fish\, Wildlife & Parks will hold its annual update meeting on the Upper Missouri River Reservoir Fisheries Management Plan on Wednesday\, April 30. \nThe meeting will be held at 6 p.m. in the auditorium of the Montana WILD Education Center in Helena and will update anglers and the public on population trends of principle game fish in the plan area. \nMore information on the management plan is available here or contact fisheries management biologist Nathan Jaksha at nathan.jaksha@mt.gov.
URL:https://macdnet.org/event-calendar/upper-missouri-river-reservoir-fisheries-plan-meeting/
LOCATION:Montana Wild\, 2668 Broadwater Ave\, Helena\, MT\, 59602\, United States
CATEGORIES:Events Calendar
END:VEVENT
END:VCALENDAR