BEGIN:VCALENDAR
VERSION:2.0
PRODID:-//Montana Association of Conservation Districts - ECPv6.15.20//NONSGML v1.0//EN
CALSCALE:GREGORIAN
METHOD:PUBLISH
X-WR-CALNAME:Montana Association of Conservation Districts
X-ORIGINAL-URL:https://macdnet.org
X-WR-CALDESC:Events for Montana Association of Conservation Districts
REFRESH-INTERVAL;VALUE=DURATION:PT1H
X-Robots-Tag:noindex
X-PUBLISHED-TTL:PT1H
BEGIN:VTIMEZONE
TZID:America/Denver
BEGIN:DAYLIGHT
TZOFFSETFROM:-0700
TZOFFSETTO:-0600
TZNAME:MDT
DTSTART:20230312T090000
END:DAYLIGHT
BEGIN:STANDARD
TZOFFSETFROM:-0600
TZOFFSETTO:-0700
TZNAME:MST
DTSTART:20231105T080000
END:STANDARD
BEGIN:DAYLIGHT
TZOFFSETFROM:-0700
TZOFFSETTO:-0600
TZNAME:MDT
DTSTART:20240310T090000
END:DAYLIGHT
BEGIN:STANDARD
TZOFFSETFROM:-0600
TZOFFSETTO:-0700
TZNAME:MST
DTSTART:20241103T080000
END:STANDARD
BEGIN:DAYLIGHT
TZOFFSETFROM:-0700
TZOFFSETTO:-0600
TZNAME:MDT
DTSTART:20250309T090000
END:DAYLIGHT
BEGIN:STANDARD
TZOFFSETFROM:-0600
TZOFFSETTO:-0700
TZNAME:MST
DTSTART:20251102T080000
END:STANDARD
END:VTIMEZONE
BEGIN:VEVENT
DTSTART;TZID=America/Denver:20241203T093000
DTEND;TZID=America/Denver:20241203T150000
DTSTAMP:20260419T065222
CREATED:20241127T152503Z
LAST-MODIFIED:20241127T155849Z
UID:50039-1733218200-1733238000@macdnet.org
SUMMARY:FWP Citizen Advisory Council Legislative Open House Meeting
DESCRIPTION:FWP Citizen Advisory Council Legislative Open House Meeting\nDecember 3\, 2024 \n09:30AM – 03:00PM  \n277 Hwy 117  \nFort Peck\, MT 59223 \nThe main purpose of this meeting is for FWP Helena staff to share with legislators\, CAC members\, and the public the legislative proposals that involve FWP\, the FWP budget\, and to answer any questions on these or other related topics. The meeting will be conducted as follows: \n\n9:30 a.m.-12 p.m.       Region 6 CAC updates and CAC roundtable\n12 p.m.-1 p.m.            Lunch for CAC members\, invited guests\, and FWP staff\n1 p.m.-3 p.m.              Legislative open house:  FWP Helena staff will present topics and bills related to the upcoming legislative session and FWP budget\n\nFor more information\, click here.
URL:https://macdnet.org/event-calendar/fwp-citizen-advisory-council-legislative-open-house-meeting/
LOCATION:Fort Peck State Fish Hatchery\, 277 Hwy 117 \, Fort Peck\, Montana\, 59223
CATEGORIES:Events Calendar,Meetings
END:VEVENT
BEGIN:VEVENT
DTSTART;TZID=America/Denver:20241204T180000
DTEND;TZID=America/Denver:20241204T213000
DTSTAMP:20260419T065222
CREATED:20241126T192043Z
LAST-MODIFIED:20241126T192807Z
UID:49921-1733335200-1733347800@macdnet.org
SUMMARY:FWP Southeast MT Citizens Advisory Committee Meeting
DESCRIPTION:FWP Southeast MT Citizens Advisory Committee Meeting\nDecember 4 \n06:00PM – 09:00PM \n352 I-94 Business Loop Miles City\, MT 59301
URL:https://macdnet.org/event-calendar/fwp-southeast-mt-citizens-advisory-committee-meeting/
LOCATION:Miles City\, Miles City\, MT\, United States
CATEGORIES:Events Calendar,Meetings
END:VEVENT
BEGIN:VEVENT
DTSTART;TZID=America/Denver:20241205T180000
DTEND;TZID=America/Denver:20241205T210000
DTSTAMP:20260419T065222
CREATED:20241125T205342Z
LAST-MODIFIED:20241127T171417Z
UID:49895-1733421600-1733432400@macdnet.org
SUMMARY:FWP south-central Montana Citizen Advisory Committee Meeting
DESCRIPTION:FWP south-central Montana Citizen Advisory Committee\nDecember 5\, 2024 \n06:00PM – 09:00PM  \nBillings FWP office \n2300 Lake Elmo Dr. \nBillings\, MT 59105 \nMore Information Here
URL:https://macdnet.org/event-calendar/fwp-south-central-montana-citizen-advisory-committee-meeting/
LOCATION:FWP Billings Office\, 2300 Lake Elmo Dr.\, Billings\, MT\, 59105\, United States
CATEGORIES:Events Calendar,Meetings
END:VEVENT
BEGIN:VEVENT
DTSTART;TZID=America/Denver:20241209T180000
DTEND;TZID=America/Denver:20241209T203000
DTSTAMP:20260419T065222
CREATED:20241203T165854Z
LAST-MODIFIED:20241203T171015Z
UID:50756-1733767200-1733776200@macdnet.org
SUMMARY:FWP Region 2 Citizen Advisory Committee to meet in Missoula
DESCRIPTION:FWP Region 2 Citizen Advisory Committee and local legislators to meet Dec. 9 in Missoula\nDecember 9  \n06:00PM-08:30PM  \nMissoula FWP office  \n3201 Spurgin Rd. \nMissoula\, MT 59804 \nAt this meeting\, FWP will present on the agency’s proposed budget and legislation. Legislators from the west-central Montana area were invited to attend. \nClick here for more information.
URL:https://macdnet.org/event-calendar/fwp-region-2-citizen-advisory-committee-to-meet-in-missoula/
LOCATION:Missoula FWP Office\, 3201 Spurgin Rd.\, Missoula\, MT\, 59804
CATEGORIES:Events Calendar,Meetings
END:VEVENT
BEGIN:VEVENT
DTSTART;TZID=America/Denver:20241213T130000
DTEND;TZID=America/Denver:20241213T150000
DTSTAMP:20260419T065222
CREATED:20241113T232528Z
LAST-MODIFIED:20241127T155611Z
UID:49545-1734094800-1734102000@macdnet.org
SUMMARY:Montana Sage Grouse Oversight Team Board Meeting
DESCRIPTION:Montana Sage Grouse Oversight Board Meeting\nDecember 13\, 2024  \n01:00PM-03:00PM \nThe Montana Sage Grouse Oversight Team (MSGOT) will meet on Friday\, December 13\, 2024\, from 1:00 p.m. to 3:00 p.m.  The meeting will be held in the Montana Room (1st floor) at the DNRC Headquarters building and via Zoom.  The meeting will be recorded for those who cannot attend. The meeting will feature all of the conservation easements funded through the Montana Sage Grouse Habitat Conservation Program using Stewardship Account funds. \nStakeholders and the public are invited to attend in person or participate virtually via Zoom. Please preregister if you plan to attend by Zoom. Registration is also available by contacting the Program at Sagegrouse@mt.gov. Requests should be received by 5:00 p.m. on Wednesday\, December 12\, 2024. Requests received after that time will be accommodated to the best of our ability.
URL:https://macdnet.org/event-calendar/montana-sage-grouse-oversight-team-board-meeting/
LOCATION:Montana DNRC Headquarters\, 1539 11th Ave\, Helena\, MT\, United States
CATEGORIES:Meetings
END:VEVENT
BEGIN:VEVENT
DTSTART;TZID=America/Denver:20241219T083000
DTEND;TZID=America/Denver:20241219T100000
DTSTAMP:20260419T065222
CREATED:20241217T150929Z
LAST-MODIFIED:20241217T151049Z
UID:51013-1734597000-1734602400@macdnet.org
SUMMARY:Fish and Wildlife Commission to meet virtually December 19
DESCRIPTION:Fish and Wildlife Commission to meet virtually December 19\nDecember 19 \n08:30AM-10:00AM  \nThe Montana Fish and Wildlife Commission will meet virtually on Dec. 19 beginning at 8:30 a.m. The meeting will be streamed live on Fish\, Wildlife & Parks’ website and YouTube.  The commission will take public comment on agenda items from registered commenters on Zoom. Those who want to make a comment on Zoom must register on FWP’s website by noon on Dec. 18.  \n 
URL:https://macdnet.org/event-calendar/fish-and-wildlife-commission-to-meet-virtually-december-19/
LOCATION:Zoom
CATEGORIES:Events Calendar,Meetings
END:VEVENT
END:VCALENDAR