BEGIN:VCALENDAR
VERSION:2.0
PRODID:-//Montana Association of Conservation Districts - ECPv6.15.20//NONSGML v1.0//EN
CALSCALE:GREGORIAN
METHOD:PUBLISH
X-WR-CALNAME:Montana Association of Conservation Districts
X-ORIGINAL-URL:https://macdnet.org
X-WR-CALDESC:Events for Montana Association of Conservation Districts
REFRESH-INTERVAL;VALUE=DURATION:PT1H
X-Robots-Tag:noindex
X-PUBLISHED-TTL:PT1H
BEGIN:VTIMEZONE
TZID:America/Denver
BEGIN:DAYLIGHT
TZOFFSETFROM:-0700
TZOFFSETTO:-0600
TZNAME:MDT
DTSTART:20270314T090000
END:DAYLIGHT
BEGIN:STANDARD
TZOFFSETFROM:-0600
TZOFFSETTO:-0700
TZNAME:MST
DTSTART:20271107T080000
END:STANDARD
BEGIN:DAYLIGHT
TZOFFSETFROM:-0700
TZOFFSETTO:-0600
TZNAME:MDT
DTSTART:20280312T090000
END:DAYLIGHT
BEGIN:STANDARD
TZOFFSETFROM:-0600
TZOFFSETTO:-0700
TZNAME:MST
DTSTART:20281105T080000
END:STANDARD
BEGIN:DAYLIGHT
TZOFFSETFROM:-0700
TZOFFSETTO:-0600
TZNAME:MDT
DTSTART:20290311T090000
END:DAYLIGHT
BEGIN:STANDARD
TZOFFSETFROM:-0600
TZOFFSETTO:-0700
TZNAME:MST
DTSTART:20291104T080000
END:STANDARD
END:VTIMEZONE
BEGIN:VEVENT
DTSTART;TZID=America/Denver:20280110T170000
DTEND;TZID=America/Denver:20280110T173000
DTSTAMP:20260424T060111
CREATED:20210920T235756Z
LAST-MODIFIED:20210920T235756Z
UID:102448-1831136400-1831138200@macdnet.org
SUMMARY:Sweet Grass County Conservation District
DESCRIPTION:
URL:https://macdnet.org/event-calendar/__trashed-22__trashed/2028-01-10/
CATEGORIES:CD Board Meetings
END:VEVENT
BEGIN:VEVENT
DTSTART;TZID=America/Denver:20280110T173000
DTEND;TZID=America/Denver:20280110T173000
DTSTAMP:20260424T060111
CREATED:20210920T235803Z
LAST-MODIFIED:20210920T235803Z
UID:102441-1831138200-1831138200@macdnet.org
SUMMARY:Missoula Conservation District
DESCRIPTION:
URL:https://macdnet.org/event-calendar/__trashed-66__trashed/2028-01-10/
CATEGORIES:CD Board Meetings
END:VEVENT
BEGIN:VEVENT
DTSTART;TZID=America/Denver:20280110T173000
DTEND;TZID=America/Denver:20280110T173000
DTSTAMP:20260424T060111
CREATED:20210920T235803Z
LAST-MODIFIED:20210920T235803Z
UID:102449-1831138200-1831138200@macdnet.org
SUMMARY:Missoula Conservation District
DESCRIPTION:
URL:https://macdnet.org/event-calendar/__trashed-66__trashed-2024-02-12/2028-01-10/
CATEGORIES:CD Board Meetings
END:VEVENT
BEGIN:VEVENT
DTSTART;TZID=America/Denver:20280110T190000
DTEND;TZID=America/Denver:20280110T190000
DTSTAMP:20260424T060111
CREATED:20210920T235756Z
LAST-MODIFIED:20210920T235756Z
UID:102445-1831143600-1831143600@macdnet.org
SUMMARY:Meagher County Conservation District
DESCRIPTION:
URL:https://macdnet.org/event-calendar/__trashed-24__trashed/2028-01-10/
CATEGORIES:CD Board Meetings
END:VEVENT
BEGIN:VEVENT
DTSTART;TZID=America/Denver:20280110T190000
DTEND;TZID=America/Denver:20280110T190000
DTSTAMP:20260424T060111
CREATED:20210920T235800Z
LAST-MODIFIED:20210920T235800Z
UID:102443-1831143600-1831143600@macdnet.org
SUMMARY:Flathead CD 310 Meeting
DESCRIPTION:
URL:https://macdnet.org/event-calendar/__trashed-52__trashed/2028-01-10/
CATEGORIES:CD Board Meetings
END:VEVENT
BEGIN:VEVENT
DTSTART;TZID=America/Denver:20280110T193000
DTEND;TZID=America/Denver:20280110T193000
DTSTAMP:20260424T060111
CREATED:20210920T235757Z
LAST-MODIFIED:20210920T235757Z
UID:102444-1831145400-1831145400@macdnet.org
SUMMARY:Granite Conservation District
DESCRIPTION:
URL:https://macdnet.org/event-calendar/__trashed-30__trashed/2028-01-10/
CATEGORIES:CD Board Meetings
END:VEVENT
BEGIN:VEVENT
DTSTART;TZID=America/Denver:20280110T193000
DTEND;TZID=America/Denver:20280110T193000
DTSTAMP:20260424T060111
CREATED:20210920T235757Z
LAST-MODIFIED:20210920T235757Z
UID:102446-1831145400-1831145400@macdnet.org
SUMMARY:Pondera County CD Meeting
DESCRIPTION:
URL:https://macdnet.org/event-calendar/__trashed-34__trashed/2028-01-10/
CATEGORIES:CD Board Meetings
END:VEVENT
BEGIN:VEVENT
DTSTART;TZID=America/Denver:20280111T090000
DTEND;TZID=America/Denver:20280111T090000
DTSTAMP:20260424T060111
CREATED:20210920T235757Z
LAST-MODIFIED:20210920T235757Z
UID:102513-1831194000-1831194000@macdnet.org
SUMMARY:Sheridan County CD Meeting
DESCRIPTION:
URL:https://macdnet.org/event-calendar/__trashed-31__trashed/2028-01-11/
CATEGORIES:CD Board Meetings
END:VEVENT
BEGIN:VEVENT
DTSTART;TZID=America/Denver:20280111T130000
DTEND;TZID=America/Denver:20280111T130000
DTSTAMP:20260424T060111
CREATED:20210920T235757Z
LAST-MODIFIED:20210920T235757Z
UID:102514-1831208400-1831208400@macdnet.org
SUMMARY:Phillips CD Meeting
DESCRIPTION:
URL:https://macdnet.org/event-calendar/__trashed-28__trashed/2028-01-11/
CATEGORIES:CD Board Meetings
END:VEVENT
BEGIN:VEVENT
DTSTART;TZID=America/Denver:20280111T183000
DTEND;TZID=America/Denver:20280111T183000
DTSTAMP:20260424T060111
CREATED:20210920T235803Z
LAST-MODIFIED:20210920T235803Z
UID:102512-1831228200-1831228200@macdnet.org
SUMMARY:Deer Lodge Valley CD Meeting
DESCRIPTION:
URL:https://macdnet.org/event-calendar/__trashed-67__trashed/2028-01-11/
CATEGORIES:CD Board Meetings
END:VEVENT
BEGIN:VEVENT
DTSTART;TZID=America/Denver:20280111T190000
DTEND;TZID=America/Denver:20280111T190000
DTSTAMP:20260424T060111
CREATED:20210920T235757Z
LAST-MODIFIED:20210920T235757Z
UID:102515-1831230000-1831230000@macdnet.org
SUMMARY:Treasure County CD Meeting
DESCRIPTION:
URL:https://macdnet.org/event-calendar/__trashed-32__trashed/2028-01-11/
CATEGORIES:CD Board Meetings
END:VEVENT
BEGIN:VEVENT
DTSTART;TZID=America/Denver:20280111T190000
DTEND;TZID=America/Denver:20280111T190000
DTSTAMP:20260424T060111
CREATED:20210920T235759Z
LAST-MODIFIED:20210920T235759Z
UID:102509-1831230000-1831230000@macdnet.org
SUMMARY:Bitterroot CD Meeting
DESCRIPTION:Please see the Bitterroot CD website for more info.
URL:https://macdnet.org/event-calendar/__trashed-47__trashed/2028-01-11/
CATEGORIES:CD Board Meetings
END:VEVENT
BEGIN:VEVENT
DTSTART;TZID=America/Denver:20280112T073000
DTEND;TZID=America/Denver:20280112T083000
DTSTAMP:20260424T060111
CREATED:20231228T222059Z
LAST-MODIFIED:20231228T222059Z
UID:102709-1831275000-1831278600@macdnet.org
SUMMARY:MACD Finance Committee
DESCRIPTION:The MACD Finance Committee meets on the second Wednesday of the Month at 7:30am via zoom. (This is typically the Wednesday prior to MACD Board Meetings). Contact Rebecca Boslough for meeting details.
URL:https://macdnet.org/event-calendar/macd-finance-committee-4/2028-01-12/
LOCATION:Zoom
END:VEVENT
BEGIN:VEVENT
DTSTART;TZID=America/Denver:20280112T090000
DTEND;TZID=America/Denver:20280112T090000
DTSTAMP:20260424T060111
CREATED:20210920T235756Z
LAST-MODIFIED:20210920T235756Z
UID:102708-1831280400-1831280400@macdnet.org
SUMMARY:Yellowstone CD Meeting
DESCRIPTION:
URL:https://macdnet.org/event-calendar/__trashed-21__trashed/2028-01-12/
CATEGORIES:CD Board Meetings
END:VEVENT
BEGIN:VEVENT
DTSTART;TZID=America/Denver:20280112T130000
DTEND;TZID=America/Denver:20280112T130000
DTSTAMP:20260424T060111
CREATED:20210920T235755Z
LAST-MODIFIED:20210920T235755Z
UID:102706-1831294800-1831294800@macdnet.org
SUMMARY:Daniels County CD Meeting
DESCRIPTION:
URL:https://macdnet.org/event-calendar/__trashed-18__trashed/2028-01-12/
CATEGORIES:CD Board Meetings
END:VEVENT
BEGIN:VEVENT
DTSTART;TZID=America/Denver:20280112T133000
DTEND;TZID=America/Denver:20280112T133000
DTSTAMP:20260424T060111
CREATED:20210920T235754Z
LAST-MODIFIED:20210920T235754Z
UID:102707-1831296600-1831296600@macdnet.org
SUMMARY:Valley County CD Meeting
DESCRIPTION:
URL:https://macdnet.org/event-calendar/__trashed-8__trashed/2028-01-12/
CATEGORIES:CD Board Meetings
END:VEVENT
BEGIN:VEVENT
DTSTART;TZID=America/Denver:20280112T190000
DTEND;TZID=America/Denver:20280112T190000
DTSTAMP:20260424T060111
CREATED:20210920T235756Z
LAST-MODIFIED:20210920T235756Z
UID:102703-1831316400-1831316400@macdnet.org
SUMMARY:Fergus CD Meeting
DESCRIPTION:
URL:https://macdnet.org/event-calendar/__trashed-23__trashed/2028-01-12/
CATEGORIES:CD Board Meetings
END:VEVENT
BEGIN:VEVENT
DTSTART;TZID=America/Denver:20280112T193000
DTEND;TZID=America/Denver:20280112T193000
DTSTAMP:20260424T060111
CREATED:20210920T235754Z
LAST-MODIFIED:20210920T235754Z
UID:102704-1831318200-1831318200@macdnet.org
SUMMARY:Big Sandy CD Meeting
DESCRIPTION:
URL:https://macdnet.org/event-calendar/__trashed-9__trashed/2028-01-12/
CATEGORIES:CD Board Meetings
END:VEVENT
BEGIN:VEVENT
DTSTART;TZID=America/Denver:20280112T193000
DTEND;TZID=America/Denver:20280112T193000
DTSTAMP:20260424T060111
CREATED:20210920T235802Z
LAST-MODIFIED:20210920T235802Z
UID:102705-1831318200-1831318200@macdnet.org
SUMMARY:Upper Musselshell CD Meeting
DESCRIPTION:
URL:https://macdnet.org/event-calendar/__trashed-60__trashed/2028-01-12/
CATEGORIES:CD Board Meetings
END:VEVENT
BEGIN:VEVENT
DTSTART;TZID=America/Denver:20280113T130000
DTEND;TZID=America/Denver:20280113T130000
DTSTAMP:20260424T060111
CREATED:20210920T235802Z
LAST-MODIFIED:20210920T235802Z
UID:102977-1831381200-1831381200@macdnet.org
SUMMARY:Lewis & Clark CD Meeting
DESCRIPTION:Please see the Lewis & Clark CD website for more info.
URL:https://macdnet.org/event-calendar/__trashed-61__trashed/2028-01-13/
CATEGORIES:CD Board Meetings
END:VEVENT
BEGIN:VEVENT
DTSTART;TZID=America/Denver:20280113T130000
DTEND;TZID=America/Denver:20280113T150000
DTSTAMP:20260424T060111
CREATED:20210922T170514Z
LAST-MODIFIED:20210922T170514Z
UID:102982-1831381200-1831388400@macdnet.org
SUMMARY:Lewis & Clark CD Meeting
DESCRIPTION:Lewis and Clark meets the 2nd Thursday at 1 pm. Summer meetings are different times\, so be sure to check with the conservation district to get the most up-to-date information.
URL:https://macdnet.org/event-calendar/lewis-clark-cd-meeting/2028-01-13/
ORGANIZER;CN="Lewis and Clark Conservation District":MAILTO:lccd@mt.net
END:VEVENT
BEGIN:VEVENT
DTSTART;TZID=America/Denver:20280113T133000
DTEND;TZID=America/Denver:20280113T133000
DTSTAMP:20260424T060111
CREATED:20210920T235759Z
LAST-MODIFIED:20210920T235759Z
UID:102978-1831383000-1831383000@macdnet.org
SUMMARY:Richland County CD Meeting
DESCRIPTION:
URL:https://macdnet.org/event-calendar/__trashed-45__trashed/2028-01-13/
CATEGORIES:CD Board Meetings
END:VEVENT
BEGIN:VEVENT
DTSTART;TZID=America/Denver:20280113T170000
DTEND;TZID=America/Denver:20280113T170000
DTSTAMP:20260424T060111
CREATED:20210920T235805Z
LAST-MODIFIED:20210920T235805Z
UID:102979-1831395600-1831395600@macdnet.org
SUMMARY:Carbon CD Meeting
DESCRIPTION:
URL:https://macdnet.org/event-calendar/__trashed-76__trashed/2028-01-13/
CATEGORIES:CD Board Meetings
END:VEVENT
BEGIN:VEVENT
DTSTART;TZID=America/Denver:20280113T190000
DTEND;TZID=America/Denver:20280113T190000
DTSTAMP:20260424T060111
CREATED:20210920T235758Z
LAST-MODIFIED:20210920T235758Z
UID:102980-1831402800-1831402800@macdnet.org
SUMMARY:Liberty County CD Meeting
DESCRIPTION:
URL:https://macdnet.org/event-calendar/__trashed-36__trashed/2028-01-13/
CATEGORIES:CD Board Meetings
END:VEVENT
BEGIN:VEVENT
DTSTART;TZID=America/Denver:20280113T190000
DTEND;TZID=America/Denver:20280113T190000
DTSTAMP:20260424T060111
CREATED:20210920T235759Z
LAST-MODIFIED:20210920T235759Z
UID:102981-1831402800-1831402800@macdnet.org
SUMMARY:Lake CD Meeting
DESCRIPTION:Please see the Lake County CD website for more info.
URL:https://macdnet.org/event-calendar/__trashed-44__trashed/2028-01-13/
CATEGORIES:CD Board Meetings
END:VEVENT
BEGIN:VEVENT
DTSTART;TZID=America/Denver:20280117T073000
DTEND;TZID=America/Denver:20280117T090000
DTSTAMP:20260424T060111
CREATED:20220202T204005Z
LAST-MODIFIED:20220202T204005Z
UID:103542-1831707000-1831712400@macdnet.org
SUMMARY:MACD Board Meeting
DESCRIPTION:[vc_row][vc_column][vc_column_text]The MACD Board will meet on the second Monday of the Month at 7:30am. Contact Rebecca Boslough for meeting details.[/vc_column_text][/vc_column][/vc_row]
URL:https://macdnet.org/event-calendar/macd-board-meeting-3/2028-01-17/
LOCATION:Zoom
CATEGORIES:Meetings
ATTACH;FMTTYPE=image/png:https://macdnet.org/wp-content/uploads/2021/12/macd-draft-3.png
END:VEVENT
BEGIN:VEVENT
DTSTART;TZID=America/Denver:20280117T073000
DTEND;TZID=America/Denver:20280117T093000
DTSTAMP:20260424T060111
CREATED:20230915T212232Z
LAST-MODIFIED:20230915T212232Z
UID:103541-1831707000-1831714200@macdnet.org
SUMMARY:MACD Board Meeting
DESCRIPTION:[vc_row][vc_column][vc_column_text]The MACD Board meets on the third Monday of the Month at 7:30am via zoom. Contact Rebecca Boslough for meeting details. \nhttps://macdnet.org/about-us/board-organization-documents/[/vc_column_text][/vc_column][/vc_row]
URL:https://macdnet.org/event-calendar/macd-board-meeting-5/2028-01-17/
LOCATION:Zoom
CATEGORIES:Meetings
ATTACH;FMTTYPE=image/png:https://macdnet.org/wp-content/uploads/2021/12/macd-draft-3.png
END:VEVENT
BEGIN:VEVENT
DTSTART;TZID=America/Denver:20280118T070000
DTEND;TZID=America/Denver:20280118T070000
DTSTAMP:20260424T060111
CREATED:20210920T235805Z
LAST-MODIFIED:20210920T235805Z
UID:103589-1831791600-1831791600@macdnet.org
SUMMARY:Jefferson Valley CD Meeting
DESCRIPTION:
URL:https://macdnet.org/event-calendar/__trashed-73__trashed/2028-01-18/
CATEGORIES:CD Board Meetings
END:VEVENT
BEGIN:VEVENT
DTSTART;TZID=America/Denver:20280118T133000
DTEND;TZID=America/Denver:20280118T173000
DTSTAMP:20260424T060111
CREATED:20210908T032348Z
LAST-MODIFIED:20210908T032348Z
UID:103588-1831815000-1831829400@macdnet.org
SUMMARY:Carter CD Board Meeting
DESCRIPTION:Contact Carter CD for the most up-to-date meeting information.
URL:https://macdnet.org/event-calendar/carter-cd-meeting/2028-01-18/
LOCATION:Carter County CD Office\, 308 Mormon Avenue\, Ekalaka\, MT\, 59324
END:VEVENT
BEGIN:VEVENT
DTSTART;TZID=America/Denver:20280118T171500
DTEND;TZID=America/Denver:20280118T171500
DTSTAMP:20260424T060111
CREATED:20210920T235755Z
LAST-MODIFIED:20210920T235755Z
UID:103590-1831828500-1831828500@macdnet.org
SUMMARY:Blaine County CD Meeting
DESCRIPTION:
URL:https://macdnet.org/event-calendar/__trashed-15__trashed/2028-01-18/
CATEGORIES:CD Board Meetings
END:VEVENT
END:VCALENDAR