BEGIN:VCALENDAR
VERSION:2.0
PRODID:-//Montana Association of Conservation Districts - ECPv6.15.20//NONSGML v1.0//EN
CALSCALE:GREGORIAN
METHOD:PUBLISH
X-ORIGINAL-URL:https://macdnet.org
X-WR-CALDESC:Events for Montana Association of Conservation Districts
REFRESH-INTERVAL;VALUE=DURATION:PT1H
X-Robots-Tag:noindex
X-PUBLISHED-TTL:PT1H
BEGIN:VTIMEZONE
TZID:America/Denver
BEGIN:DAYLIGHT
TZOFFSETFROM:-0700
TZOFFSETTO:-0600
TZNAME:MDT
DTSTART:20260308T090000
END:DAYLIGHT
BEGIN:STANDARD
TZOFFSETFROM:-0600
TZOFFSETTO:-0700
TZNAME:MST
DTSTART:20261101T080000
END:STANDARD
BEGIN:DAYLIGHT
TZOFFSETFROM:-0700
TZOFFSETTO:-0600
TZNAME:MDT
DTSTART:20270314T090000
END:DAYLIGHT
BEGIN:STANDARD
TZOFFSETFROM:-0600
TZOFFSETTO:-0700
TZNAME:MST
DTSTART:20271107T080000
END:STANDARD
BEGIN:DAYLIGHT
TZOFFSETFROM:-0700
TZOFFSETTO:-0600
TZNAME:MDT
DTSTART:20280312T090000
END:DAYLIGHT
BEGIN:STANDARD
TZOFFSETFROM:-0600
TZOFFSETTO:-0700
TZNAME:MST
DTSTART:20281105T080000
END:STANDARD
END:VTIMEZONE
BEGIN:VEVENT
DTSTART;TZID=America/Denver:20270406T190000
DTEND;TZID=America/Denver:20270406T190000
DTSTAMP:20260423T040545
CREATED:20210920T235756Z
LAST-MODIFIED:20210920T235756Z
UID:63724-1807038000-1807038000@macdnet.org
SUMMARY:Wibaux CD Meeting
DESCRIPTION:
URL:https://macdnet.org/event-calendar/__trashed-26__trashed/2027-04-06/
LOCATION:Kansas
CATEGORIES:CD Board Meetings
END:VEVENT
BEGIN:VEVENT
DTSTART;TZID=America/Denver:20270406T190000
DTEND;TZID=America/Denver:20270406T220000
DTSTAMP:20260423T040545
CREATED:20210920T201921Z
LAST-MODIFIED:20210920T201921Z
UID:63716-1807038000-1807048800@macdnet.org
SUMMARY:Roosevelt CD Board Meeting
DESCRIPTION:Contact Roosevelt CD for the most up-to-date meeting information.
URL:https://macdnet.org/event-calendar/roosevelt-cd-board-meeting/2027-04-06/
LOCATION:USDA Culbertson Office\, 508 E 6th\, Culbertson\, MT\, United States
CATEGORIES:CD Board Meetings
END:VEVENT
BEGIN:VEVENT
DTSTART;TZID=America/Denver:20270407T170000
DTEND;TZID=America/Denver:20270407T170000
DTSTAMP:20260423T040545
CREATED:20210920T235801Z
LAST-MODIFIED:20210920T235801Z
UID:63991-1807117200-1807117200@macdnet.org
SUMMARY:Garfield County CD Meeting
DESCRIPTION:
URL:https://macdnet.org/event-calendar/__trashed-58__trashed/2027-04-07/
LOCATION:Kansas
CATEGORIES:CD Board Meetings
END:VEVENT
BEGIN:VEVENT
DTSTART;TZID=America/Denver:20270407T190000
DTEND;TZID=America/Denver:20270407T190000
DTSTAMP:20260423T040545
CREATED:20210920T235801Z
LAST-MODIFIED:20210920T235801Z
UID:63994-1807124400-1807124400@macdnet.org
SUMMARY:Powder River CD Meeting
DESCRIPTION:
URL:https://macdnet.org/event-calendar/__trashed-56__trashed/2027-04-07/
LOCATION:Kansas
CATEGORIES:CD Board Meetings
END:VEVENT
BEGIN:VEVENT
DTSTART;TZID=America/Denver:20270407T190000
DTEND;TZID=America/Denver:20270407T190000
DTSTAMP:20260423T040545
CREATED:20210920T235805Z
LAST-MODIFIED:20210920T235805Z
UID:63993-1807124400-1807124400@macdnet.org
SUMMARY:McCone County CD Meeting
DESCRIPTION:Please see the McCone County CD website for more info.
URL:https://macdnet.org/event-calendar/__trashed-74__trashed/2027-04-07/
LOCATION:Kansas
CATEGORIES:CD Board Meetings
END:VEVENT
BEGIN:VEVENT
DTSTART;TZID=America/Denver:20270407T200000
DTEND;TZID=America/Denver:20270407T200000
DTSTAMP:20260423T040546
CREATED:20210920T235802Z
LAST-MODIFIED:20210920T235802Z
UID:63992-1807128000-1807128000@macdnet.org
SUMMARY:Eastern Sanders County CD Meeting
DESCRIPTION:
URL:https://macdnet.org/event-calendar/__trashed-62__trashed/2027-04-07/
LOCATION:Kansas
CATEGORIES:CD Board Meetings
END:VEVENT
BEGIN:VEVENT
DTSTART;TZID=America/Denver:20270408T130000
DTEND;TZID=America/Denver:20270408T130000
DTSTAMP:20260423T040546
CREATED:20210920T235802Z
LAST-MODIFIED:20210920T235802Z
UID:64141-1807189200-1807189200@macdnet.org
SUMMARY:Lewis & Clark CD Meeting
DESCRIPTION:Please see the Lewis & Clark CD website for more info.
URL:https://macdnet.org/event-calendar/__trashed-61__trashed/2027-04-08/
LOCATION:Kansas
CATEGORIES:CD Board Meetings
END:VEVENT
BEGIN:VEVENT
DTSTART;TZID=America/Denver:20270408T130000
DTEND;TZID=America/Denver:20270408T150000
DTSTAMP:20260423T040546
CREATED:20210922T170514Z
LAST-MODIFIED:20210922T170514Z
UID:64146-1807189200-1807196400@macdnet.org
SUMMARY:Lewis & Clark CD Meeting
DESCRIPTION:Lewis and Clark meets the 2nd Thursday at 1 pm. Summer meetings are different times\, so be sure to check with the conservation district to get the most up-to-date information.
URL:https://macdnet.org/event-calendar/lewis-clark-cd-meeting/2027-04-08/
LOCATION:Kansas
ORGANIZER;CN="Lewis and Clark Conservation District":MAILTO:lccd@mt.net
END:VEVENT
BEGIN:VEVENT
DTSTART;TZID=America/Denver:20270408T133000
DTEND;TZID=America/Denver:20270408T133000
DTSTAMP:20260423T040546
CREATED:20210920T235759Z
LAST-MODIFIED:20210920T235759Z
UID:64142-1807191000-1807191000@macdnet.org
SUMMARY:Richland County CD Meeting
DESCRIPTION:
URL:https://macdnet.org/event-calendar/__trashed-45__trashed/2027-04-08/
LOCATION:Kansas
CATEGORIES:CD Board Meetings
END:VEVENT
BEGIN:VEVENT
DTSTART;TZID=America/Denver:20270408T170000
DTEND;TZID=America/Denver:20270408T170000
DTSTAMP:20260423T040546
CREATED:20210920T235805Z
LAST-MODIFIED:20210920T235805Z
UID:64143-1807203600-1807203600@macdnet.org
SUMMARY:Carbon CD Meeting
DESCRIPTION:
URL:https://macdnet.org/event-calendar/__trashed-76__trashed/2027-04-08/
LOCATION:Kansas
CATEGORIES:CD Board Meetings
END:VEVENT
BEGIN:VEVENT
DTSTART;TZID=America/Denver:20270408T190000
DTEND;TZID=America/Denver:20270408T190000
DTSTAMP:20260423T040546
CREATED:20210920T235758Z
LAST-MODIFIED:20210920T235758Z
UID:64144-1807210800-1807210800@macdnet.org
SUMMARY:Liberty County CD Meeting
DESCRIPTION:
URL:https://macdnet.org/event-calendar/__trashed-36__trashed/2027-04-08/
LOCATION:Kansas
CATEGORIES:CD Board Meetings
END:VEVENT
BEGIN:VEVENT
DTSTART;TZID=America/Denver:20270408T190000
DTEND;TZID=America/Denver:20270408T190000
DTSTAMP:20260423T040546
CREATED:20210920T235759Z
LAST-MODIFIED:20210920T235759Z
UID:64145-1807210800-1807210800@macdnet.org
SUMMARY:Lake CD Meeting
DESCRIPTION:Please see the Lake County CD website for more info.
URL:https://macdnet.org/event-calendar/__trashed-44__trashed/2027-04-08/
LOCATION:Kansas
CATEGORIES:CD Board Meetings
END:VEVENT
BEGIN:VEVENT
DTSTART;TZID=America/Denver:20270412T070000
DTEND;TZID=America/Denver:20270412T070000
DTSTAMP:20260423T040546
CREATED:20210920T235754Z
LAST-MODIFIED:20210920T235754Z
UID:64720-1807513200-1807513200@macdnet.org
SUMMARY:Teton CD Meeting
DESCRIPTION:
URL:https://macdnet.org/event-calendar/__trashed-11__trashed/2027-04-12/
LOCATION:Kansas
CATEGORIES:CD Board Meetings
END:VEVENT
BEGIN:VEVENT
DTSTART;TZID=America/Denver:20270412T130000
DTEND;TZID=America/Denver:20270412T133000
DTSTAMP:20260423T040546
CREATED:20210920T235754Z
LAST-MODIFIED:20210920T235754Z
UID:64715-1807534800-1807536600@macdnet.org
SUMMARY:Dawson County CD Meeting
DESCRIPTION:
URL:https://macdnet.org/event-calendar/__trashed-7__trashed/2027-04-12/
LOCATION:Kansas
CATEGORIES:CD Board Meetings
END:VEVENT
BEGIN:VEVENT
DTSTART;TZID=America/Denver:20270412T170000
DTEND;TZID=America/Denver:20270412T173000
DTSTAMP:20260423T040546
CREATED:20210920T235756Z
LAST-MODIFIED:20210920T235756Z
UID:64721-1807549200-1807551000@macdnet.org
SUMMARY:Sweet Grass County Conservation District
DESCRIPTION:
URL:https://macdnet.org/event-calendar/__trashed-22__trashed/2027-04-12/
LOCATION:Kansas
CATEGORIES:CD Board Meetings
END:VEVENT
BEGIN:VEVENT
DTSTART;TZID=America/Denver:20270412T173000
DTEND;TZID=America/Denver:20270412T173000
DTSTAMP:20260423T040546
CREATED:20210920T235803Z
LAST-MODIFIED:20210920T235803Z
UID:64714-1807551000-1807551000@macdnet.org
SUMMARY:Missoula Conservation District
DESCRIPTION:
URL:https://macdnet.org/event-calendar/__trashed-66__trashed/2027-04-12/
LOCATION:Kansas
CATEGORIES:CD Board Meetings
END:VEVENT
BEGIN:VEVENT
DTSTART;TZID=America/Denver:20270412T173000
DTEND;TZID=America/Denver:20270412T173000
DTSTAMP:20260423T040546
CREATED:20210920T235803Z
LAST-MODIFIED:20210920T235803Z
UID:64722-1807551000-1807551000@macdnet.org
SUMMARY:Missoula Conservation District
DESCRIPTION:
URL:https://macdnet.org/event-calendar/__trashed-66__trashed-2024-02-12/2027-04-12/
LOCATION:Kansas
CATEGORIES:CD Board Meetings
END:VEVENT
BEGIN:VEVENT
DTSTART;TZID=America/Denver:20270412T190000
DTEND;TZID=America/Denver:20270412T190000
DTSTAMP:20260423T040546
CREATED:20210920T235756Z
LAST-MODIFIED:20210920T235756Z
UID:64718-1807556400-1807556400@macdnet.org
SUMMARY:Meagher County Conservation District
DESCRIPTION:
URL:https://macdnet.org/event-calendar/__trashed-24__trashed/2027-04-12/
LOCATION:Kansas
CATEGORIES:CD Board Meetings
END:VEVENT
BEGIN:VEVENT
DTSTART;TZID=America/Denver:20270412T190000
DTEND;TZID=America/Denver:20270412T190000
DTSTAMP:20260423T040546
CREATED:20210920T235800Z
LAST-MODIFIED:20210920T235800Z
UID:64716-1807556400-1807556400@macdnet.org
SUMMARY:Flathead CD 310 Meeting
DESCRIPTION:
URL:https://macdnet.org/event-calendar/__trashed-52__trashed/2027-04-12/
LOCATION:Kansas
CATEGORIES:CD Board Meetings
END:VEVENT
BEGIN:VEVENT
DTSTART;TZID=America/Denver:20270412T193000
DTEND;TZID=America/Denver:20270412T193000
DTSTAMP:20260423T040546
CREATED:20210920T235757Z
LAST-MODIFIED:20210920T235757Z
UID:64717-1807558200-1807558200@macdnet.org
SUMMARY:Granite Conservation District
DESCRIPTION:
URL:https://macdnet.org/event-calendar/__trashed-30__trashed/2027-04-12/
LOCATION:Kansas
CATEGORIES:CD Board Meetings
END:VEVENT
BEGIN:VEVENT
DTSTART;TZID=America/Denver:20270412T193000
DTEND;TZID=America/Denver:20270412T193000
DTSTAMP:20260423T040546
CREATED:20210920T235757Z
LAST-MODIFIED:20210920T235757Z
UID:64719-1807558200-1807558200@macdnet.org
SUMMARY:Pondera County CD Meeting
DESCRIPTION:
URL:https://macdnet.org/event-calendar/__trashed-34__trashed/2027-04-12/
LOCATION:Kansas
CATEGORIES:CD Board Meetings
END:VEVENT
BEGIN:VEVENT
DTSTART;TZID=America/Denver:20270413T090000
DTEND;TZID=America/Denver:20270413T090000
DTSTAMP:20260423T040546
CREATED:20210920T235757Z
LAST-MODIFIED:20210920T235757Z
UID:64854-1807606800-1807606800@macdnet.org
SUMMARY:Sheridan County CD Meeting
DESCRIPTION:
URL:https://macdnet.org/event-calendar/__trashed-31__trashed/2027-04-13/
LOCATION:Kansas
CATEGORIES:CD Board Meetings
END:VEVENT
BEGIN:VEVENT
DTSTART;TZID=America/Denver:20270413T130000
DTEND;TZID=America/Denver:20270413T130000
DTSTAMP:20260423T040546
CREATED:20210920T235757Z
LAST-MODIFIED:20210920T235757Z
UID:64855-1807621200-1807621200@macdnet.org
SUMMARY:Phillips CD Meeting
DESCRIPTION:
URL:https://macdnet.org/event-calendar/__trashed-28__trashed/2027-04-13/
LOCATION:Kansas
CATEGORIES:CD Board Meetings
END:VEVENT
BEGIN:VEVENT
DTSTART;TZID=America/Denver:20270413T183000
DTEND;TZID=America/Denver:20270413T183000
DTSTAMP:20260423T040546
CREATED:20210920T235803Z
LAST-MODIFIED:20210920T235803Z
UID:64853-1807641000-1807641000@macdnet.org
SUMMARY:Deer Lodge Valley CD Meeting
DESCRIPTION:
URL:https://macdnet.org/event-calendar/__trashed-67__trashed/2027-04-13/
LOCATION:Kansas
CATEGORIES:CD Board Meetings
END:VEVENT
BEGIN:VEVENT
DTSTART;TZID=America/Denver:20270413T190000
DTEND;TZID=America/Denver:20270413T190000
DTSTAMP:20260423T040546
CREATED:20210920T235757Z
LAST-MODIFIED:20210920T235757Z
UID:64856-1807642800-1807642800@macdnet.org
SUMMARY:Treasure County CD Meeting
DESCRIPTION:
URL:https://macdnet.org/event-calendar/__trashed-32__trashed/2027-04-13/
LOCATION:Kansas
CATEGORIES:CD Board Meetings
END:VEVENT
BEGIN:VEVENT
DTSTART;TZID=America/Denver:20270413T190000
DTEND;TZID=America/Denver:20270413T190000
DTSTAMP:20260423T040546
CREATED:20210920T235759Z
LAST-MODIFIED:20210920T235759Z
UID:64850-1807642800-1807642800@macdnet.org
SUMMARY:Bitterroot CD Meeting
DESCRIPTION:Please see the Bitterroot CD website for more info.
URL:https://macdnet.org/event-calendar/__trashed-47__trashed/2027-04-13/
LOCATION:Kansas
CATEGORIES:CD Board Meetings
END:VEVENT
BEGIN:VEVENT
DTSTART;TZID=America/Denver:20270414T073000
DTEND;TZID=America/Denver:20270414T083000
DTSTAMP:20260423T040546
CREATED:20231228T222059Z
LAST-MODIFIED:20231228T222059Z
UID:64974-1807687800-1807691400@macdnet.org
SUMMARY:MACD Finance Committee
DESCRIPTION:The MACD Finance Committee meets on the second Wednesday of the Month at 7:30am via zoom. (This is typically the Wednesday prior to MACD Board Meetings). Contact Rebecca Boslough for meeting details.
URL:https://macdnet.org/event-calendar/macd-finance-committee-4/2027-04-14/
LOCATION:Zoom
END:VEVENT
BEGIN:VEVENT
DTSTART;TZID=America/Denver:20270414T090000
DTEND;TZID=America/Denver:20270414T090000
DTSTAMP:20260423T040546
CREATED:20210920T235756Z
LAST-MODIFIED:20210920T235756Z
UID:64973-1807693200-1807693200@macdnet.org
SUMMARY:Yellowstone CD Meeting
DESCRIPTION:
URL:https://macdnet.org/event-calendar/__trashed-21__trashed/2027-04-14/
LOCATION:Kansas
CATEGORIES:CD Board Meetings
END:VEVENT
BEGIN:VEVENT
DTSTART;TZID=America/Denver:20270414T130000
DTEND;TZID=America/Denver:20270414T130000
DTSTAMP:20260423T040546
CREATED:20210920T235755Z
LAST-MODIFIED:20210920T235755Z
UID:64971-1807707600-1807707600@macdnet.org
SUMMARY:Daniels County CD Meeting
DESCRIPTION:
URL:https://macdnet.org/event-calendar/__trashed-18__trashed/2027-04-14/
LOCATION:Kansas
CATEGORIES:CD Board Meetings
END:VEVENT
BEGIN:VEVENT
DTSTART;TZID=America/Denver:20270414T133000
DTEND;TZID=America/Denver:20270414T133000
DTSTAMP:20260423T040546
CREATED:20210920T235754Z
LAST-MODIFIED:20210920T235754Z
UID:64972-1807709400-1807709400@macdnet.org
SUMMARY:Valley County CD Meeting
DESCRIPTION:
URL:https://macdnet.org/event-calendar/__trashed-8__trashed/2027-04-14/
LOCATION:Kansas
CATEGORIES:CD Board Meetings
END:VEVENT
END:VCALENDAR