BEGIN:VCALENDAR
VERSION:2.0
PRODID:-//Montana Association of Conservation Districts - ECPv6.15.20//NONSGML v1.0//EN
CALSCALE:GREGORIAN
METHOD:PUBLISH
X-WR-CALNAME:Montana Association of Conservation Districts
X-ORIGINAL-URL:https://macdnet.org
X-WR-CALDESC:Events for Montana Association of Conservation Districts
REFRESH-INTERVAL;VALUE=DURATION:PT1H
X-Robots-Tag:noindex
X-PUBLISHED-TTL:PT1H
BEGIN:VTIMEZONE
TZID:America/Denver
BEGIN:DAYLIGHT
TZOFFSETFROM:-0700
TZOFFSETTO:-0600
TZNAME:MDT
DTSTART:20220313T090000
END:DAYLIGHT
BEGIN:STANDARD
TZOFFSETFROM:-0600
TZOFFSETTO:-0700
TZNAME:MST
DTSTART:20221106T080000
END:STANDARD
BEGIN:DAYLIGHT
TZOFFSETFROM:-0700
TZOFFSETTO:-0600
TZNAME:MDT
DTSTART:20230312T090000
END:DAYLIGHT
BEGIN:STANDARD
TZOFFSETFROM:-0600
TZOFFSETTO:-0700
TZNAME:MST
DTSTART:20231105T080000
END:STANDARD
BEGIN:DAYLIGHT
TZOFFSETFROM:-0700
TZOFFSETTO:-0600
TZNAME:MDT
DTSTART:20240310T090000
END:DAYLIGHT
BEGIN:STANDARD
TZOFFSETFROM:-0600
TZOFFSETTO:-0700
TZNAME:MST
DTSTART:20241103T080000
END:STANDARD
BEGIN:DAYLIGHT
TZOFFSETFROM:-0700
TZOFFSETTO:-0600
TZNAME:MDT
DTSTART:20250309T090000
END:DAYLIGHT
BEGIN:STANDARD
TZOFFSETFROM:-0600
TZOFFSETTO:-0700
TZNAME:MST
DTSTART:20251102T080000
END:STANDARD
END:VTIMEZONE
BEGIN:VEVENT
DTSTART;VALUE=DATE:20230606
DTEND;VALUE=DATE:20230609
DTSTAMP:20260421T203640
CREATED:20230308T204839Z
LAST-MODIFIED:20230308T204839Z
UID:36567-1686009600-1686268799@macdnet.org
SUMMARY:Spring Board Meeting
DESCRIPTION:
URL:https://macdnet.org/event-calendar/spring-board-meeting/
LOCATION:Helena\, Montana\, Helena\, MT\, 59601\, United States
CATEGORIES:CD Board Meetings,Events Calendar,Meetings,Trainings and Workshops
ATTACH;FMTTYPE=image/png:https://macdnet.org/wp-content/uploads/2022/06/MACD-Logo_Rect_Blue.png
END:VEVENT
BEGIN:VEVENT
DTSTART;TZID=America/Denver:20230607T173000
DTEND;TZID=America/Denver:20230607T190000
DTSTAMP:20260421T203640
CREATED:20230504T191803Z
LAST-MODIFIED:20230605T170410Z
UID:37673-1686159000-1686164400@macdnet.org
SUMMARY:MACD Annual Barbeque
DESCRIPTION:[vc_row][vc_column][vc_column_text]\nMACD Annual Barbeque\nJune 7 @ 5:30pm\, Helena\nMACD invites you to our annual barbeque at Ten Mile Brewing. We can’t wait to celebrate the 2023 legislative session with you! Food provided by Bad Betty’s Barbeque. Please RSVP here so that we can plan food for the event.\nLearn More[/vc_column_text][/vc_column][/vc_row]
URL:https://macdnet.org/event-calendar/macd-annual-barbeque/
LOCATION:Ten Mile Brewing\, Helena
CATEGORIES:Events Calendar
ATTACH;FMTTYPE=image/png:https://macdnet.org/wp-content/uploads/2023/05/bbq-invite.png
END:VEVENT
BEGIN:VEVENT
DTSTART;VALUE=DATE:20230623
DTEND;VALUE=DATE:20230626
DTSTAMP:20260421T203640
CREATED:20230306T174205Z
LAST-MODIFIED:20230306T174205Z
UID:36503-1687478400-1687737599@macdnet.org
SUMMARY:Old Salt Music and Food Festival
DESCRIPTION:
URL:https://macdnet.org/event-calendar/old-salt-music-and-food-festival/
LOCATION:Helmville\, MT\, Helmville\, Montana
CATEGORIES:Events Calendar
ATTACH;FMTTYPE=image/png:https://macdnet.org/wp-content/uploads/2023/03/Screen-Shot-2023-02-21-at-5.35.52-PM.png
END:VEVENT
BEGIN:VEVENT
DTSTART;TZID=America/Denver:20230706T080000
DTEND;TZID=America/Denver:20230706T170000
DTSTAMP:20260421T203640
CREATED:20230615T201845Z
LAST-MODIFIED:20230615T201917Z
UID:38241-1688630400-1688662800@macdnet.org
SUMMARY:2023 Range Tour
DESCRIPTION:[vc_row][vc_column][vc_column_text]Registration: https://opp.mt.gov/doa/opp/DNRRangelandResourceProgram/cart \nMT-Range-Tour-AGENDA_2023[/vc_column_text][/vc_column][/vc_row]
URL:https://macdnet.org/event-calendar/2023-range-tour/
LOCATION:Emigrant\, MT\, Emigrant\, MT\, United States
CATEGORIES:Events Calendar,Trainings and Workshops
END:VEVENT
BEGIN:VEVENT
DTSTART;TZID=America/Denver:20230710T073000
DTEND;TZID=America/Denver:20230710T090000
DTSTAMP:20260421T203640
CREATED:20220202T204005Z
LAST-MODIFIED:20230615T185844Z
UID:25366-1688974200-1688979600@macdnet.org
SUMMARY:MACD Board Meeting
DESCRIPTION:[vc_row][vc_column][vc_column_text]\nMACD Board Meeting\nMonday\, July 10⋅7:30 – 9:00am \nJoin Zoom Meeting https://us06web.zoom.us/j/89875002317?pwd=ZTRHU09aZHhSQVJzZVhQTlN1WXZ5Zz09 \nMeeting ID: 898 7500 2317\nPasscode: 332636 — \nOne tap mobile\n+12532158782\,\,89875002317#\,\,\,\,*332636# US (Tacoma)\n+13462487799\,\,89875002317#\,\,\,\,*332636# US (Houston)[/vc_column_text][/vc_column][/vc_row]
URL:https://macdnet.org/event-calendar/macd-board-meeting-3-2023-07-10/
LOCATION:Zoom
CATEGORIES:Meetings
ATTACH;FMTTYPE=image/png:https://macdnet.org/wp-content/uploads/2021/12/macd-draft-3.png
END:VEVENT
BEGIN:VEVENT
DTSTART;VALUE=DATE:20230815
DTEND;VALUE=DATE:20230816
DTSTAMP:20260421T203640
CREATED:20230702T011726Z
LAST-MODIFIED:20230702T011748Z
UID:38424-1692057600-1692143999@macdnet.org
SUMMARY:MACD Resolutions Deadline
DESCRIPTION:
URL:https://macdnet.org/event-calendar/macd-resolutions-deadline/
CATEGORIES:CD Board Meetings,Meetings,Miscellaneous
ATTACH;FMTTYPE=image/png:https://macdnet.org/wp-content/uploads/2021/12/macd-draft-3.png
END:VEVENT
BEGIN:VEVENT
DTSTART;VALUE=DATE:20230827
DTEND;VALUE=DATE:20230830
DTSTAMP:20260421T203640
CREATED:20230504T201824Z
LAST-MODIFIED:20230523T215103Z
UID:37678-1693094400-1693353599@macdnet.org
SUMMARY:2023 Statewide Employee Training (SET)
DESCRIPTION:[vc_row][vc_column][vc_column_text]\nStatewide Employee Training (SET) | Aug 27-29 \nAt this year’s training we will attend the play “Misery” at the historic Fort Peck Theater\, and talk about Conservation District Authority\, Mock Educational Event\, Social Media\, Working remotely\, and give a YouTube Primer \nAccomodations for the event will be at Historic Fort Peck Hotel (no need to reserve a room) If you prefer to camp at the downstream campground\, make your reservations early. www.recreation.gov[/vc_column_text][/vc_column][/vc_row]
URL:https://macdnet.org/event-calendar/2023-statewide-employee-training-set/
LOCATION:Fort Peck Hotel\, Fort Peck\, MT\, United States
CATEGORIES:Events Calendar,Meetings,Trainings and Workshops
ATTACH;FMTTYPE=application/pdf:https://macdnet.org/wp-content/uploads/2023/05/SET-training-MCDEO-1080-×-1080-px-1.pdf
END:VEVENT
BEGIN:VEVENT
DTSTART;TZID=America/Denver:20230918T073000
DTEND;TZID=America/Denver:20230918T090000
DTSTAMP:20260421T203640
CREATED:20220202T204005Z
LAST-MODIFIED:20230915T041539Z
UID:38751-1695022200-1695027600@macdnet.org
SUMMARY:MACD Board Meeting
DESCRIPTION:[vc_row][vc_column][vc_column_text]\nMACD Board will be Monday\, Sept. 18th at 7:30am via zoom. \nMontana Association of Conservation Districts is inviting you to a scheduled Zoom meeting. \nJoin Zoom Meeting \nhttps://us06web.zoom.us/j/89875002317?pwd=ZTRHU09aZHhSQVJzZVhQTlN1WXZ5Zz09 \nMeeting ID: 898 7500 2317 \nPasscode: 332636[/vc_column_text][/vc_column][/vc_row]
URL:https://macdnet.org/event-calendar/macd-board-meeting-3-2023-09-18-2023-09-18/
CATEGORIES:Meetings
END:VEVENT
BEGIN:VEVENT
DTSTART;VALUE=DATE:20230926
DTEND;VALUE=DATE:20230927
DTSTAMP:20260421T203640
CREATED:20230915T170943Z
LAST-MODIFIED:20230915T171537Z
UID:39628-1695686400-1695772799@macdnet.org
SUMMARY:Area Meetings: Area 5
DESCRIPTION:
URL:https://macdnet.org/event-calendar/area-5-meeting/
CATEGORIES:Events Calendar,Meetings
ATTACH;FMTTYPE=image/png:https://macdnet.org/wp-content/uploads/2021/12/macd-draft-3.png
END:VEVENT
BEGIN:VEVENT
DTSTART;VALUE=DATE:20230927
DTEND;VALUE=DATE:20230928
DTSTAMP:20260421T203640
CREATED:20230915T171105Z
LAST-MODIFIED:20230915T171542Z
UID:39632-1695772800-1695859199@macdnet.org
SUMMARY:Area Meetings: Area 3
DESCRIPTION:
URL:https://macdnet.org/event-calendar/area-meetings-area-3/
CATEGORIES:Events Calendar,Meetings
END:VEVENT
BEGIN:VEVENT
DTSTART;VALUE=DATE:20230928
DTEND;VALUE=DATE:20230929
DTSTAMP:20260421T203640
CREATED:20230915T171211Z
LAST-MODIFIED:20230915T171549Z
UID:39634-1695859200-1695945599@macdnet.org
SUMMARY:Area Meetings: Area 6
DESCRIPTION:
URL:https://macdnet.org/event-calendar/area-meetings-area-6/
CATEGORIES:Events Calendar,Meetings
ATTACH;FMTTYPE=image/png:https://macdnet.org/wp-content/uploads/2021/12/macd-draft-3.png
END:VEVENT
BEGIN:VEVENT
DTSTART;VALUE=DATE:20231003
DTEND;VALUE=DATE:20231004
DTSTAMP:20260421T203640
CREATED:20230915T171307Z
LAST-MODIFIED:20230915T171554Z
UID:39636-1696291200-1696377599@macdnet.org
SUMMARY:Area Meetings: Area 4
DESCRIPTION:
URL:https://macdnet.org/event-calendar/area-meetings-area-4/
CATEGORIES:Events Calendar,Meetings
ATTACH;FMTTYPE=image/png:https://macdnet.org/wp-content/uploads/2021/12/macd-draft-3.png
END:VEVENT
BEGIN:VEVENT
DTSTART;VALUE=DATE:20231004
DTEND;VALUE=DATE:20231005
DTSTAMP:20260421T203640
CREATED:20230915T171400Z
LAST-MODIFIED:20230915T171600Z
UID:39638-1696377600-1696463999@macdnet.org
SUMMARY:Area Meetings: Area 1
DESCRIPTION:
URL:https://macdnet.org/event-calendar/area-meetings-area-1/
CATEGORIES:Events Calendar,Meetings
ATTACH;FMTTYPE=image/png:https://macdnet.org/wp-content/uploads/2021/12/macd-draft-3.png
END:VEVENT
BEGIN:VEVENT
DTSTART;VALUE=DATE:20231005
DTEND;VALUE=DATE:20231006
DTSTAMP:20260421T203640
CREATED:20230915T171438Z
LAST-MODIFIED:20230915T171604Z
UID:39640-1696464000-1696550399@macdnet.org
SUMMARY:Area Meetings: Area 2
DESCRIPTION:
URL:https://macdnet.org/event-calendar/area-meetings-area-2/
CATEGORIES:Events Calendar,Meetings
ATTACH;FMTTYPE=image/png:https://macdnet.org/wp-content/uploads/2021/12/macd-draft-3.png
END:VEVENT
BEGIN:VEVENT
DTSTART;TZID=America/Denver:20231016T073000
DTEND;TZID=America/Denver:20231016T093000
DTSTAMP:20260421T203640
CREATED:20230915T212232Z
LAST-MODIFIED:20240718T161937Z
UID:39654-1697441400-1697448600@macdnet.org
SUMMARY:MACD Board Meeting
DESCRIPTION:[vc_row][vc_column][vc_column_text]The MACD Board meets on the third Monday of the Month at 7:30am via zoom. Contact Rebecca Boslough for meeting details. \nhttps://macdnet.org/about-us/board-organization-documents/[/vc_column_text][/vc_column][/vc_row]
URL:https://macdnet.org/event-calendar/macd-board-meeting-5/2023-10-16/
LOCATION:Zoom
CATEGORIES:Meetings
ATTACH;FMTTYPE=image/png:https://macdnet.org/wp-content/uploads/2021/12/macd-draft-3.png
END:VEVENT
BEGIN:VEVENT
DTSTART;VALUE=DATE:20231114
DTEND;VALUE=DATE:20231117
DTSTAMP:20260421T203640
CREATED:20230310T163415Z
LAST-MODIFIED:20231012T185054Z
UID:36635-1699920000-1700179199@macdnet.org
SUMMARY:Annual Convention in Billings
DESCRIPTION:
URL:https://macdnet.org/event-calendar/annual-convention-in-billings/
LOCATION:Billings\, MT\, Billings\, MT\, United States
CATEGORIES:Events Calendar,Meetings,Miscellaneous,Trainings and Workshops
ATTACH;FMTTYPE=image/png:https://macdnet.org/wp-content/uploads/2023/03/Screenshot-2023-10-12-at-12.49.57-PM.png
END:VEVENT
BEGIN:VEVENT
DTSTART;TZID=America/Denver:20231114T093000
DTEND;TZID=America/Denver:20231114T123000
DTSTAMP:20260421T203640
CREATED:20230915T212232Z
LAST-MODIFIED:20231113T034433Z
UID:39656-1699954200-1699965000@macdnet.org
SUMMARY:MACD Board Meeting
DESCRIPTION:[vc_row][vc_column][vc_column_text]Contact Rebecca Boslough-King (rebecca@macdnet.org) for meeting details.[/vc_column_text][/vc_column][/vc_row]\nThe November MACD Board Meeting will take place in Billings at the Double Tree Hotel as part of the MACD Annual Convention. The Meeting will be a hybrid format and zoom will still be available. \nDraft agenda here.
URL:https://macdnet.org/event-calendar/macd-board-meeting-5-2023-11-20/
LOCATION:Zoom
CATEGORIES:Meetings
ATTACH;FMTTYPE=image/png:https://macdnet.org/wp-content/uploads/2021/12/macd-draft-3.png
END:VEVENT
BEGIN:VEVENT
DTSTART;TZID=America/Denver:20240116T073000
DTEND;TZID=America/Denver:20240116T093000
DTSTAMP:20260421T203640
CREATED:20230915T212232Z
LAST-MODIFIED:20240103T001954Z
UID:39658-1705390200-1705397400@macdnet.org
SUMMARY:MACD Board Meeting
DESCRIPTION:[vc_row][vc_column][vc_column_text]\nThe MACD Board typically meets on the third Monday of the Month at 7:30am via zoom. For January this meeting has been pushed to Tuesday due to MLK Day. \nContact Rebecca Boslough for meeting details. \nBoard Organization Documents \n \n[/vc_column_text][/vc_column][/vc_row]
URL:https://macdnet.org/event-calendar/macd-board-meeting-5-2024-01-16/
LOCATION:Zoom
CATEGORIES:Meetings
ATTACH;FMTTYPE=image/png:https://macdnet.org/wp-content/uploads/2021/12/macd-draft-3.png
END:VEVENT
BEGIN:VEVENT
DTSTART;VALUE=DATE:20240206
DTEND;VALUE=DATE:20240209
DTSTAMP:20260421T203640
CREATED:20240110T164614Z
LAST-MODIFIED:20240110T164617Z
UID:41137-1707177600-1707436799@macdnet.org
SUMMARY:Montana Soil Health Symposium
DESCRIPTION:
URL:https://macdnet.org/event-calendar/montana-soil-health-symposium/
CATEGORIES:Events Calendar,Miscellaneous,Trainings and Workshops
END:VEVENT
BEGIN:VEVENT
DTSTART;TZID=America/Denver:20240220T073000
DTEND;TZID=America/Denver:20240220T093000
DTSTAMP:20260421T203640
CREATED:20230915T212232Z
LAST-MODIFIED:20240219T160213Z
UID:39659-1708414200-1708421400@macdnet.org
SUMMARY:MACD Board Meeting
DESCRIPTION:[vc_row][vc_column][vc_column_text]\nDue to Presidents Day the February Board Meeting will take place on Tuesday\, February 20th at 7:30am \nThe MACD Board meets on the third Monday of the Month at 7:30am via zoom. Contact Rebecca Boslough for meeting details. \nBoard Organization Documents \n \n[/vc_column_text][/vc_column][/vc_row]
URL:https://macdnet.org/event-calendar/macd-board-meeting-5-2024-02-19/
LOCATION:Zoom
CATEGORIES:Meetings
ATTACH;FMTTYPE=image/png:https://macdnet.org/wp-content/uploads/2021/12/macd-draft-3.png
END:VEVENT
BEGIN:VEVENT
DTSTART;TZID=America/Denver:20240318T073000
DTEND;TZID=America/Denver:20240318T093000
DTSTAMP:20260421T203640
CREATED:20230915T212232Z
LAST-MODIFIED:20240318T114905Z
UID:39660-1710747000-1710754200@macdnet.org
SUMMARY:MACD Board Meeting
DESCRIPTION:[vc_row][vc_column][vc_column_text]\nThe MACD Board meets on the third Monday of the Month at 7:30am via zoom. Contact Rebecca Boslough for additional details. \nThe draft agenda for the 3/18/2024 Meeting is available here. \nBoard Organization Documents \n \n[/vc_column_text][/vc_column][/vc_row]
URL:https://macdnet.org/event-calendar/macd-board-meeting-5-2024-03-18/
LOCATION:Zoom
CATEGORIES:Meetings
ATTACH;FMTTYPE=image/png:https://macdnet.org/wp-content/uploads/2021/12/macd-draft-3.png
END:VEVENT
BEGIN:VEVENT
DTSTART;TZID=America/Denver:20240415T073000
DTEND;TZID=America/Denver:20240415T093000
DTSTAMP:20260421T203640
CREATED:20230915T212232Z
LAST-MODIFIED:20240410T193312Z
UID:39661-1713166200-1713173400@macdnet.org
SUMMARY:MACD Board Meeting
DESCRIPTION:[vc_row][vc_column][vc_column_text]\nThe MACD Board meets on the third Monday of the Month at 7:30am via zoom. Contact Rebecca Boslough for meeting details. \nThe agenda and meeting details can be found here \nBoard Organization Documents \n \n[/vc_column_text][/vc_column][/vc_row]
URL:https://macdnet.org/event-calendar/macd-board-meeting-5-2024-04-15/
LOCATION:Zoom
CATEGORIES:Meetings
ATTACH;FMTTYPE=image/png:https://macdnet.org/wp-content/uploads/2021/12/macd-draft-3.png
END:VEVENT
BEGIN:VEVENT
DTSTART;VALUE=DATE:20240422
DTEND;VALUE=DATE:20240424
DTSTAMP:20260421T203640
CREATED:20231212T180500Z
LAST-MODIFIED:20240417T184930Z
UID:40835-1713744000-1713916799@macdnet.org
SUMMARY:Montana Envirothon 2024
DESCRIPTION:2024 Competition Information invite letter\nHotel and Venue Information \nRegistration Form
URL:https://macdnet.org/event-calendar/montana-envirothon-2024/
LOCATION:Great Falls\, Montana
END:VEVENT
BEGIN:VEVENT
DTSTART;TZID=America/Denver:20240520T073000
DTEND;TZID=America/Denver:20240520T093000
DTSTAMP:20260421T203640
CREATED:20230915T212232Z
LAST-MODIFIED:20240718T161939Z
UID:39662-1716190200-1716197400@macdnet.org
SUMMARY:MACD Board Meeting
DESCRIPTION:[vc_row][vc_column][vc_column_text]The MACD Board meets on the third Monday of the Month at 7:30am via zoom. Contact Rebecca Boslough for meeting details. \nhttps://macdnet.org/about-us/board-organization-documents/[/vc_column_text][/vc_column][/vc_row]
URL:https://macdnet.org/event-calendar/macd-board-meeting-5/2024-05-20/
LOCATION:Zoom
CATEGORIES:Meetings
ATTACH;FMTTYPE=image/png:https://macdnet.org/wp-content/uploads/2021/12/macd-draft-3.png
END:VEVENT
BEGIN:VEVENT
DTSTART;VALUE=DATE:20240611
DTEND;VALUE=DATE:20240614
DTSTAMP:20260421T203640
CREATED:20240226T122928Z
LAST-MODIFIED:20240410T184045Z
UID:41859-1718064000-1718323199@macdnet.org
SUMMARY:MACD Spring Board Meeting
DESCRIPTION:The 2024 MACD Spring Board Meeting will take place in Helena from June 11th to June 13th. Please see the MACD Spring Board page for further details.
URL:https://macdnet.org/event-calendar/macd-spring-board-meeting-2/
CATEGORIES:Events Calendar,Meetings
END:VEVENT
BEGIN:VEVENT
DTSTART;TZID=America/Denver:20240617T073000
DTEND;TZID=America/Denver:20240617T093000
DTSTAMP:20260421T203640
CREATED:20230915T212232Z
LAST-MODIFIED:20240718T161940Z
UID:39663-1718609400-1718616600@macdnet.org
SUMMARY:MACD Board Meeting
DESCRIPTION:[vc_row][vc_column][vc_column_text]The MACD Board meets on the third Monday of the Month at 7:30am via zoom. Contact Rebecca Boslough for meeting details. \nhttps://macdnet.org/about-us/board-organization-documents/[/vc_column_text][/vc_column][/vc_row]
URL:https://macdnet.org/event-calendar/macd-board-meeting-5/2024-06-17/
LOCATION:Zoom
CATEGORIES:Meetings
ATTACH;FMTTYPE=image/png:https://macdnet.org/wp-content/uploads/2021/12/macd-draft-3.png
END:VEVENT
BEGIN:VEVENT
DTSTART;TZID=America/Denver:20240715T073000
DTEND;TZID=America/Denver:20240715T093000
DTSTAMP:20260421T203640
CREATED:20230915T212232Z
LAST-MODIFIED:20240718T161941Z
UID:39664-1721028600-1721035800@macdnet.org
SUMMARY:MACD Board Meeting
DESCRIPTION:[vc_row][vc_column][vc_column_text]The MACD Board meets on the third Monday of the Month at 7:30am via zoom. Contact Rebecca Boslough for meeting details. \nhttps://macdnet.org/about-us/board-organization-documents/[/vc_column_text][/vc_column][/vc_row]
URL:https://macdnet.org/event-calendar/macd-board-meeting-5/2024-07-15/
LOCATION:Zoom
CATEGORIES:Meetings
ATTACH;FMTTYPE=image/png:https://macdnet.org/wp-content/uploads/2021/12/macd-draft-3.png
END:VEVENT
BEGIN:VEVENT
DTSTART;TZID=America/Denver:20240819T073000
DTEND;TZID=America/Denver:20240819T093000
DTSTAMP:20260421T203640
CREATED:20230915T212232Z
LAST-MODIFIED:20240718T161942Z
UID:39665-1724052600-1724059800@macdnet.org
SUMMARY:MACD Board Meeting
DESCRIPTION:[vc_row][vc_column][vc_column_text]The MACD Board meets on the third Monday of the Month at 7:30am via zoom. Contact Rebecca Boslough for meeting details. \nhttps://macdnet.org/about-us/board-organization-documents/[/vc_column_text][/vc_column][/vc_row]
URL:https://macdnet.org/event-calendar/macd-board-meeting-5/2024-08-19/
LOCATION:Zoom
CATEGORIES:Meetings
ATTACH;FMTTYPE=image/png:https://macdnet.org/wp-content/uploads/2021/12/macd-draft-3.png
END:VEVENT
BEGIN:VEVENT
DTSTART;VALUE=DATE:20240820
DTEND;VALUE=DATE:20240823
DTSTAMP:20260421T203640
CREATED:20240415T163726Z
LAST-MODIFIED:20240812T171638Z
UID:43191-1724112000-1724371199@macdnet.org
SUMMARY:MCDEO National Conservation District Employee Association Meeting
DESCRIPTION:MCDEO CD Employee Association Meeting\nAugust 20-22\, 2024   \nBillings\, MT \nRegistration Here \nJoin the Montana Conservation District Employees Organization (MCDEO) for a mid year meeting  at the National Conservation District Employee Association Meeting. MCDEO is currently planning a project and a potential Bridger Plant Material Center tour. They are also planning some training and/or presentations. \nThis will be an amazing opportunity for collaboration with districts across our region\, as well as a chance to showcase the work we are doing in Montana! \nSave the Date Card \nROUGH AGENDA \nAgenda Draft \nThere will be travel funding from the Employee Organization\, but it probably won’t cover 100% of the travel/lodging\, we are still working out those details. \nKeep in mind as you’re doing your CD budgets\, that if your district can apply for the CDA grant\, you should start including EO related training/event travel and lodging expenses in your district’s budget and CDA grant application. \n2024 Travel Fund Application
URL:https://macdnet.org/event-calendar/mcdeo-national-conservation-district-employee-association-meeting/
LOCATION:Billings\, MT\, Billings\, MT\, United States
CATEGORIES:Events Calendar,Meetings,Trainings and Workshops
END:VEVENT
BEGIN:VEVENT
DTSTART;TZID=America/Denver:20240916T073000
DTEND;TZID=America/Denver:20240916T093000
DTSTAMP:20260421T203640
CREATED:20230915T212232Z
LAST-MODIFIED:20240913T223619Z
UID:39666-1726471800-1726479000@macdnet.org
SUMMARY:MACD Board Meeting
DESCRIPTION:[vc_row][vc_column][vc_column_text]The MACD Board meets on the third Monday of the Month at 7:30am via zoom. Contact Rebecca Boslough for meeting details. \nHere is the agenda for the 9/16 Board Meeting \nhttps://macdnet.org/about-us/board-organization-documents/[/vc_column_text][/vc_column][/vc_row]
URL:https://macdnet.org/event-calendar/macd-board-meeting-5-2024-09-16/
LOCATION:Zoom
CATEGORIES:Meetings
ATTACH;FMTTYPE=image/png:https://macdnet.org/wp-content/uploads/2021/12/macd-draft-3.png
END:VEVENT
END:VCALENDAR