BEGIN:VCALENDAR
VERSION:2.0
PRODID:-//Montana Association of Conservation Districts - ECPv6.15.20//NONSGML v1.0//EN
CALSCALE:GREGORIAN
METHOD:PUBLISH
X-ORIGINAL-URL:https://macdnet.org
X-WR-CALDESC:Events for Montana Association of Conservation Districts
REFRESH-INTERVAL;VALUE=DURATION:PT1H
X-Robots-Tag:noindex
X-PUBLISHED-TTL:PT1H
BEGIN:VTIMEZONE
TZID:America/Denver
BEGIN:DAYLIGHT
TZOFFSETFROM:-0700
TZOFFSETTO:-0600
TZNAME:MDT
DTSTART:20240310T090000
END:DAYLIGHT
BEGIN:STANDARD
TZOFFSETFROM:-0600
TZOFFSETTO:-0700
TZNAME:MST
DTSTART:20241103T080000
END:STANDARD
BEGIN:DAYLIGHT
TZOFFSETFROM:-0700
TZOFFSETTO:-0600
TZNAME:MDT
DTSTART:20250309T090000
END:DAYLIGHT
BEGIN:STANDARD
TZOFFSETFROM:-0600
TZOFFSETTO:-0700
TZNAME:MST
DTSTART:20251102T080000
END:STANDARD
BEGIN:DAYLIGHT
TZOFFSETFROM:-0700
TZOFFSETTO:-0600
TZNAME:MDT
DTSTART:20260308T090000
END:DAYLIGHT
BEGIN:STANDARD
TZOFFSETFROM:-0600
TZOFFSETTO:-0700
TZNAME:MST
DTSTART:20261101T080000
END:STANDARD
END:VTIMEZONE
BEGIN:VEVENT
DTSTART;VALUE=DATE:20250409
DTEND;VALUE=DATE:20250411
DTSTAMP:20260423T005359
CREATED:20250227T182730Z
LAST-MODIFIED:20250311T192339Z
UID:56118-1744156800-1744329599@macdnet.org
SUMMARY:CMP 2025 Forum
DESCRIPTION:CMP 2025 Forum\nApril 9-10  \nSalish-Kootenai College  \n36244 Joe McDonald Drive  \nRonan\, MT 59864  \nThe Crown Managers Partnership (CMP)\, and the Confederated Salish and Kootenai Tribes (CSKT)\, are excited to invite you to the 2025 CMP Forum. \nThis year’s theme is focused on the partnership and collaboration across communities and borders in the Crown of the Continent Ecosystem. This gathering will bring together conservation professionals\, community leaders\, agencies and members committed to protecting and preserving the region’s unique natural and cultural landscapes. All are welcome and encouraged to attend the forum. \nJoin us at Salish Kootenai College in Pablo\, Montana\, for an enriching two-day forum designed to discuss existing projects and explore new opportunities for cross-boundary conservation efforts. The event will include a mix of informative sessions\, purposeful discussions\, and field trips that highlight the important work being implemented in the region. \nClick here to register or to learn more about this event.
URL:https://macdnet.org/event-calendar/cmp-2025-forum/
LOCATION:Salish Kootenai College\, 36244 Joe McDonald Dr\, Ronan\, MT\, 59864\, United States
CATEGORIES:Events Calendar
ORGANIZER;CN="Crown Managers Partnership":MAILTO:crownmanagers@gmail.com
END:VEVENT
BEGIN:VEVENT
DTSTART;TZID=America/Denver:20250410T120000
DTEND;TZID=America/Denver:20250410T130000
DTSTAMP:20260423T005359
CREATED:20250317T173117Z
LAST-MODIFIED:20250317T173117Z
UID:59796-1744286400-1744290000@macdnet.org
SUMMARY:Public Perceptions of Beavers in Urban Environments
DESCRIPTION:Public Perceptions of Beavers in Urban Environments\nMarch 17  \n12:00PM-01:00PM  \nThe beaver science speaker series takes place on the second Thursday of each month. Each session features a guest speaker sharing the latest research\, followed by a Q&A and discussion. for more information\, contact Avary at avary@beaverinstitue.org.
URL:https://macdnet.org/event-calendar/public-perceptions-of-beavers-in-urban-environments/
LOCATION:Zoom
CATEGORIES:Events Calendar
END:VEVENT
BEGIN:VEVENT
DTSTART;TZID=America/Denver:20250410T130000
DTEND;TZID=America/Denver:20250410T130000
DTSTAMP:20260423T005359
CREATED:20210920T235802Z
LAST-MODIFIED:20210920T235802Z
UID:37081-1744290000-1744290000@macdnet.org
SUMMARY:Lewis & Clark CD Meeting
DESCRIPTION:Please see the Lewis & Clark CD website for more info.
URL:https://macdnet.org/event-calendar/__trashed-61__trashed/2025-04-10/
CATEGORIES:CD Board Meetings
END:VEVENT
BEGIN:VEVENT
DTSTART;TZID=America/Denver:20250410T130000
DTEND;TZID=America/Denver:20250410T150000
DTSTAMP:20260423T005359
CREATED:20210922T170514Z
LAST-MODIFIED:20210922T170514Z
UID:37086-1744290000-1744297200@macdnet.org
SUMMARY:Lewis & Clark CD Meeting
DESCRIPTION:Lewis and Clark meets the 2nd Thursday at 1 pm. Summer meetings are different times\, so be sure to check with the conservation district to get the most up-to-date information.
URL:https://macdnet.org/event-calendar/lewis-clark-cd-meeting/2025-04-10/
ORGANIZER;CN="Lewis and Clark Conservation District":MAILTO:lccd@mt.net
END:VEVENT
BEGIN:VEVENT
DTSTART;TZID=America/Denver:20250410T133000
DTEND;TZID=America/Denver:20250410T133000
DTSTAMP:20260423T005359
CREATED:20210920T235759Z
LAST-MODIFIED:20210920T235759Z
UID:37082-1744291800-1744291800@macdnet.org
SUMMARY:Richland County CD Meeting
DESCRIPTION:
URL:https://macdnet.org/event-calendar/__trashed-45__trashed/2025-04-10/
CATEGORIES:CD Board Meetings
END:VEVENT
BEGIN:VEVENT
DTSTART;TZID=America/Denver:20250410T170000
DTEND;TZID=America/Denver:20250410T170000
DTSTAMP:20260423T005359
CREATED:20210920T235805Z
LAST-MODIFIED:20210920T235805Z
UID:37083-1744304400-1744304400@macdnet.org
SUMMARY:Carbon CD Meeting
DESCRIPTION:
URL:https://macdnet.org/event-calendar/__trashed-76__trashed/2025-04-10/
CATEGORIES:CD Board Meetings
END:VEVENT
BEGIN:VEVENT
DTSTART;TZID=America/Denver:20250410T180000
DTEND;TZID=America/Denver:20250410T200000
DTSTAMP:20260423T005359
CREATED:20250203T193234Z
LAST-MODIFIED:20250311T201038Z
UID:53590-1744308000-1744315200@macdnet.org
SUMMARY:Land Stewardship Series: Living in the Forest
DESCRIPTION:Land Stewardship Series: \nLiving in the Forest: Insects\, Disease and Wildfire\nApril 10\, 2025  \n06:00PM-08:00PM \nJoin local experts at the Land Stewardship Series at Flathead Valley Community College to learn techniques for managing your land. \nThursdays\, 6 -8pm\, April 3 – May 8 \nLiving in the Forest: Insects\, Disease and Wildfire: This session will cover basic forestry information about forest health\, tree thinning to increase resiliency to wildfire\, and common insect/disease issues in our area. We’ll also talk about transitions to forest cover which includes planting\, scarification\, and tree thinning to adjust sunlight and moisture needs.\nInstructor: Holly Mackenzie\, Service Forester for Montana Department of Natural Resources and Conservation \nLearn more and Register Here
URL:https://macdnet.org/event-calendar/land-stewardship-series-living-in-the-forest/
LOCATION:Flathead Valley Community College\, 777 Grandview Dr\, Kalispell\, MT\, 59901\, United States
CATEGORIES:Events Calendar,Trainings and Workshops
END:VEVENT
BEGIN:VEVENT
DTSTART;TZID=America/Denver:20250410T180000
DTEND;TZID=America/Denver:20250410T200000
DTSTAMP:20260423T005359
CREATED:20250306T150440Z
LAST-MODIFIED:20250506T153147Z
UID:57597-1744308000-1744315200@macdnet.org
SUMMARY:Petroleum County Conservation District Virtual Fence Workshop
DESCRIPTION:Petroleum County Conservation District Virtual Fence Workshop\nJune 10 \n06:00PM-08:00PM  \nPetroleum County Community Center  \n207 East Main Street  \nWinnett\, MT 59087
URL:https://macdnet.org/event-calendar/petroleum-county-conservation-district-virtual-fence-workshop/
LOCATION:PETROLEUM COUNTY COMMUNITY CENTER\, 207 W Main Street\, Winnett\, Montana\, 59087
CATEGORIES:Events Calendar
END:VEVENT
BEGIN:VEVENT
DTSTART;TZID=America/Denver:20250410T190000
DTEND;TZID=America/Denver:20250410T190000
DTSTAMP:20260423T005359
CREATED:20210920T235758Z
LAST-MODIFIED:20210920T235758Z
UID:37084-1744311600-1744311600@macdnet.org
SUMMARY:Liberty County CD Meeting
DESCRIPTION:
URL:https://macdnet.org/event-calendar/__trashed-36__trashed/2025-04-10/
CATEGORIES:CD Board Meetings
END:VEVENT
BEGIN:VEVENT
DTSTART;TZID=America/Denver:20250410T190000
DTEND;TZID=America/Denver:20250410T190000
DTSTAMP:20260423T005359
CREATED:20210920T235759Z
LAST-MODIFIED:20210920T235759Z
UID:37085-1744311600-1744311600@macdnet.org
SUMMARY:Lake CD Meeting
DESCRIPTION:Please see the Lake County CD website for more info.
URL:https://macdnet.org/event-calendar/__trashed-44__trashed/2025-04-10/
CATEGORIES:CD Board Meetings
END:VEVENT
BEGIN:VEVENT
DTSTART;VALUE=DATE:20250414
DTEND;VALUE=DATE:20250418
DTSTAMP:20260423T005359
CREATED:20250326T214014Z
LAST-MODIFIED:20250326T214428Z
UID:61435-1744588800-1744934399@macdnet.org
SUMMARY:National Forum on Biological Control
DESCRIPTION:National Forum on Biological Control\nApril 14-17  \nGraduate by Hilton Annapolis  \n126 West Street \nAnnapolis\, MD 21401 \nClick here to register or to learn more about this event.
URL:https://macdnet.org/event-calendar/national-forum-on-biological-control/
CATEGORIES:Events Calendar
END:VEVENT
BEGIN:VEVENT
DTSTART;TZID=America/Denver:20250414T070000
DTEND;TZID=America/Denver:20250414T070000
DTSTAMP:20260423T005359
CREATED:20210920T235754Z
LAST-MODIFIED:20210920T235754Z
UID:37102-1744614000-1744614000@macdnet.org
SUMMARY:Teton CD Meeting
DESCRIPTION:
URL:https://macdnet.org/event-calendar/__trashed-11__trashed/2025-04-14/
CATEGORIES:CD Board Meetings
END:VEVENT
BEGIN:VEVENT
DTSTART;TZID=America/Denver:20250414T130000
DTEND;TZID=America/Denver:20250414T133000
DTSTAMP:20260423T005359
CREATED:20210920T235754Z
LAST-MODIFIED:20210920T235754Z
UID:37096-1744635600-1744637400@macdnet.org
SUMMARY:Dawson County CD Meeting
DESCRIPTION:
URL:https://macdnet.org/event-calendar/__trashed-7__trashed/2025-04-14/
CATEGORIES:CD Board Meetings
END:VEVENT
BEGIN:VEVENT
DTSTART;TZID=America/Denver:20250414T170000
DTEND;TZID=America/Denver:20250414T173000
DTSTAMP:20260423T005359
CREATED:20210920T235756Z
LAST-MODIFIED:20210920T235756Z
UID:37103-1744650000-1744651800@macdnet.org
SUMMARY:Sweet Grass County Conservation District
DESCRIPTION:
URL:https://macdnet.org/event-calendar/__trashed-22__trashed/2025-04-14/
CATEGORIES:CD Board Meetings
END:VEVENT
BEGIN:VEVENT
DTSTART;TZID=America/Denver:20250414T173000
DTEND;TZID=America/Denver:20250414T173000
DTSTAMP:20260423T005359
CREATED:20210920T235803Z
LAST-MODIFIED:20240229T215025Z
UID:42073-1744651800-1744651800@macdnet.org
SUMMARY:Missoula Conservation District
DESCRIPTION:
URL:https://macdnet.org/event-calendar/__trashed-66__trashed-2024-02-12/2025-04-14/
CATEGORIES:CD Board Meetings
END:VEVENT
BEGIN:VEVENT
DTSTART;TZID=America/Denver:20250414T190000
DTEND;TZID=America/Denver:20250414T190000
DTSTAMP:20260423T005359
CREATED:20210920T235756Z
LAST-MODIFIED:20210920T235756Z
UID:37099-1744657200-1744657200@macdnet.org
SUMMARY:Meagher County Conservation District
DESCRIPTION:
URL:https://macdnet.org/event-calendar/__trashed-24__trashed/2025-04-14/
CATEGORIES:CD Board Meetings
END:VEVENT
BEGIN:VEVENT
DTSTART;TZID=America/Denver:20250414T190000
DTEND;TZID=America/Denver:20250414T190000
DTSTAMP:20260423T005359
CREATED:20210920T235800Z
LAST-MODIFIED:20210920T235800Z
UID:37097-1744657200-1744657200@macdnet.org
SUMMARY:Flathead CD 310 Meeting
DESCRIPTION:
URL:https://macdnet.org/event-calendar/__trashed-52__trashed/2025-04-14/
CATEGORIES:CD Board Meetings
END:VEVENT
BEGIN:VEVENT
DTSTART;TZID=America/Denver:20250414T193000
DTEND;TZID=America/Denver:20250414T193000
DTSTAMP:20260423T005359
CREATED:20210920T235757Z
LAST-MODIFIED:20210920T235757Z
UID:37098-1744659000-1744659000@macdnet.org
SUMMARY:Granite Conservation District
DESCRIPTION:
URL:https://macdnet.org/event-calendar/__trashed-30__trashed/2025-04-14/
CATEGORIES:CD Board Meetings
END:VEVENT
BEGIN:VEVENT
DTSTART;TZID=America/Denver:20250414T193000
DTEND;TZID=America/Denver:20250414T193000
DTSTAMP:20260423T005359
CREATED:20210920T235757Z
LAST-MODIFIED:20210920T235757Z
UID:37101-1744659000-1744659000@macdnet.org
SUMMARY:Pondera County CD Meeting
DESCRIPTION:
URL:https://macdnet.org/event-calendar/__trashed-34__trashed/2025-04-14/
CATEGORIES:CD Board Meetings
END:VEVENT
BEGIN:VEVENT
DTSTART;TZID=America/Denver:20250415T070000
DTEND;TZID=America/Denver:20250415T070000
DTSTAMP:20260423T005359
CREATED:20210920T235805Z
LAST-MODIFIED:20210920T235805Z
UID:37109-1744700400-1744700400@macdnet.org
SUMMARY:Jefferson Valley CD Meeting
DESCRIPTION:
URL:https://macdnet.org/event-calendar/__trashed-73__trashed/2025-04-15/
CATEGORIES:CD Board Meetings
END:VEVENT
BEGIN:VEVENT
DTSTART;TZID=America/Denver:20250415T070000
DTEND;TZID=America/Denver:20250415T080000
DTSTAMP:20260423T005359
CREATED:20241219T215345Z
LAST-MODIFIED:20250128T213721Z
UID:51090-1744700400-1744704000@macdnet.org
SUMMARY:MACD Legislative Committee
DESCRIPTION:[vc_row][vc_column][vc_column_text]During the legislative session\, the MACD Legislative Committee meets weekly on Tuesdays at 7am via zoom. Please contact rebecca@macdnet.org for further information and the zoom link.[/vc_column_text][/vc_column][/vc_row]
URL:https://macdnet.org/event-calendar/macd-legislative-committee-3/2025-04-15/
LOCATION:Zoom
END:VEVENT
BEGIN:VEVENT
DTSTART;TZID=America/Denver:20250415T100000
DTEND;TZID=America/Denver:20250415T180000
DTSTAMP:20260423T005359
CREATED:20250415T164056Z
LAST-MODIFIED:20250415T164202Z
UID:64887-1744711200-1744740000@macdnet.org
SUMMARY:Flathead Conservation District Earth Day Event
DESCRIPTION:Flathead Conservation District Earth Day Event\nApril 22  \n10:00AM-06:00PM  \nFCD Demonstration Garden  \n133 Interstate Ln  \nKalispell\, MT 59901  \n\nPollinator Seed Give-Away\nSeed Garden Wake-Up
URL:https://macdnet.org/event-calendar/flathead-conservation-district-earth-day-event/
END:VEVENT
BEGIN:VEVENT
DTSTART;TZID=America/Denver:20250415T120000
DTEND;TZID=America/Denver:20250415T133000
DTSTAMP:20260423T005359
CREATED:20250327T183013Z
LAST-MODIFIED:20250327T183013Z
UID:61594-1744718400-1744723800@macdnet.org
SUMMARY:Watershed Coordinators Call
DESCRIPTION:Watershed Coordinators Call\nApril 15  \n12:00PM  \nOver the past few years\, MWCC has participated in small-scale informal partnership calls to discuss Equity\, Justice\, Inclusion\, and everything accessibility to help improve our service and program delivery for Montana. And while those small calls served us well\, times are changing! \nThe needs of the watershed network are growing\, and we want to make a bigger space to listen to and discuss challenges and solutions we have all faced when it comes to moving collaborative conservation forward. To get started on framing the conversation\, we want to invite you to a Zoom call on Tuesday\, April 15th\, at noon. There will be introductions\, a discussion of the best meeting times and group structure\, and start building community again in a space where you can learn directly and informally from your peers. Register Here.
URL:https://macdnet.org/event-calendar/watershed-coordinators-call/
LOCATION:Zoom
CATEGORIES:Events Calendar
END:VEVENT
BEGIN:VEVENT
DTSTART;TZID=America/Denver:20250415T133000
DTEND;TZID=America/Denver:20250415T173000
DTSTAMP:20260423T005359
CREATED:20210908T032348Z
LAST-MODIFIED:20210908T032348Z
UID:38703-1744723800-1744738200@macdnet.org
SUMMARY:Carter CD Board Meeting
DESCRIPTION:Contact Carter CD for the most up-to-date meeting information.
URL:https://macdnet.org/event-calendar/carter-cd-meeting/2025-04-15/
LOCATION:Carter County CD Office\, 308 Mormon Avenue\, Ekalaka\, MT\, 59324
END:VEVENT
BEGIN:VEVENT
DTSTART;TZID=America/Denver:20250415T171500
DTEND;TZID=America/Denver:20250415T171500
DTSTAMP:20260423T005359
CREATED:20210920T235755Z
LAST-MODIFIED:20210920T235755Z
UID:37110-1744737300-1744737300@macdnet.org
SUMMARY:Blaine County CD Meeting
DESCRIPTION:
URL:https://macdnet.org/event-calendar/__trashed-15__trashed/2025-04-15/
CATEGORIES:CD Board Meetings
END:VEVENT
BEGIN:VEVENT
DTSTART;TZID=America/Denver:20250415T180000
DTEND;TZID=America/Denver:20250415T180000
DTSTAMP:20260423T005359
CREATED:20210920T235755Z
LAST-MODIFIED:20210920T235755Z
UID:37112-1744740000-1744740000@macdnet.org
SUMMARY:Mineral County CD Meeting
DESCRIPTION:
URL:https://macdnet.org/event-calendar/__trashed-16__trashed/2025-04-15/
CATEGORIES:CD Board Meetings
END:VEVENT
BEGIN:VEVENT
DTSTART;TZID=America/Denver:20250415T180000
DTEND;TZID=America/Denver:20250415T200000
DTSTAMP:20260423T005359
CREATED:20250324T145459Z
LAST-MODIFIED:20250324T145459Z
UID:60812-1744740000-1744747200@macdnet.org
SUMMARY:Absarokee Bear Town Hall Meeting
DESCRIPTION:Absarokee Bear Town Hall Meeting\nApril 15  \n06:00PM-08:00PM\n \nCobblestone School Great Room \n203 S. Woodard Ave. \nAbsarokee\, MT 59001  \nJoin FWP staff to discuss techniques to minimize negative bear encounters at home and in the field. Staff will present on the history of bears and human-bear conflicts in the area. This presentation is designed for residents of Absarokee and surrounding communities. \n 
URL:https://macdnet.org/event-calendar/absarokee-bear-town-hall-meeting/
LOCATION:Cobblestone School Great Room\, 203 S. Woodard Ave.\, Absarokee\, Montana\, 59001
CATEGORIES:Events Calendar
END:VEVENT
BEGIN:VEVENT
DTSTART;VALUE=DATE:20250416
DTEND;VALUE=DATE:20250417
DTSTAMP:20260423T005359
CREATED:20250401T201837Z
LAST-MODIFIED:20250401T201837Z
UID:62808-1744761600-1744847999@macdnet.org
SUMMARY:SRWG Water Management Working Group & SRWG Board Meetings
DESCRIPTION:SRWG Water Management Working Group & SRWG Board Meetings\nApril 16 \n10:00AM-01:00PM  \nThe Water Management Working Group meeting will begin at 10:00AM\, with the Board meeting occurring after the Working Group meeting is done. Both meetings are open to the public. For more information\, contact Madison Coyler.
URL:https://macdnet.org/event-calendar/srwg-water-management-working-group-srwg-board-meetings/
CATEGORIES:Events Calendar
END:VEVENT
BEGIN:VEVENT
DTSTART;TZID=America/Denver:20250416T100000
DTEND;TZID=America/Denver:20250416T120000
DTSTAMP:20260423T005359
CREATED:20220119T234558Z
LAST-MODIFIED:20250709T143953Z
UID:37117-1744797600-1744804800@macdnet.org
SUMMARY:Employee Roundtable
DESCRIPTION:EO Roundtable Meetings usually meet on the third Wednesday of the month. For this month’s zoom information contact Chris Evans (chris@lewisandclarkcd.org). [Note: The EO Roundtable meetings for July 2025 and August 2025 have both been cancelled. For more information\, contact Chris Evans.] \n\nTopic: MCDEO Roundtable\nTime: 10:00 AM Mountain Time (US and Canada)\nPlease download and import the following iCalendar (.ics) files to your calendar system.\nMonthly: https://us02web.zoom.us/meeting/tZYlcO6vqj4vH9JCgJL-Wxx0Fi_fv8J3lFOD/ics?icsToken=DEGG1umcCWKBUYQiuQAALAAAADwKmtGvG2Rvb0Ff-PjxGh-OCZo8B4pWN1MFq51i9EHWuYLq0wiyxAIgdIFl_0MckQV3gWP3-FYgUYYRQTAwMDAwMQ&meetingMasterEventId=lPa1Rf1TSMegj2n2gdrRKQ\n\nJoin Zoom Meeting\nhttps://us02web.zoom.us/j/82877745556Meeting ID: 828 7774 5556\nPasscode: 626512— \nOne tap mobile\n+13462487799\,\,82877745556#\,\,\,\,*626512# US (Houston)\n+16694449171\,\,82877745556#\,\,\,\,*626512# US \n— \nDial by your location\n• +1 346 248 7799 US (Houston)\n• +1 669 444 9171 US\n• +1 669 900 9128 US (San Jose)\n• +1 719 359 4580 US\n• +1 253 205 0468 US\n• +1 253 215 8782 US (Tacoma)\n• +1 689 278 1000 US\n• +1 301 715 8592 US (Washington DC)\n• +1 305 224 1968 US\n• +1 309 205 3325 US\n• +1 312 626 6799 US (Chicago)\n• +1 360 209 5623 US\n• +1 386 347 5053 US\n• +1 507 473 4847 US\n• +1 564 217 2000 US\n• +1 646 558 8656 US (New York)\n• +1 646 931 3860 US \nMeeting ID: 828 7774 5556\nPasscode: 626512
URL:https://macdnet.org/event-calendar/employee-roundtable-2/2025-04-16/
LOCATION:Zoom
CATEGORIES:Events Calendar,Meetings,Trainings and Workshops
END:VEVENT
BEGIN:VEVENT
DTSTART;TZID=America/Denver:20250416T120000
DTEND;TZID=America/Denver:20250416T130000
DTSTAMP:20260423T005359
CREATED:20250327T181940Z
LAST-MODIFIED:20250327T181940Z
UID:61590-1744804800-1744808400@macdnet.org
SUMMARY:Good Fires & Bad Fires For Watershed Health
DESCRIPTION:Good Fires & Bad Fires For Watershed Health Webinar\nApril 16 \n12:00PM-01:00PM \nThe fourth webinar of WLA’s 2025 Water Webinar series The fourth webinar of WLA’s 2025 Water and Working Lands Webinar series will explore how fire impacts the water cycle and stream health in the West\, both positively and negatively\, and how human intervention is being used to emphasize the positive. What are the barriers to good fire? Why do we have bad fires and how can we minimize their harm before they strike and in their aftermath? \n\nJoin them to hear from landowners and burn bosses on how they’ve made common cause with a healthy fire regime in the West.
URL:https://macdnet.org/event-calendar/good-fires-bad-fires-for-watershed-health/
LOCATION:Zoom
CATEGORIES:Events Calendar
END:VEVENT
END:VCALENDAR