BEGIN:VCALENDAR
VERSION:2.0
PRODID:-//Montana Association of Conservation Districts - ECPv6.15.20//NONSGML v1.0//EN
CALSCALE:GREGORIAN
METHOD:PUBLISH
X-ORIGINAL-URL:https://macdnet.org
X-WR-CALDESC:Events for Montana Association of Conservation Districts
REFRESH-INTERVAL;VALUE=DURATION:PT1H
X-Robots-Tag:noindex
X-PUBLISHED-TTL:PT1H
BEGIN:VTIMEZONE
TZID:America/Denver
BEGIN:DAYLIGHT
TZOFFSETFROM:-0700
TZOFFSETTO:-0600
TZNAME:MDT
DTSTART:20210314T090000
END:DAYLIGHT
BEGIN:STANDARD
TZOFFSETFROM:-0600
TZOFFSETTO:-0700
TZNAME:MST
DTSTART:20211107T080000
END:STANDARD
BEGIN:DAYLIGHT
TZOFFSETFROM:-0700
TZOFFSETTO:-0600
TZNAME:MDT
DTSTART:20220313T090000
END:DAYLIGHT
BEGIN:STANDARD
TZOFFSETFROM:-0600
TZOFFSETTO:-0700
TZNAME:MST
DTSTART:20221106T080000
END:STANDARD
BEGIN:DAYLIGHT
TZOFFSETFROM:-0700
TZOFFSETTO:-0600
TZNAME:MDT
DTSTART:20230312T090000
END:DAYLIGHT
BEGIN:STANDARD
TZOFFSETFROM:-0600
TZOFFSETTO:-0700
TZNAME:MST
DTSTART:20231105T080000
END:STANDARD
END:VTIMEZONE
BEGIN:VEVENT
DTSTART;TZID=America/Denver:20220803T080000
DTEND;TZID=America/Denver:20220803T170000
DTSTAMP:20260420T041728
CREATED:20220721T203925Z
LAST-MODIFIED:20220721T203940Z
UID:30324-1659513600-1659546000@macdnet.org
SUMMARY:MACD Legislative Committee
DESCRIPTION:[vc_row][vc_column][vc_column_text]\nMACD Legislative Committee – Wednesday\, August 3rd at 1pm via zoom \nZoom Link: https://us06web.zoom.us/j/86465011975?pwd=SUJ6c0FZeHBYMGZVdk9vK3M4QXlDZz09[/vc_column_text][/vc_column][/vc_row]
URL:https://macdnet.org/event-calendar/30324/
CATEGORIES:Meetings
END:VEVENT
BEGIN:VEVENT
DTSTART;TZID=America/Denver:20220803T180000
DTEND;TZID=America/Denver:20220803T200000
DTSTAMP:20260420T041728
CREATED:20220525T202643Z
LAST-MODIFIED:20220525T211350Z
UID:28634-1659549600-1659556800@macdnet.org
SUMMARY:Wildlife Speaker Series: Snake Savvy
DESCRIPTION:[vc_row][vc_column][vc_column_text]\nWildlife Speaker Series: Songbirds | June 1\nJoin the Ruby Habitat Foundation on the evening of June 1st for a free presentation on songbirds! \nWildlife Speaker Series: Scaup | June 8\nJoin the Centennial Valley Association for a free presentation on scaup. Jeff Warren of the US FWS will present. \nWildlife Speaker Series: Stoats and Mink | July 1\nJoin the Ruby Valley Conservation District for a free presentation on stoats and mink. The Montana Trappers Association will present. \nWildlife Speaker Series: Snake Savvy | Aug 3\nJoin the Madison Valley Ranchlands Group for a free presentation on snakes. Dr Jared Beaver (MSU) and Stephen M. Vantassell (MT Dept of Ag) will present. \nWildlife Speaker Series: Pika | July 9\nJoin the Jack Creek Preserve for a free presentation on pika. Dr. Eric Beever (USGS) will present. \nWildlife Speaker Series: Beavers | July 14\nJoin the Big Hole Watershed Committee for a free presentation on beavers. Torrey Ritter (FWP) and Elissa Chott (Clark Fork Coalition) will present.[/vc_column_text][/vc_column][/vc_row]
URL:https://macdnet.org/event-calendar/wildlife-speaker-series-snakes/
CATEGORIES:Events Calendar
ATTACH;FMTTYPE=image/jpeg:https://macdnet.org/wp-content/uploads/2022/05/Wildlife-Speakers-Posters_Final_Digital7-scaled.jpg
END:VEVENT
BEGIN:VEVENT
DTSTART;TZID=America/Denver:20220808T073000
DTEND;TZID=America/Denver:20220808T090000
DTSTAMP:20260420T041728
CREATED:20220202T204005Z
LAST-MODIFIED:20220721T204234Z
UID:25355-1659943800-1659949200@macdnet.org
SUMMARY:MACD Board Meeting
DESCRIPTION:[vc_row][vc_column][vc_column_text]\nMonday\, August 8th at 7:30am via zoom \nZoom Link: https://us06web.zoom.us/j/85142078080?pwd=QmlUZU1hWlFsc0ZEdnVVMlJGN1BtQT09 \n[/vc_column_text][/vc_column][/vc_row]
URL:https://macdnet.org/event-calendar/macd-board-meeting-3-2022-08-08/
LOCATION:Zoom
CATEGORIES:Meetings
ATTACH;FMTTYPE=image/png:https://macdnet.org/wp-content/uploads/2021/12/macd-draft-3.png
END:VEVENT
BEGIN:VEVENT
DTSTART;VALUE=DATE:20220815
DTEND;VALUE=DATE:20220816
DTSTAMP:20260420T041728
CREATED:20220105T201540Z
LAST-MODIFIED:20220105T201540Z
UID:24595-1660521600-1660607999@macdnet.org
SUMMARY:Farm and Ranch Stress Assistance Network Mini-Grant Opportunity
DESCRIPTION:Farm and Ranch Stress Assistance Network Mini-Grant Opportunity\nThe application for the Farm and Ranch Stress Assistance Network Mini-Grant program is now open! This program was created to address mental health needs in rural communities and the agriculture industry through the use of mental health speakers\, workshops and new or expanding trainings that support emotional\, psychological\, and social well-being. \nLearn More
URL:https://macdnet.org/event-calendar/farm-and-ranch-stress-assistance-network-mini-grant-opportunity/
CATEGORIES:Funding and Opportunities
ATTACH;FMTTYPE=image/png:https://macdnet.org/wp-content/uploads/2022/01/montana-department-of-agriculture.png
END:VEVENT
BEGIN:VEVENT
DTSTART;TZID=America/Denver:20220817T100000
DTEND;TZID=America/Denver:20220817T120000
DTSTAMP:20260420T041728
CREATED:20220119T234558Z
LAST-MODIFIED:20220721T212149Z
UID:25096-1660730400-1660737600@macdnet.org
SUMMARY:Employee Roundtable
DESCRIPTION:[vc_row][vc_column][vc_column_text]Employee Roundtable | Aug 17 @ 10 am\nDNRC will be rolling out their new CD Project Grants and you will be able to get all (or at least most) of the details that day. \nEO Roundtable Meetings usually meet on the third Wednesday of the month. For this month’s zoom information contact Chris Evans (chris@lewisandclarkcd.org).[/vc_column_text][/vc_column][/vc_row]
URL:https://macdnet.org/event-calendar/employee-roundtable-2-2022-08-17/
LOCATION:Zoom
CATEGORIES:Events Calendar,Meetings,Trainings and Workshops
END:VEVENT
BEGIN:VEVENT
DTSTART;TZID=America/Denver:20220818T100000
DTEND;TZID=America/Denver:20220818T110000
DTSTAMP:20260420T041728
CREATED:20220817T204806Z
LAST-MODIFIED:20220817T204824Z
UID:30969-1660816800-1660820400@macdnet.org
SUMMARY:CD Admin Exit Procedures
DESCRIPTION:[vc_row][vc_column][vc_column_text]\nDon’t forget that there’s a meeting at 10 am on Thursday the 18th for this topic.  I’m attaching my list to-date.  Whether you can be on the zoom or not\, if you have input\, please feel free to forward it to me. \nWe were supposed to have had an IT person from the USDA on this meeting\, but they apparently couldn’t make it to this one.  We’ll have another one of these meetings and hopefully\, they can make that one. \nDusty Olsen prompted me recently to consider what the CD supervisors are responsible for.  If you want to forward this to your supervisors\, please feel free to do so!  If anyone has guidance on that\, I’d appreciate it.  I asked my board and they have no idea what they have to do when there’s an admin change. \nZoom Information \nhttps://us02web.zoom.us/j/81770492909?pwd=SlJyTXNBeXBRUnJYVWZNak4xT0NkQT09 \n[/vc_column_text][/vc_column][/vc_row]
URL:https://macdnet.org/event-calendar/30969/
LOCATION:Zoom
CATEGORIES:Meetings
END:VEVENT
BEGIN:VEVENT
DTSTART;TZID=America/Denver:20220822T100000
DTEND;TZID=America/Denver:20220822T110000
DTSTAMP:20260420T041728
CREATED:20220818T083224Z
LAST-MODIFIED:20220819T171603Z
UID:31008-1661162400-1661166000@macdnet.org
SUMMARY:Soil Team Office Hours
DESCRIPTION:[vc_row][vc_column][vc_column_text]\nBSWC Soils Team Funding Available:\nMACD and Little Beaver CD\, with the support of the DNRC Conservation Districts Bureau\, have funding for conservation districts and partners to host BSWC members focused on soils-related programs and projects as part of a ‘Soils Team’ pilot. \nMeeting Information\nSoils Team  Info Session – Monday\, August 22nd at 10:00am \nZoom Meeting Link: https://us06web.zoom.us/j/81392961567?pwd=eWRLb1RZS3lVV1RKSWFGRnRTd2FiQT09\nMeeting ID: 813 9296 1567 Passcode: 110161 Call-in Number: +12532158782 or +13462487799 \n[/vc_column_text][/vc_column][/vc_row]
URL:https://macdnet.org/event-calendar/soil-team-office-hours-2/
LOCATION:Zoom
CATEGORIES:Funding and Opportunities,Meetings
END:VEVENT
BEGIN:VEVENT
DTSTART;TZID=America/Denver:20220824T090000
DTEND;TZID=America/Denver:20220824T100000
DTSTAMP:20260420T041728
CREATED:20220818T083413Z
LAST-MODIFIED:20220819T171823Z
UID:31010-1661331600-1661335200@macdnet.org
SUMMARY:BSWC Intro Call
DESCRIPTION:[vc_row][vc_column][vc_column_text]This will be an introduction/orientation webinar for anyone interested in potentially hosting a BSWC member(s) for the first time. This one-hour virtual meeting will cover the basics of the BSWC program and address questions of potential first-time host sites and supervisors. It is NOT required but highly recommended for any first time host site partners/supervisors. \nBSWC Intro Call – Wednesday\, August 24th @ 9:00am\nZoom Meeting Link: https://us06web.zoom.us/j/86735831500\nCall-in Number: (669)-900-6833\nMeeting ID: 867 3583 1500 \n[/vc_column_text][/vc_column][/vc_row]
URL:https://macdnet.org/event-calendar/bswc-intro-call/
LOCATION:Zoom
CATEGORIES:Funding and Opportunities,Meetings
END:VEVENT
BEGIN:VEVENT
DTSTART;TZID=America/Denver:20220824T100000
DTEND;TZID=America/Denver:20220824T120000
DTSTAMP:20260420T041728
CREATED:20220216T205945Z
LAST-MODIFIED:20220817T204410Z
UID:25846-1661335200-1661342400@macdnet.org
SUMMARY:Education Committee Meeting
DESCRIPTION:[vc_row][vc_column][vc_column_text]\nEducation Committee Meeting\nThe MACD Education Committee meets monthly on the 4th Wednesday of each month. For zoom information and other meeting information\, contact Chris Evans (chris@lewisandclarkcd.org). For additional information about the education committee such as previous meeting minutes and agenda items\, visit the education committee blog: education.macdnet.org.[/vc_column_text][vc_row_inner][vc_column_inner][vc_column_text]\nAugust 24\, 2022 Draft Agenda for the Education Committee\n\nCall to order\nApproval of past meeting minutes (April)\nResolutions\n\nNew format for resolutions\nDiscussion about any resolutions pertinent to Education Committee\n\n\nPoster Contest\nUpdates:\n\nDNRC\nMACD\nMCDEO\nCDOWG\nRolling Rivers Trailers\n\n\nQuarterly reporting/Annual report for MACD\nContinuity document for transitions\nWhat’s next as the Ed Committee transitions to a work group\n\nZoom Information \nMonthly: https://us06web.zoom.us/meeting/tZcrf-CurTwiGtWbsLvBE6TiTl6CRWGD_HG-/ics?icsToken=98tyKuGrqDMjHNeSuBmGRpwqBIqgXe7ztmZHjbdqngzJFQJ2NDf_Au4UEYBIN_zv \nJoin Zoom Meeting\nhttps://us06web.zoom.us/j/83689637801?pwd=YUhiYmxleFd6RFlYdWptSnE0cVdydz09 \n[/vc_column_text][/vc_column_inner][/vc_row_inner][/vc_column][/vc_row][vc_row][vc_column][vc_wp_rss items=”3″ title=”Recent Posts from the Education Blog” url=”https://education.macdnet.org/”][/vc_column][/vc_row]
URL:https://macdnet.org/event-calendar/education-committee-2-2022-03-23-2022-08-24/
LOCATION:Zoom
CATEGORIES:Meetings
ATTACH;FMTTYPE=image/jpeg:https://macdnet.org/wp-content/uploads/2022/02/MACD-logo-state-square-clear-background-1.jpg
END:VEVENT
BEGIN:VEVENT
DTSTART;TZID=America/Denver:20220824T130000
DTEND;TZID=America/Denver:20220824T140000
DTSTAMP:20260420T041728
CREATED:20220818T083051Z
LAST-MODIFIED:20220819T171427Z
UID:31005-1661346000-1661349600@macdnet.org
SUMMARY:Soil Team Office Hours
DESCRIPTION:[vc_row][vc_column][vc_column_text]\nBSWC Soils Team Funding Available:\nMACD and Little Beaver CD\, with the support of the DNRC Conservation Districts Bureau\, have funding for conservation districts and partners to host BSWC members focused on soils-related programs and projects as part of a ‘Soils Team’ pilot. \nMeeting Information\nSoils Team  Info Session – Wednesday\, August 24th at 1:00pm \nhttps://us06web.zoom.us/j/83854270571?pwd=UitRd2ZqZWp1d2w3N21YMzBtdXB6QT09 \nMeeting ID: 838 5427 0571 Passcode: 087119 Call-in Number: +12532158782 or +13462487799 \n[/vc_column_text][/vc_column][/vc_row]
URL:https://macdnet.org/event-calendar/soil-team-office-hours/
LOCATION:Zoom
CATEGORIES:Meetings
END:VEVENT
BEGIN:VEVENT
DTSTART;TZID=America/Denver:20220825T120000
DTEND;TZID=America/Denver:20220825T133000
DTSTAMP:20260420T041728
CREATED:20220407T171519Z
LAST-MODIFIED:20220721T184313Z
UID:27351-1661428800-1661434200@macdnet.org
SUMMARY:Leadership Training Series: Working with Volunteers
DESCRIPTION:[vc_row][vc_column][vc_column_text]\nLeadership Training Series\nMACD 2022 Virtual Leadership Training Series for Conservation District Supervisors\, Employees\, and Partners.\nThe 2022 MACD Leadership Training series will consist of five\, 75-minute sessions surrounding leadership topics relevant to conservation district staff. board\, and officials.\nSessions will be delivered live by Shannon Stober and recorded for viewing. \nRecorded sessions will be housed on the MACD membership website. \n\nWorking with the Community  |  June 23\nWorking with Projects  |  July 21\nWorking with Volunteers  |  August 25\nWorking with Staff  |  September 22\nWorking with Boards  |  October 20\n\nZoom: https://us06web.zoom.us/j/6536456726 \n[/vc_column_text][vc_single_image image=”27347″][/vc_column][/vc_row][vc_row][vc_column][vc_raw_html]JTNDc3R5bGUlM0UlMEEudHJpYmUtZXZlbnRzLWV2ZW50LWltYWdlJTdCJTBBZGlzcGxheSUzQSUyMG5vbmUlM0IlMEElN0QlMEElM0MlMkZzdHlsZSUzRQ==[/vc_raw_html][/vc_column][/vc_row]
URL:https://macdnet.org/event-calendar/leadership-training-series-working-with-the-community-2022-06-30-2022-08-25/
LOCATION:Zoom
CATEGORIES:Trainings and Workshops
ATTACH;FMTTYPE=image/png:https://macdnet.org/wp-content/uploads/2022/04/Screen-Shot-2022-04-07-at-11.17.23-AM.png
END:VEVENT
BEGIN:VEVENT
DTSTART;VALUE=DATE:20220829
DTEND;VALUE=DATE:20220902
DTSTAMP:20260420T041728
CREATED:20220706T184647Z
LAST-MODIFIED:20220706T184647Z
UID:29504-1661731200-1662076799@macdnet.org
SUMMARY:Montana Tree Worker Academy
DESCRIPTION:[vc_row][vc_column][vc_column_text]\n\nMontana Tree Worker Academy\n\n\nThe Montana Urban and Community Forestry Association (MUCFA)\, City of Helena\, and ISA Rocky Mountain Chapter are offering four-days of hands on Tree Worker training.\nAugust 29 – September 1\, 2022 \nBrochure  |  Website \n\nMemorial Park\, Helena\, Montana \n\n\nGoal: To help prepare arborists to take the ISA Tree Worker Specialist practical exam.\nWho Should Attend: Anyone who works with trees in the field. (Grounds person\, beginning arborist\, advanced arborist)\nInstructors:  We will have two instructors on site. Combined they have over 40 years of experience in tree work.  Training will include indoor and outdoor hands-on experience.\n\n\n[/vc_column_text][/vc_column][/vc_row]
URL:https://macdnet.org/event-calendar/montana-tree-worker-academy/
LOCATION:Helena\, Montana\, Helena\, MT\, 59601\, United States
END:VEVENT
BEGIN:VEVENT
DTSTART;VALUE=DATE:20220830
DTEND;VALUE=DATE:20220901
DTSTAMP:20260420T041728
CREATED:20220721T210400Z
LAST-MODIFIED:20220721T210757Z
UID:30339-1661817600-1661990399@macdnet.org
SUMMARY:2022 Range Tour
DESCRIPTION:[vc_row][vc_column][vc_column_text]\n2022 Range Tour \nAttached is the registration form for this years Montana Range Tour.  If you would like to register online by use of a credit/debit card\, please email: secretary@cascadecd.com and an invoice will be sent to you for payment.  You can also send in your registration form with a check to Cascade Conservation District at 600 6th Street NW Suite 1\, Great Falls MT 59404. \n\n2022 RANGE TOUR POSTER\nRange Tour Registration\n\nIf you have any questions please call 406-403-3767. \nWe look forward to seeing you August 30th & 31st\, 2022 at Great Falls International Airport.[/vc_column_text][/vc_column][/vc_row]
URL:https://macdnet.org/event-calendar/2022-range-tour/
LOCATION:Great Falls\, Great Falls\, MT\, United States
CATEGORIES:Events Calendar
ATTACH;FMTTYPE=image/png:https://macdnet.org/wp-content/uploads/2022/07/Screen-Shot-2022-07-21-at-2.48.48-PM.png
END:VEVENT
END:VCALENDAR