BEGIN:VCALENDAR
VERSION:2.0
PRODID:-//Montana Association of Conservation Districts - ECPv6.15.20//NONSGML v1.0//EN
CALSCALE:GREGORIAN
METHOD:PUBLISH
X-ORIGINAL-URL:https://macdnet.org
X-WR-CALDESC:Events for Montana Association of Conservation Districts
REFRESH-INTERVAL;VALUE=DURATION:PT1H
X-Robots-Tag:noindex
X-PUBLISHED-TTL:PT1H
BEGIN:VTIMEZONE
TZID:America/Denver
BEGIN:DAYLIGHT
TZOFFSETFROM:-0700
TZOFFSETTO:-0600
TZNAME:MDT
DTSTART:20270314T090000
END:DAYLIGHT
BEGIN:STANDARD
TZOFFSETFROM:-0600
TZOFFSETTO:-0700
TZNAME:MST
DTSTART:20271107T080000
END:STANDARD
BEGIN:DAYLIGHT
TZOFFSETFROM:-0700
TZOFFSETTO:-0600
TZNAME:MDT
DTSTART:20280312T090000
END:DAYLIGHT
BEGIN:STANDARD
TZOFFSETFROM:-0600
TZOFFSETTO:-0700
TZNAME:MST
DTSTART:20281105T080000
END:STANDARD
BEGIN:DAYLIGHT
TZOFFSETFROM:-0700
TZOFFSETTO:-0600
TZNAME:MDT
DTSTART:20290311T090000
END:DAYLIGHT
BEGIN:STANDARD
TZOFFSETFROM:-0600
TZOFFSETTO:-0700
TZNAME:MST
DTSTART:20291104T080000
END:STANDARD
END:VTIMEZONE
BEGIN:VEVENT
DTSTART;TZID=America/Denver:20280315T190000
DTEND;TZID=America/Denver:20280315T220000
DTSTAMP:20260422T164619
CREATED:20210920T235808Z
LAST-MODIFIED:20210920T235808Z
UID:112547-1836759600-1836770400@macdnet.org
SUMMARY:BHWC Monthly Meeting
DESCRIPTION:
URL:https://macdnet.org/event-calendar/__trashed-87__trashed/2028-03-15/
CATEGORIES:Miscellaneous
END:VEVENT
BEGIN:VEVENT
DTSTART;TZID=America/Denver:20280316T093000
DTEND;TZID=America/Denver:20280316T143000
DTSTAMP:20260422T164619
CREATED:20210920T235804Z
LAST-MODIFIED:20210920T235804Z
UID:112711-1836811800-1836829800@macdnet.org
SUMMARY:Gallatin CD Meeting
DESCRIPTION:Please go to the Gallatin CD website https://gallatin.macdnet.org/ for more info.
URL:https://macdnet.org/event-calendar/__trashed-70__trashed/2028-03-16/
CATEGORIES:CD Board Meetings
END:VEVENT
BEGIN:VEVENT
DTSTART;TZID=America/Denver:20280316T170000
DTEND;TZID=America/Denver:20280316T170000
DTSTAMP:20260422T164619
CREATED:20210920T235800Z
LAST-MODIFIED:20210920T235800Z
UID:112710-1836838800-1836838800@macdnet.org
SUMMARY:Hill County CD Meeting
DESCRIPTION:
URL:https://macdnet.org/event-calendar/__trashed-53__trashed/2028-03-16/
CATEGORIES:CD Board Meetings
END:VEVENT
BEGIN:VEVENT
DTSTART;TZID=America/Denver:20280316T190000
DTEND;TZID=America/Denver:20280316T190000
DTSTAMP:20260422T164619
CREATED:20210920T235801Z
LAST-MODIFIED:20210920T235801Z
UID:112709-1836846000-1836846000@macdnet.org
SUMMARY:Glacier County CD Meeting
DESCRIPTION:
URL:https://macdnet.org/event-calendar/__trashed-55__trashed/2028-03-16/
CATEGORIES:CD Board Meetings
END:VEVENT
BEGIN:VEVENT
DTSTART;TZID=America/Denver:20280316T190000
DTEND;TZID=America/Denver:20280316T190000
DTSTAMP:20260422T164619
CREATED:20210920T235804Z
LAST-MODIFIED:20210920T235804Z
UID:112712-1836846000-1836846000@macdnet.org
SUMMARY:Beaverhead CD Meeting
DESCRIPTION:Please go to the Beaverhead CD website at http://www.beaverheadwatershed.org/beaverhead-conservation-district/ for more information.
URL:https://macdnet.org/event-calendar/__trashed-72__trashed/2028-03-16/
CATEGORIES:CD Board Meetings
END:VEVENT
BEGIN:VEVENT
DTSTART;TZID=America/Denver:20280316T193000
DTEND;TZID=America/Denver:20280316T220000
DTSTAMP:20260422T164619
CREATED:20210920T235801Z
LAST-MODIFIED:20210920T235801Z
UID:112713-1836847800-1836856800@macdnet.org
SUMMARY:Lower Musselshell CD Meeting
DESCRIPTION:Please go to the Lower Musselshell CD website http://lmcdistrict.com/ for more info.
URL:https://macdnet.org/event-calendar/__trashed-54__trashed/2028-03-16/
CATEGORIES:CD Board Meetings
END:VEVENT
BEGIN:VEVENT
DTSTART;TZID=America/Denver:20280320T073000
DTEND;TZID=America/Denver:20280320T090000
DTSTAMP:20260422T164619
CREATED:20220202T204005Z
LAST-MODIFIED:20220202T204005Z
UID:112890-1837150200-1837155600@macdnet.org
SUMMARY:MACD Board Meeting
DESCRIPTION:[vc_row][vc_column][vc_column_text]The MACD Board will meet on the second Monday of the Month at 7:30am. Contact Rebecca Boslough for meeting details.[/vc_column_text][/vc_column][/vc_row]
URL:https://macdnet.org/event-calendar/macd-board-meeting-3/2028-03-20/
LOCATION:Zoom
CATEGORIES:Meetings
ATTACH;FMTTYPE=image/png:https://macdnet.org/wp-content/uploads/2021/12/macd-draft-3.png
END:VEVENT
BEGIN:VEVENT
DTSTART;TZID=America/Denver:20280320T073000
DTEND;TZID=America/Denver:20280320T093000
DTSTAMP:20260422T164619
CREATED:20230915T212232Z
LAST-MODIFIED:20230915T212232Z
UID:112889-1837150200-1837157400@macdnet.org
SUMMARY:MACD Board Meeting
DESCRIPTION:[vc_row][vc_column][vc_column_text]The MACD Board meets on the third Monday of the Month at 7:30am via zoom. Contact Rebecca Boslough for meeting details. \nhttps://macdnet.org/about-us/board-organization-documents/[/vc_column_text][/vc_column][/vc_row]
URL:https://macdnet.org/event-calendar/macd-board-meeting-5/2028-03-20/
LOCATION:Zoom
CATEGORIES:Meetings
ATTACH;FMTTYPE=image/png:https://macdnet.org/wp-content/uploads/2021/12/macd-draft-3.png
END:VEVENT
BEGIN:VEVENT
DTSTART;TZID=America/Denver:20280321T070000
DTEND;TZID=America/Denver:20280321T070000
DTSTAMP:20260422T164619
CREATED:20210920T235805Z
LAST-MODIFIED:20210920T235805Z
UID:112926-1837234800-1837234800@macdnet.org
SUMMARY:Jefferson Valley CD Meeting
DESCRIPTION:
URL:https://macdnet.org/event-calendar/__trashed-73__trashed/2028-03-21/
CATEGORIES:CD Board Meetings
END:VEVENT
BEGIN:VEVENT
DTSTART;TZID=America/Denver:20280321T133000
DTEND;TZID=America/Denver:20280321T173000
DTSTAMP:20260422T164619
CREATED:20210908T032348Z
LAST-MODIFIED:20210908T032348Z
UID:112925-1837258200-1837272600@macdnet.org
SUMMARY:Carter CD Board Meeting
DESCRIPTION:Contact Carter CD for the most up-to-date meeting information.
URL:https://macdnet.org/event-calendar/carter-cd-meeting/2028-03-21/
LOCATION:Carter County CD Office\, 308 Mormon Avenue\, Ekalaka\, MT\, 59324
END:VEVENT
BEGIN:VEVENT
DTSTART;TZID=America/Denver:20280321T171500
DTEND;TZID=America/Denver:20280321T171500
DTSTAMP:20260422T164619
CREATED:20210920T235755Z
LAST-MODIFIED:20210920T235755Z
UID:112927-1837271700-1837271700@macdnet.org
SUMMARY:Blaine County CD Meeting
DESCRIPTION:
URL:https://macdnet.org/event-calendar/__trashed-15__trashed/2028-03-21/
CATEGORIES:CD Board Meetings
END:VEVENT
BEGIN:VEVENT
DTSTART;TZID=America/Denver:20280321T180000
DTEND;TZID=America/Denver:20280321T180000
DTSTAMP:20260422T164619
CREATED:20210920T235755Z
LAST-MODIFIED:20210920T235755Z
UID:112928-1837274400-1837274400@macdnet.org
SUMMARY:Mineral County CD Meeting
DESCRIPTION:
URL:https://macdnet.org/event-calendar/__trashed-16__trashed/2028-03-21/
CATEGORIES:CD Board Meetings
END:VEVENT
BEGIN:VEVENT
DTSTART;TZID=America/Denver:20280327T110000
DTEND;TZID=America/Denver:20280327T110000
DTSTAMP:20260422T164619
CREATED:20210920T231535Z
LAST-MODIFIED:20210920T231535Z
UID:113096-1837767600-1837767600@macdnet.org
SUMMARY:Mile High CD Meeting
DESCRIPTION:Please call or email CD administrator Kris Hugulet for more information.
URL:https://macdnet.org/event-calendar/mile-high-cd-meeting-2021-06-28/2028-03-27/
CATEGORIES:CD Board Meetings
END:VEVENT
BEGIN:VEVENT
DTSTART;TZID=America/Denver:20280327T190000
DTEND;TZID=America/Denver:20280327T220000
DTSTAMP:20260422T164619
CREATED:20210920T235109Z
LAST-MODIFIED:20210920T235109Z
UID:113097-1837796400-1837807200@macdnet.org
SUMMARY:Flathead CD Business Meeting
DESCRIPTION:Please see the Flathead CD website http://flatheadcd.org/ for more info.
URL:https://macdnet.org/event-calendar/flathead-cd-business-meeting/2028-03-27/
CATEGORIES:CD Board Meetings
END:VEVENT
BEGIN:VEVENT
DTSTART;TZID=America/Denver:20280328T180000
DTEND;TZID=America/Denver:20280328T190000
DTSTAMP:20260422T164619
CREATED:20220303T180508Z
LAST-MODIFIED:20220303T180508Z
UID:113098-1837879200-1837882800@macdnet.org
SUMMARY:Broadwater Conservation District Monthly Meeting
DESCRIPTION:Monthly Meeting on the fourth Tuesday of every month.
URL:https://macdnet.org/event-calendar/broadwater-conservation-district-monthly-meeting/2028-03-28/
CATEGORIES:CD Board Meetings
END:VEVENT
BEGIN:VEVENT
DTSTART;TZID=America/Denver:20280328T190000
DTEND;TZID=America/Denver:20280328T190000
DTSTAMP:20260422T164619
CREATED:20210920T235759Z
LAST-MODIFIED:20210920T235759Z
UID:113175-1837882800-1837882800@macdnet.org
SUMMARY:Bitterroot CD Meeting
DESCRIPTION:Please see the Bitterroot CD website for more info.
URL:https://macdnet.org/event-calendar/__trashed-47__trashed/2028-03-28/
CATEGORIES:CD Board Meetings
END:VEVENT
BEGIN:VEVENT
DTSTART;TZID=America/Denver:20280403T073000
DTEND;TZID=America/Denver:20280403T090000
DTSTAMP:20260422T164619
CREATED:20220202T204812Z
LAST-MODIFIED:20220202T204812Z
UID:113122-1838359800-1838365200@macdnet.org
SUMMARY:MACD Executive Committee
DESCRIPTION:The MACD Executive Committee meets on the first Monday of the Month at 7:30am via zoom. Contact Rebecca Boslough for meeting details. \nBoard Organization Documents
URL:https://macdnet.org/event-calendar/macd-executive-committee/2028-04-03/
LOCATION:Zoom
CATEGORIES:Meetings
ATTACH;FMTTYPE=image/jpeg:https://macdnet.org/wp-content/uploads/2022/02/MACD-logo-state-square-clear-background-1.jpg
END:VEVENT
BEGIN:VEVENT
DTSTART;TZID=America/Denver:20280403T133000
DTEND;TZID=America/Denver:20280403T133000
DTSTAMP:20260422T164619
CREATED:20210920T235755Z
LAST-MODIFIED:20210920T235755Z
UID:113121-1838381400-1838381400@macdnet.org
SUMMARY:North Powell CD Meeting
DESCRIPTION:
URL:https://macdnet.org/event-calendar/__trashed-17__trashed/2028-04-03/
CATEGORIES:CD Board Meetings
END:VEVENT
BEGIN:VEVENT
DTSTART;TZID=America/Denver:20280404T090000
DTEND;TZID=America/Denver:20280404T170000
DTSTAMP:20260422T164619
CREATED:20210908T031402Z
LAST-MODIFIED:20210908T031402Z
UID:113132-1838451600-1838480400@macdnet.org
SUMMARY:Toole CD Meeting
DESCRIPTION:Contact the conservation district for the most up-to-date meeting information
URL:https://macdnet.org/event-calendar/toole-cd-meeting/2028-04-04/
LOCATION:Shelby USDA Service Center\, 1125 Oilfield Avenue\, Shelby\, 59474\, United States
END:VEVENT
BEGIN:VEVENT
DTSTART;TZID=America/Denver:20280404T110000
DTEND;TZID=America/Denver:20280404T110000
DTSTAMP:20260422T164619
CREATED:20210920T235802Z
LAST-MODIFIED:20210920T235802Z
UID:113127-1838458800-1838458800@macdnet.org
SUMMARY:Park CD Meeting
DESCRIPTION:Please see the Park CD website for more information.
URL:https://macdnet.org/event-calendar/__trashed-59__trashed/2028-04-04/
CATEGORIES:CD Board Meetings
END:VEVENT
BEGIN:VEVENT
DTSTART;TZID=America/Denver:20280404T140000
DTEND;TZID=America/Denver:20280404T140000
DTSTAMP:20260422T164619
CREATED:20210920T235755Z
LAST-MODIFIED:20210920T235755Z
UID:113128-1838469600-1838469600@macdnet.org
SUMMARY:Stillwater CD Meeting
DESCRIPTION:
URL:https://macdnet.org/event-calendar/__trashed-14__trashed/2028-04-04/
CATEGORIES:CD Board Meetings
END:VEVENT
BEGIN:VEVENT
DTSTART;TZID=America/Denver:20280404T173000
DTEND;TZID=America/Denver:20280404T173000
DTSTAMP:20260422T164619
CREATED:20210920T235754Z
LAST-MODIFIED:20210920T235754Z
UID:113125-1838482200-1838482200@macdnet.org
SUMMARY:Custer County CD Meeting
DESCRIPTION:
URL:https://macdnet.org/event-calendar/__trashed-12__trashed/2028-04-04/
CATEGORIES:CD Board Meetings
END:VEVENT
BEGIN:VEVENT
DTSTART;TZID=America/Denver:20280404T190000
DTEND;TZID=America/Denver:20280404T190000
DTSTAMP:20260422T164619
CREATED:20210920T235755Z
LAST-MODIFIED:20210920T235755Z
UID:113126-1838487600-1838487600@macdnet.org
SUMMARY:Judith Basin CD Meeting
DESCRIPTION:
URL:https://macdnet.org/event-calendar/__trashed-19__trashed/2028-04-04/
CATEGORIES:CD Board Meetings
END:VEVENT
BEGIN:VEVENT
DTSTART;TZID=America/Denver:20280404T190000
DTEND;TZID=America/Denver:20280404T190000
DTSTAMP:20260422T164619
CREATED:20210920T235756Z
LAST-MODIFIED:20210920T235756Z
UID:113129-1838487600-1838487600@macdnet.org
SUMMARY:Roosevelt County CD Meeting
DESCRIPTION:Please see the Roosevelt County CD website for more info.
URL:https://macdnet.org/event-calendar/__trashed-20__trashed/2028-04-04/
CATEGORIES:CD Board Meetings
END:VEVENT
BEGIN:VEVENT
DTSTART;TZID=America/Denver:20280404T190000
DTEND;TZID=America/Denver:20280404T190000
DTSTAMP:20260422T164619
CREATED:20210920T235756Z
LAST-MODIFIED:20210920T235756Z
UID:113131-1838487600-1838487600@macdnet.org
SUMMARY:Wibaux CD Meeting
DESCRIPTION:
URL:https://macdnet.org/event-calendar/__trashed-26__trashed/2028-04-04/
CATEGORIES:CD Board Meetings
END:VEVENT
BEGIN:VEVENT
DTSTART;TZID=America/Denver:20280404T190000
DTEND;TZID=America/Denver:20280404T220000
DTSTAMP:20260422T164619
CREATED:20210920T201921Z
LAST-MODIFIED:20210920T201921Z
UID:113123-1838487600-1838498400@macdnet.org
SUMMARY:Roosevelt CD Board Meeting
DESCRIPTION:Contact Roosevelt CD for the most up-to-date meeting information.
URL:https://macdnet.org/event-calendar/roosevelt-cd-board-meeting/2028-04-04/
LOCATION:USDA Culbertson Office\, 508 E 6th\, Culbertson\, MT\, United States
CATEGORIES:CD Board Meetings
END:VEVENT
BEGIN:VEVENT
DTSTART;TZID=America/Denver:20280405T170000
DTEND;TZID=America/Denver:20280405T170000
DTSTAMP:20260422T164619
CREATED:20210920T235801Z
LAST-MODIFIED:20210920T235801Z
UID:113135-1838566800-1838566800@macdnet.org
SUMMARY:Garfield County CD Meeting
DESCRIPTION:
URL:https://macdnet.org/event-calendar/__trashed-58__trashed/2028-04-05/
CATEGORIES:CD Board Meetings
END:VEVENT
BEGIN:VEVENT
DTSTART;TZID=America/Denver:20280405T190000
DTEND;TZID=America/Denver:20280405T190000
DTSTAMP:20260422T164619
CREATED:20210920T235801Z
LAST-MODIFIED:20210920T235801Z
UID:113138-1838574000-1838574000@macdnet.org
SUMMARY:Powder River CD Meeting
DESCRIPTION:
URL:https://macdnet.org/event-calendar/__trashed-56__trashed/2028-04-05/
CATEGORIES:CD Board Meetings
END:VEVENT
BEGIN:VEVENT
DTSTART;TZID=America/Denver:20280405T190000
DTEND;TZID=America/Denver:20280405T190000
DTSTAMP:20260422T164619
CREATED:20210920T235805Z
LAST-MODIFIED:20210920T235805Z
UID:113137-1838574000-1838574000@macdnet.org
SUMMARY:McCone County CD Meeting
DESCRIPTION:Please see the McCone County CD website for more info.
URL:https://macdnet.org/event-calendar/__trashed-74__trashed/2028-04-05/
CATEGORIES:CD Board Meetings
END:VEVENT
BEGIN:VEVENT
DTSTART;TZID=America/Denver:20280405T200000
DTEND;TZID=America/Denver:20280405T200000
DTSTAMP:20260422T164619
CREATED:20210920T235802Z
LAST-MODIFIED:20210920T235802Z
UID:113136-1838577600-1838577600@macdnet.org
SUMMARY:Eastern Sanders County CD Meeting
DESCRIPTION:
URL:https://macdnet.org/event-calendar/__trashed-62__trashed/2028-04-05/
CATEGORIES:CD Board Meetings
END:VEVENT
END:VCALENDAR