BEGIN:VCALENDAR
VERSION:2.0
PRODID:-//Montana Association of Conservation Districts - ECPv6.15.20//NONSGML v1.0//EN
CALSCALE:GREGORIAN
METHOD:PUBLISH
X-ORIGINAL-URL:https://macdnet.org
X-WR-CALDESC:Events for Montana Association of Conservation Districts
REFRESH-INTERVAL;VALUE=DURATION:PT1H
X-Robots-Tag:noindex
X-PUBLISHED-TTL:PT1H
BEGIN:VTIMEZONE
TZID:America/Denver
BEGIN:DAYLIGHT
TZOFFSETFROM:-0700
TZOFFSETTO:-0600
TZNAME:MDT
DTSTART:20260308T090000
END:DAYLIGHT
BEGIN:STANDARD
TZOFFSETFROM:-0600
TZOFFSETTO:-0700
TZNAME:MST
DTSTART:20261101T080000
END:STANDARD
BEGIN:DAYLIGHT
TZOFFSETFROM:-0700
TZOFFSETTO:-0600
TZNAME:MDT
DTSTART:20270314T090000
END:DAYLIGHT
BEGIN:STANDARD
TZOFFSETFROM:-0600
TZOFFSETTO:-0700
TZNAME:MST
DTSTART:20271107T080000
END:STANDARD
BEGIN:DAYLIGHT
TZOFFSETFROM:-0700
TZOFFSETTO:-0600
TZNAME:MDT
DTSTART:20280312T090000
END:DAYLIGHT
BEGIN:STANDARD
TZOFFSETFROM:-0600
TZOFFSETTO:-0700
TZNAME:MST
DTSTART:20281105T080000
END:STANDARD
END:VTIMEZONE
BEGIN:VEVENT
DTSTART;TZID=America/Denver:20271005T090000
DTEND;TZID=America/Denver:20271005T170000
DTSTAMP:20260423T023004
CREATED:20210908T031402Z
LAST-MODIFIED:20210908T031402Z
UID:89314-1822726800-1822755600@macdnet.org
SUMMARY:Toole CD Meeting
DESCRIPTION:Contact the conservation district for the most up-to-date meeting information
URL:https://macdnet.org/event-calendar/toole-cd-meeting/2027-10-05/
LOCATION:Shelby USDA Service Center\, 1125 Oilfield Avenue\, Shelby\, 59474\, United States
END:VEVENT
BEGIN:VEVENT
DTSTART;TZID=America/Denver:20271005T110000
DTEND;TZID=America/Denver:20271005T110000
DTSTAMP:20260423T023004
CREATED:20210920T235802Z
LAST-MODIFIED:20210920T235802Z
UID:89309-1822734000-1822734000@macdnet.org
SUMMARY:Park CD Meeting
DESCRIPTION:Please see the Park CD website for more information.
URL:https://macdnet.org/event-calendar/__trashed-59__trashed/2027-10-05/
LOCATION:MT
CATEGORIES:CD Board Meetings
END:VEVENT
BEGIN:VEVENT
DTSTART;TZID=America/Denver:20271005T140000
DTEND;TZID=America/Denver:20271005T140000
DTSTAMP:20260423T023004
CREATED:20210920T235755Z
LAST-MODIFIED:20210920T235755Z
UID:89310-1822744800-1822744800@macdnet.org
SUMMARY:Stillwater CD Meeting
DESCRIPTION:
URL:https://macdnet.org/event-calendar/__trashed-14__trashed/2027-10-05/
LOCATION:MT
CATEGORIES:CD Board Meetings
END:VEVENT
BEGIN:VEVENT
DTSTART;TZID=America/Denver:20271005T173000
DTEND;TZID=America/Denver:20271005T173000
DTSTAMP:20260423T023004
CREATED:20210920T235754Z
LAST-MODIFIED:20210920T235754Z
UID:89307-1822757400-1822757400@macdnet.org
SUMMARY:Custer County CD Meeting
DESCRIPTION:
URL:https://macdnet.org/event-calendar/__trashed-12__trashed/2027-10-05/
LOCATION:MT
CATEGORIES:CD Board Meetings
END:VEVENT
BEGIN:VEVENT
DTSTART;TZID=America/Denver:20271005T190000
DTEND;TZID=America/Denver:20271005T190000
DTSTAMP:20260423T023004
CREATED:20210920T235755Z
LAST-MODIFIED:20210920T235755Z
UID:89308-1822762800-1822762800@macdnet.org
SUMMARY:Judith Basin CD Meeting
DESCRIPTION:
URL:https://macdnet.org/event-calendar/__trashed-19__trashed/2027-10-05/
LOCATION:MT
CATEGORIES:CD Board Meetings
END:VEVENT
BEGIN:VEVENT
DTSTART;TZID=America/Denver:20271005T190000
DTEND;TZID=America/Denver:20271005T190000
DTSTAMP:20260423T023004
CREATED:20210920T235756Z
LAST-MODIFIED:20210920T235756Z
UID:89311-1822762800-1822762800@macdnet.org
SUMMARY:Roosevelt County CD Meeting
DESCRIPTION:Please see the Roosevelt County CD website for more info.
URL:https://macdnet.org/event-calendar/__trashed-20__trashed/2027-10-05/
LOCATION:MT
CATEGORIES:CD Board Meetings
END:VEVENT
BEGIN:VEVENT
DTSTART;TZID=America/Denver:20271005T190000
DTEND;TZID=America/Denver:20271005T190000
DTSTAMP:20260423T023004
CREATED:20210920T235756Z
LAST-MODIFIED:20210920T235756Z
UID:89313-1822762800-1822762800@macdnet.org
SUMMARY:Wibaux CD Meeting
DESCRIPTION:
URL:https://macdnet.org/event-calendar/__trashed-26__trashed/2027-10-05/
LOCATION:MT
CATEGORIES:CD Board Meetings
END:VEVENT
BEGIN:VEVENT
DTSTART;TZID=America/Denver:20271005T190000
DTEND;TZID=America/Denver:20271005T220000
DTSTAMP:20260423T023004
CREATED:20210920T201921Z
LAST-MODIFIED:20210920T201921Z
UID:89305-1822762800-1822773600@macdnet.org
SUMMARY:Roosevelt CD Board Meeting
DESCRIPTION:Contact Roosevelt CD for the most up-to-date meeting information.
URL:https://macdnet.org/event-calendar/roosevelt-cd-board-meeting/2027-10-05/
LOCATION:USDA Culbertson Office\, 508 E 6th\, Culbertson\, MT\, United States
CATEGORIES:CD Board Meetings
END:VEVENT
BEGIN:VEVENT
DTSTART;TZID=America/Denver:20271006T170000
DTEND;TZID=America/Denver:20271006T170000
DTSTAMP:20260423T023004
CREATED:20210920T235801Z
LAST-MODIFIED:20210920T235801Z
UID:89315-1822842000-1822842000@macdnet.org
SUMMARY:Garfield County CD Meeting
DESCRIPTION:
URL:https://macdnet.org/event-calendar/__trashed-58__trashed/2027-10-06/
LOCATION:MT
CATEGORIES:CD Board Meetings
END:VEVENT
BEGIN:VEVENT
DTSTART;TZID=America/Denver:20271006T190000
DTEND;TZID=America/Denver:20271006T190000
DTSTAMP:20260423T023004
CREATED:20210920T235801Z
LAST-MODIFIED:20210920T235801Z
UID:89318-1822849200-1822849200@macdnet.org
SUMMARY:Powder River CD Meeting
DESCRIPTION:
URL:https://macdnet.org/event-calendar/__trashed-56__trashed/2027-10-06/
LOCATION:MT
CATEGORIES:CD Board Meetings
END:VEVENT
BEGIN:VEVENT
DTSTART;TZID=America/Denver:20271006T190000
DTEND;TZID=America/Denver:20271006T190000
DTSTAMP:20260423T023004
CREATED:20210920T235805Z
LAST-MODIFIED:20210920T235805Z
UID:89317-1822849200-1822849200@macdnet.org
SUMMARY:McCone County CD Meeting
DESCRIPTION:Please see the McCone County CD website for more info.
URL:https://macdnet.org/event-calendar/__trashed-74__trashed/2027-10-06/
LOCATION:MT
CATEGORIES:CD Board Meetings
END:VEVENT
BEGIN:VEVENT
DTSTART;TZID=America/Denver:20271006T200000
DTEND;TZID=America/Denver:20271006T200000
DTSTAMP:20260423T023004
CREATED:20210920T235802Z
LAST-MODIFIED:20210920T235802Z
UID:89316-1822852800-1822852800@macdnet.org
SUMMARY:Eastern Sanders County CD Meeting
DESCRIPTION:
URL:https://macdnet.org/event-calendar/__trashed-62__trashed/2027-10-06/
LOCATION:MT
CATEGORIES:CD Board Meetings
END:VEVENT
BEGIN:VEVENT
DTSTART;TZID=America/Denver:20271007T133000
DTEND;TZID=America/Denver:20271007T133000
DTSTAMP:20260423T023004
CREATED:20210920T235805Z
LAST-MODIFIED:20210920T235805Z
UID:89319-1822915800-1822915800@macdnet.org
SUMMARY:Bighorn CD Meeting
DESCRIPTION:
URL:https://macdnet.org/event-calendar/__trashed-75__trashed/2027-10-07/
LOCATION:MT
CATEGORIES:CD Board Meetings
END:VEVENT
BEGIN:VEVENT
DTSTART;TZID=America/Denver:20271007T173000
DTEND;TZID=America/Denver:20271007T193000
DTSTAMP:20260423T023004
CREATED:20210920T235757Z
LAST-MODIFIED:20210920T235757Z
UID:89320-1822930200-1822937400@macdnet.org
SUMMARY:Little Beaver CD Meeting
DESCRIPTION:Please see the Little Beaver CD website for more info.
URL:https://macdnet.org/event-calendar/__trashed-33__trashed/2027-10-07/
LOCATION:MT
CATEGORIES:CD Board Meetings
END:VEVENT
BEGIN:VEVENT
DTSTART;TZID=America/Denver:20271011T070000
DTEND;TZID=America/Denver:20271011T070000
DTSTAMP:20260423T023004
CREATED:20210920T235754Z
LAST-MODIFIED:20210920T235754Z
UID:89519-1823238000-1823238000@macdnet.org
SUMMARY:Teton CD Meeting
DESCRIPTION:
URL:https://macdnet.org/event-calendar/__trashed-11__trashed/2027-10-11/
LOCATION:MT
CATEGORIES:CD Board Meetings
END:VEVENT
BEGIN:VEVENT
DTSTART;TZID=America/Denver:20271011T130000
DTEND;TZID=America/Denver:20271011T133000
DTSTAMP:20260423T023004
CREATED:20210920T235754Z
LAST-MODIFIED:20210920T235754Z
UID:89514-1823259600-1823261400@macdnet.org
SUMMARY:Dawson County CD Meeting
DESCRIPTION:
URL:https://macdnet.org/event-calendar/__trashed-7__trashed/2027-10-11/
LOCATION:MT
CATEGORIES:CD Board Meetings
END:VEVENT
BEGIN:VEVENT
DTSTART;TZID=America/Denver:20271011T170000
DTEND;TZID=America/Denver:20271011T173000
DTSTAMP:20260423T023004
CREATED:20210920T235756Z
LAST-MODIFIED:20210920T235756Z
UID:89520-1823274000-1823275800@macdnet.org
SUMMARY:Sweet Grass County Conservation District
DESCRIPTION:
URL:https://macdnet.org/event-calendar/__trashed-22__trashed/2027-10-11/
LOCATION:MT
CATEGORIES:CD Board Meetings
END:VEVENT
BEGIN:VEVENT
DTSTART;TZID=America/Denver:20271011T173000
DTEND;TZID=America/Denver:20271011T173000
DTSTAMP:20260423T023004
CREATED:20210920T235803Z
LAST-MODIFIED:20210920T235803Z
UID:89513-1823275800-1823275800@macdnet.org
SUMMARY:Missoula Conservation District
DESCRIPTION:
URL:https://macdnet.org/event-calendar/__trashed-66__trashed/2027-10-11/
LOCATION:MT
CATEGORIES:CD Board Meetings
END:VEVENT
BEGIN:VEVENT
DTSTART;TZID=America/Denver:20271011T173000
DTEND;TZID=America/Denver:20271011T173000
DTSTAMP:20260423T023004
CREATED:20210920T235803Z
LAST-MODIFIED:20210920T235803Z
UID:89521-1823275800-1823275800@macdnet.org
SUMMARY:Missoula Conservation District
DESCRIPTION:
URL:https://macdnet.org/event-calendar/__trashed-66__trashed-2024-02-12/2027-10-11/
LOCATION:MT
CATEGORIES:CD Board Meetings
END:VEVENT
BEGIN:VEVENT
DTSTART;TZID=America/Denver:20271011T190000
DTEND;TZID=America/Denver:20271011T190000
DTSTAMP:20260423T023004
CREATED:20210920T235756Z
LAST-MODIFIED:20210920T235756Z
UID:89517-1823281200-1823281200@macdnet.org
SUMMARY:Meagher County Conservation District
DESCRIPTION:
URL:https://macdnet.org/event-calendar/__trashed-24__trashed/2027-10-11/
LOCATION:MT
CATEGORIES:CD Board Meetings
END:VEVENT
BEGIN:VEVENT
DTSTART;TZID=America/Denver:20271011T190000
DTEND;TZID=America/Denver:20271011T190000
DTSTAMP:20260423T023004
CREATED:20210920T235800Z
LAST-MODIFIED:20210920T235800Z
UID:89515-1823281200-1823281200@macdnet.org
SUMMARY:Flathead CD 310 Meeting
DESCRIPTION:
URL:https://macdnet.org/event-calendar/__trashed-52__trashed/2027-10-11/
LOCATION:MT
CATEGORIES:CD Board Meetings
END:VEVENT
BEGIN:VEVENT
DTSTART;TZID=America/Denver:20271011T193000
DTEND;TZID=America/Denver:20271011T193000
DTSTAMP:20260423T023004
CREATED:20210920T235757Z
LAST-MODIFIED:20210920T235757Z
UID:89518-1823283000-1823283000@macdnet.org
SUMMARY:Pondera County CD Meeting
DESCRIPTION:
URL:https://macdnet.org/event-calendar/__trashed-34__trashed/2027-10-11/
LOCATION:MT
CATEGORIES:CD Board Meetings
END:VEVENT
BEGIN:VEVENT
DTSTART;TZID=America/Denver:20271011T193000
DTEND;TZID=America/Denver:20271011T193000
DTSTAMP:20260423T023004
CREATED:20210920T235757Z
LAST-MODIFIED:20210920T235757Z
UID:89516-1823283000-1823283000@macdnet.org
SUMMARY:Granite Conservation District
DESCRIPTION:
URL:https://macdnet.org/event-calendar/__trashed-30__trashed/2027-10-11/
LOCATION:MT
CATEGORIES:CD Board Meetings
END:VEVENT
BEGIN:VEVENT
DTSTART;TZID=America/Denver:20271012T090000
DTEND;TZID=America/Denver:20271012T090000
DTSTAMP:20260423T023004
CREATED:20210920T235757Z
LAST-MODIFIED:20210920T235757Z
UID:89661-1823331600-1823331600@macdnet.org
SUMMARY:Sheridan County CD Meeting
DESCRIPTION:
URL:https://macdnet.org/event-calendar/__trashed-31__trashed/2027-10-12/
LOCATION:MT
CATEGORIES:CD Board Meetings
END:VEVENT
BEGIN:VEVENT
DTSTART;TZID=America/Denver:20271012T130000
DTEND;TZID=America/Denver:20271012T130000
DTSTAMP:20260423T023004
CREATED:20210920T235757Z
LAST-MODIFIED:20210920T235757Z
UID:89662-1823346000-1823346000@macdnet.org
SUMMARY:Phillips CD Meeting
DESCRIPTION:
URL:https://macdnet.org/event-calendar/__trashed-28__trashed/2027-10-12/
LOCATION:MT
CATEGORIES:CD Board Meetings
END:VEVENT
BEGIN:VEVENT
DTSTART;TZID=America/Denver:20271012T183000
DTEND;TZID=America/Denver:20271012T183000
DTSTAMP:20260423T023004
CREATED:20210920T235803Z
LAST-MODIFIED:20210920T235803Z
UID:89660-1823365800-1823365800@macdnet.org
SUMMARY:Deer Lodge Valley CD Meeting
DESCRIPTION:
URL:https://macdnet.org/event-calendar/__trashed-67__trashed/2027-10-12/
LOCATION:MT
CATEGORIES:CD Board Meetings
END:VEVENT
BEGIN:VEVENT
DTSTART;TZID=America/Denver:20271012T190000
DTEND;TZID=America/Denver:20271012T190000
DTSTAMP:20260423T023004
CREATED:20210920T235757Z
LAST-MODIFIED:20210920T235757Z
UID:89663-1823367600-1823367600@macdnet.org
SUMMARY:Treasure County CD Meeting
DESCRIPTION:
URL:https://macdnet.org/event-calendar/__trashed-32__trashed/2027-10-12/
LOCATION:MT
CATEGORIES:CD Board Meetings
END:VEVENT
BEGIN:VEVENT
DTSTART;TZID=America/Denver:20271012T190000
DTEND;TZID=America/Denver:20271012T190000
DTSTAMP:20260423T023004
CREATED:20210920T235759Z
LAST-MODIFIED:20210920T235759Z
UID:89657-1823367600-1823367600@macdnet.org
SUMMARY:Bitterroot CD Meeting
DESCRIPTION:Please see the Bitterroot CD website for more info.
URL:https://macdnet.org/event-calendar/__trashed-47__trashed/2027-10-12/
LOCATION:MT
CATEGORIES:CD Board Meetings
END:VEVENT
BEGIN:VEVENT
DTSTART;TZID=America/Denver:20271013T073000
DTEND;TZID=America/Denver:20271013T083000
DTSTAMP:20260423T023004
CREATED:20231228T222059Z
LAST-MODIFIED:20231228T222059Z
UID:89806-1823412600-1823416200@macdnet.org
SUMMARY:MACD Finance Committee
DESCRIPTION:The MACD Finance Committee meets on the second Wednesday of the Month at 7:30am via zoom. (This is typically the Wednesday prior to MACD Board Meetings). Contact Rebecca Boslough for meeting details.
URL:https://macdnet.org/event-calendar/macd-finance-committee-4/2027-10-13/
LOCATION:Zoom
END:VEVENT
BEGIN:VEVENT
DTSTART;TZID=America/Denver:20271013T090000
DTEND;TZID=America/Denver:20271013T090000
DTSTAMP:20260423T023004
CREATED:20210920T235756Z
LAST-MODIFIED:20210920T235756Z
UID:89805-1823418000-1823418000@macdnet.org
SUMMARY:Yellowstone CD Meeting
DESCRIPTION:
URL:https://macdnet.org/event-calendar/__trashed-21__trashed/2027-10-13/
LOCATION:MT
CATEGORIES:CD Board Meetings
END:VEVENT
END:VCALENDAR