BEGIN:VCALENDAR
VERSION:2.0
PRODID:-//Montana Association of Conservation Districts - ECPv6.15.20//NONSGML v1.0//EN
CALSCALE:GREGORIAN
METHOD:PUBLISH
X-WR-CALNAME:Montana Association of Conservation Districts
X-ORIGINAL-URL:https://macdnet.org
X-WR-CALDESC:Events for Montana Association of Conservation Districts
REFRESH-INTERVAL;VALUE=DURATION:PT1H
X-Robots-Tag:noindex
X-PUBLISHED-TTL:PT1H
BEGIN:VTIMEZONE
TZID:America/Denver
BEGIN:DAYLIGHT
TZOFFSETFROM:-0700
TZOFFSETTO:-0600
TZNAME:MDT
DTSTART:20240310T090000
END:DAYLIGHT
BEGIN:STANDARD
TZOFFSETFROM:-0600
TZOFFSETTO:-0700
TZNAME:MST
DTSTART:20241103T080000
END:STANDARD
BEGIN:DAYLIGHT
TZOFFSETFROM:-0700
TZOFFSETTO:-0600
TZNAME:MDT
DTSTART:20250309T090000
END:DAYLIGHT
BEGIN:STANDARD
TZOFFSETFROM:-0600
TZOFFSETTO:-0700
TZNAME:MST
DTSTART:20251102T080000
END:STANDARD
BEGIN:DAYLIGHT
TZOFFSETFROM:-0700
TZOFFSETTO:-0600
TZNAME:MDT
DTSTART:20260308T090000
END:DAYLIGHT
BEGIN:STANDARD
TZOFFSETFROM:-0600
TZOFFSETTO:-0700
TZNAME:MST
DTSTART:20261101T080000
END:STANDARD
END:VTIMEZONE
BEGIN:VEVENT
DTSTART;VALUE=DATE:20250708
DTEND;VALUE=DATE:20250711
DTSTAMP:20260421T163542
CREATED:20250407T143326Z
LAST-MODIFIED:20250407T143344Z
UID:63605-1751932800-1752191999@macdnet.org
SUMMARY:2025 Goal-Based Grazing School
DESCRIPTION:2025 Goal-Based Grazing School\nJuly 8-10  \nBrusett\, MT  \nClick here for more information.
URL:https://macdnet.org/event-calendar/2025-goal-based-grazing-school/
CATEGORIES:Events Calendar
END:VEVENT
BEGIN:VEVENT
DTSTART;TZID=America/Denver:20250708T090000
DTEND;TZID=America/Denver:20250708T090000
DTSTAMP:20260421T163542
CREATED:20210920T235757Z
LAST-MODIFIED:20210920T235757Z
UID:38451-1751965200-1751965200@macdnet.org
SUMMARY:Sheridan County CD Meeting
DESCRIPTION:
URL:https://macdnet.org/event-calendar/__trashed-31__trashed/2025-07-08/
CATEGORIES:CD Board Meetings
END:VEVENT
BEGIN:VEVENT
DTSTART;TZID=America/Denver:20250708T130000
DTEND;TZID=America/Denver:20250708T130000
DTSTAMP:20260421T163542
CREATED:20210920T235757Z
LAST-MODIFIED:20210920T235757Z
UID:38452-1751979600-1751979600@macdnet.org
SUMMARY:Phillips CD Meeting
DESCRIPTION:
URL:https://macdnet.org/event-calendar/__trashed-28__trashed/2025-07-08/
CATEGORIES:CD Board Meetings
END:VEVENT
BEGIN:VEVENT
DTSTART;TZID=America/Denver:20250708T183000
DTEND;TZID=America/Denver:20250708T183000
DTSTAMP:20260421T163542
CREATED:20210920T235803Z
LAST-MODIFIED:20210920T235803Z
UID:38450-1751999400-1751999400@macdnet.org
SUMMARY:Deer Lodge Valley CD Meeting
DESCRIPTION:
URL:https://macdnet.org/event-calendar/__trashed-67__trashed/2025-07-08/
CATEGORIES:CD Board Meetings
END:VEVENT
BEGIN:VEVENT
DTSTART;TZID=America/Denver:20250708T190000
DTEND;TZID=America/Denver:20250708T190000
DTSTAMP:20260421T163542
CREATED:20210920T235757Z
LAST-MODIFIED:20210920T235757Z
UID:38453-1752001200-1752001200@macdnet.org
SUMMARY:Treasure County CD Meeting
DESCRIPTION:
URL:https://macdnet.org/event-calendar/__trashed-32__trashed/2025-07-08/
CATEGORIES:CD Board Meetings
END:VEVENT
BEGIN:VEVENT
DTSTART;TZID=America/Denver:20250708T190000
DTEND;TZID=America/Denver:20250708T190000
DTSTAMP:20260421T163542
CREATED:20210920T235759Z
LAST-MODIFIED:20210920T235759Z
UID:38447-1752001200-1752001200@macdnet.org
SUMMARY:Bitterroot CD Meeting
DESCRIPTION:Please see the Bitterroot CD website for more info.
URL:https://macdnet.org/event-calendar/__trashed-47__trashed/2025-07-08/
CATEGORIES:CD Board Meetings
END:VEVENT
BEGIN:VEVENT
DTSTART;TZID=America/Denver:20250709T073000
DTEND;TZID=America/Denver:20250709T083000
DTSTAMP:20260421T163542
CREATED:20231228T222059Z
LAST-MODIFIED:20231228T222059Z
UID:41028-1752046200-1752049800@macdnet.org
SUMMARY:MACD Finance Committee
DESCRIPTION:The MACD Finance Committee meets on the second Wednesday of the Month at 7:30am via zoom. (This is typically the Wednesday prior to MACD Board Meetings). Contact Rebecca Boslough for meeting details.
URL:https://macdnet.org/event-calendar/macd-finance-committee-4/2025-07-09/
LOCATION:Zoom
END:VEVENT
BEGIN:VEVENT
DTSTART;TZID=America/Denver:20250709T090000
DTEND;TZID=America/Denver:20250709T090000
DTSTAMP:20260421T163542
CREATED:20210920T235756Z
LAST-MODIFIED:20210920T235756Z
UID:38464-1752051600-1752051600@macdnet.org
SUMMARY:Yellowstone CD Meeting
DESCRIPTION:
URL:https://macdnet.org/event-calendar/__trashed-21__trashed/2025-07-09/
CATEGORIES:CD Board Meetings
END:VEVENT
BEGIN:VEVENT
DTSTART;TZID=America/Denver:20250709T130000
DTEND;TZID=America/Denver:20250709T130000
DTSTAMP:20260421T163542
CREATED:20210920T235755Z
LAST-MODIFIED:20210920T235755Z
UID:38462-1752066000-1752066000@macdnet.org
SUMMARY:Daniels County CD Meeting
DESCRIPTION:
URL:https://macdnet.org/event-calendar/__trashed-18__trashed/2025-07-09/
CATEGORIES:CD Board Meetings
END:VEVENT
BEGIN:VEVENT
DTSTART;TZID=America/Denver:20250709T133000
DTEND;TZID=America/Denver:20250709T133000
DTSTAMP:20260421T163542
CREATED:20210920T235754Z
LAST-MODIFIED:20210920T235754Z
UID:38463-1752067800-1752067800@macdnet.org
SUMMARY:Valley County CD Meeting
DESCRIPTION:
URL:https://macdnet.org/event-calendar/__trashed-8__trashed/2025-07-09/
CATEGORIES:CD Board Meetings
END:VEVENT
BEGIN:VEVENT
DTSTART;TZID=America/Denver:20250709T180000
DTEND;TZID=America/Denver:20250709T200000
DTSTAMP:20260421T163542
CREATED:20250506T152003Z
LAST-MODIFIED:20250506T152003Z
UID:68159-1752084000-1752091200@macdnet.org
SUMMARY:Pasture Walks
DESCRIPTION:Pasture Walks\nSecond Wednesday of each month through September 2025  \n06:00PM-08:00PM  \nPetroleum County Community Center \n207 W Main Street  \nWinnett\, MT 59087 \nMay 14: Reseeding Native Perennials \nJune 11: Riparian Restoration & LTBPR w/Clint Smith\, FWP \nJuly 9: Cattle nutrition & forage testing w/Dr. Becca Woodford \nAugust 13: Grazing & Range Health w/Emily Standley\, RMG \nSeptember 10: Conifer Encroachment with ACES Conservation Committee \nFor more information\, contact Kendall at kendall@winnettaces.org. \n 
URL:https://macdnet.org/event-calendar/pasture-walks/2025-07-09/
LOCATION:PETROLEUM COUNTY COMMUNITY CENTER\, 207 W Main Street\, Winnett\, Montana\, 59087
CATEGORIES:Events Calendar
END:VEVENT
BEGIN:VEVENT
DTSTART;TZID=America/Denver:20250709T190000
DTEND;TZID=America/Denver:20250709T190000
DTSTAMP:20260421T163542
CREATED:20210920T235756Z
LAST-MODIFIED:20210920T235756Z
UID:38459-1752087600-1752087600@macdnet.org
SUMMARY:Fergus CD Meeting
DESCRIPTION:
URL:https://macdnet.org/event-calendar/__trashed-23__trashed/2025-07-09/
CATEGORIES:CD Board Meetings
END:VEVENT
BEGIN:VEVENT
DTSTART;TZID=America/Denver:20250709T193000
DTEND;TZID=America/Denver:20250709T193000
DTSTAMP:20260421T163542
CREATED:20210920T235754Z
LAST-MODIFIED:20210920T235754Z
UID:38460-1752089400-1752089400@macdnet.org
SUMMARY:Big Sandy CD Meeting
DESCRIPTION:
URL:https://macdnet.org/event-calendar/__trashed-9__trashed/2025-07-09/
CATEGORIES:CD Board Meetings
END:VEVENT
BEGIN:VEVENT
DTSTART;TZID=America/Denver:20250709T193000
DTEND;TZID=America/Denver:20250709T193000
DTSTAMP:20260421T163542
CREATED:20210920T235802Z
LAST-MODIFIED:20210920T235802Z
UID:38461-1752089400-1752089400@macdnet.org
SUMMARY:Upper Musselshell CD Meeting
DESCRIPTION:
URL:https://macdnet.org/event-calendar/__trashed-60__trashed/2025-07-09/
CATEGORIES:CD Board Meetings
END:VEVENT
BEGIN:VEVENT
DTSTART;TZID=America/Denver:20250710T130000
DTEND;TZID=America/Denver:20250710T130000
DTSTAMP:20260421T163542
CREATED:20210920T235802Z
LAST-MODIFIED:20210920T235802Z
UID:38465-1752152400-1752152400@macdnet.org
SUMMARY:Lewis & Clark CD Meeting
DESCRIPTION:Please see the Lewis & Clark CD website for more info.
URL:https://macdnet.org/event-calendar/__trashed-61__trashed/2025-07-10/
CATEGORIES:CD Board Meetings
END:VEVENT
BEGIN:VEVENT
DTSTART;TZID=America/Denver:20250710T130000
DTEND;TZID=America/Denver:20250710T150000
DTSTAMP:20260421T163542
CREATED:20210922T170514Z
LAST-MODIFIED:20210922T170514Z
UID:38470-1752152400-1752159600@macdnet.org
SUMMARY:Lewis & Clark CD Meeting
DESCRIPTION:Lewis and Clark meets the 2nd Thursday at 1 pm. Summer meetings are different times\, so be sure to check with the conservation district to get the most up-to-date information.
URL:https://macdnet.org/event-calendar/lewis-clark-cd-meeting/2025-07-10/
ORGANIZER;CN="Lewis and Clark Conservation District":MAILTO:lccd@mt.net
END:VEVENT
BEGIN:VEVENT
DTSTART;TZID=America/Denver:20250710T133000
DTEND;TZID=America/Denver:20250710T133000
DTSTAMP:20260421T163542
CREATED:20210920T235759Z
LAST-MODIFIED:20210920T235759Z
UID:38466-1752154200-1752154200@macdnet.org
SUMMARY:Richland County CD Meeting
DESCRIPTION:
URL:https://macdnet.org/event-calendar/__trashed-45__trashed/2025-07-10/
CATEGORIES:CD Board Meetings
END:VEVENT
BEGIN:VEVENT
DTSTART;TZID=America/Denver:20250710T170000
DTEND;TZID=America/Denver:20250710T170000
DTSTAMP:20260421T163542
CREATED:20210920T235805Z
LAST-MODIFIED:20210920T235805Z
UID:38467-1752166800-1752166800@macdnet.org
SUMMARY:Carbon CD Meeting
DESCRIPTION:
URL:https://macdnet.org/event-calendar/__trashed-76__trashed/2025-07-10/
CATEGORIES:CD Board Meetings
END:VEVENT
BEGIN:VEVENT
DTSTART;TZID=America/Denver:20250710T190000
DTEND;TZID=America/Denver:20250710T190000
DTSTAMP:20260421T163542
CREATED:20210920T235758Z
LAST-MODIFIED:20210920T235758Z
UID:38468-1752174000-1752174000@macdnet.org
SUMMARY:Liberty County CD Meeting
DESCRIPTION:
URL:https://macdnet.org/event-calendar/__trashed-36__trashed/2025-07-10/
CATEGORIES:CD Board Meetings
END:VEVENT
BEGIN:VEVENT
DTSTART;TZID=America/Denver:20250710T190000
DTEND;TZID=America/Denver:20250710T190000
DTSTAMP:20260421T163542
CREATED:20210920T235759Z
LAST-MODIFIED:20210920T235759Z
UID:38469-1752174000-1752174000@macdnet.org
SUMMARY:Lake CD Meeting
DESCRIPTION:Please see the Lake County CD website for more info.
URL:https://macdnet.org/event-calendar/__trashed-44__trashed/2025-07-10/
CATEGORIES:CD Board Meetings
END:VEVENT
BEGIN:VEVENT
DTSTART;TZID=America/Denver:20250712T083000
DTEND;TZID=America/Denver:20250712T120000
DTSTAMP:20260421T163542
CREATED:20250401T203634Z
LAST-MODIFIED:20250401T203634Z
UID:62817-1752309000-1752321600@macdnet.org
SUMMARY:SRWG Sun Canyon Weed Whacker Rodeo
DESCRIPTION:SRWG Sun Canyon Weed Whacker Rodeo\nJuly 12  \n8:30AM-12:00PM  \nSun Canyon Lodge \n8571 Sun Canyon Lodge Rd \nAugusta\, MT 59410 \nFor more information\, contact Madison Coyler.
URL:https://macdnet.org/event-calendar/srwg-sun-canyon-weed-whacker-rodeo/
LOCATION:Sun Canyon Lodge\, 8571 Sun Canyon Lodge Rd\, Augusta\, Montana\, 59410
CATEGORIES:Events Calendar
END:VEVENT
BEGIN:VEVENT
DTSTART;TZID=America/Denver:20250714T070000
DTEND;TZID=America/Denver:20250714T070000
DTSTAMP:20260421T163542
CREATED:20210920T235754Z
LAST-MODIFIED:20210920T235754Z
UID:38488-1752476400-1752476400@macdnet.org
SUMMARY:Teton CD Meeting
DESCRIPTION:
URL:https://macdnet.org/event-calendar/__trashed-11__trashed/2025-07-14/
CATEGORIES:CD Board Meetings
END:VEVENT
BEGIN:VEVENT
DTSTART;TZID=America/Denver:20250714T130000
DTEND;TZID=America/Denver:20250714T133000
DTSTAMP:20260421T163542
CREATED:20210920T235754Z
LAST-MODIFIED:20210920T235754Z
UID:38482-1752498000-1752499800@macdnet.org
SUMMARY:Dawson County CD Meeting
DESCRIPTION:
URL:https://macdnet.org/event-calendar/__trashed-7__trashed/2025-07-14/
CATEGORIES:CD Board Meetings
END:VEVENT
BEGIN:VEVENT
DTSTART;TZID=America/Denver:20250714T170000
DTEND;TZID=America/Denver:20250714T173000
DTSTAMP:20260421T163542
CREATED:20210920T235756Z
LAST-MODIFIED:20210920T235756Z
UID:38489-1752512400-1752514200@macdnet.org
SUMMARY:Sweet Grass County Conservation District
DESCRIPTION:
URL:https://macdnet.org/event-calendar/__trashed-22__trashed/2025-07-14/
CATEGORIES:CD Board Meetings
END:VEVENT
BEGIN:VEVENT
DTSTART;TZID=America/Denver:20250714T173000
DTEND;TZID=America/Denver:20250714T173000
DTSTAMP:20260421T163542
CREATED:20210920T235803Z
LAST-MODIFIED:20240229T215031Z
UID:42076-1752514200-1752514200@macdnet.org
SUMMARY:Missoula Conservation District
DESCRIPTION:
URL:https://macdnet.org/event-calendar/__trashed-66__trashed-2024-02-12/2025-07-14/
CATEGORIES:CD Board Meetings
END:VEVENT
BEGIN:VEVENT
DTSTART;TZID=America/Denver:20250714T190000
DTEND;TZID=America/Denver:20250714T190000
DTSTAMP:20260421T163542
CREATED:20210920T235756Z
LAST-MODIFIED:20210920T235756Z
UID:38485-1752519600-1752519600@macdnet.org
SUMMARY:Meagher County Conservation District
DESCRIPTION:
URL:https://macdnet.org/event-calendar/__trashed-24__trashed/2025-07-14/
CATEGORIES:CD Board Meetings
END:VEVENT
BEGIN:VEVENT
DTSTART;TZID=America/Denver:20250714T190000
DTEND;TZID=America/Denver:20250714T190000
DTSTAMP:20260421T163542
CREATED:20210920T235800Z
LAST-MODIFIED:20210920T235800Z
UID:38483-1752519600-1752519600@macdnet.org
SUMMARY:Flathead CD 310 Meeting
DESCRIPTION:
URL:https://macdnet.org/event-calendar/__trashed-52__trashed/2025-07-14/
CATEGORIES:CD Board Meetings
END:VEVENT
BEGIN:VEVENT
DTSTART;TZID=America/Denver:20250714T193000
DTEND;TZID=America/Denver:20250714T193000
DTSTAMP:20260421T163542
CREATED:20210920T235757Z
LAST-MODIFIED:20210920T235757Z
UID:38484-1752521400-1752521400@macdnet.org
SUMMARY:Granite Conservation District
DESCRIPTION:
URL:https://macdnet.org/event-calendar/__trashed-30__trashed/2025-07-14/
CATEGORIES:CD Board Meetings
END:VEVENT
BEGIN:VEVENT
DTSTART;TZID=America/Denver:20250714T193000
DTEND;TZID=America/Denver:20250714T193000
DTSTAMP:20260421T163542
CREATED:20210920T235757Z
LAST-MODIFIED:20210920T235757Z
UID:38487-1752521400-1752521400@macdnet.org
SUMMARY:Pondera County CD Meeting
DESCRIPTION:
URL:https://macdnet.org/event-calendar/__trashed-34__trashed/2025-07-14/
CATEGORIES:CD Board Meetings
END:VEVENT
BEGIN:VEVENT
DTSTART;TZID=America/Denver:20250715T070000
DTEND;TZID=America/Denver:20250715T070000
DTSTAMP:20260421T163542
CREATED:20210920T235805Z
LAST-MODIFIED:20210920T235805Z
UID:38491-1752562800-1752562800@macdnet.org
SUMMARY:Jefferson Valley CD Meeting
DESCRIPTION:
URL:https://macdnet.org/event-calendar/__trashed-73__trashed/2025-07-15/
CATEGORIES:CD Board Meetings
END:VEVENT
END:VCALENDAR