BEGIN:VCALENDAR
VERSION:2.0
PRODID:-//Montana Association of Conservation Districts - ECPv6.15.20//NONSGML v1.0//EN
CALSCALE:GREGORIAN
METHOD:PUBLISH
X-ORIGINAL-URL:https://macdnet.org
X-WR-CALDESC:Events for Montana Association of Conservation Districts
REFRESH-INTERVAL;VALUE=DURATION:PT1H
X-Robots-Tag:noindex
X-PUBLISHED-TTL:PT1H
BEGIN:VTIMEZONE
TZID:America/Denver
BEGIN:DAYLIGHT
TZOFFSETFROM:-0700
TZOFFSETTO:-0600
TZNAME:MDT
DTSTART:20260308T090000
END:DAYLIGHT
BEGIN:STANDARD
TZOFFSETFROM:-0600
TZOFFSETTO:-0700
TZNAME:MST
DTSTART:20261101T080000
END:STANDARD
BEGIN:DAYLIGHT
TZOFFSETFROM:-0700
TZOFFSETTO:-0600
TZNAME:MDT
DTSTART:20270314T090000
END:DAYLIGHT
BEGIN:STANDARD
TZOFFSETFROM:-0600
TZOFFSETTO:-0700
TZNAME:MST
DTSTART:20271107T080000
END:STANDARD
BEGIN:DAYLIGHT
TZOFFSETFROM:-0700
TZOFFSETTO:-0600
TZNAME:MDT
DTSTART:20280312T090000
END:DAYLIGHT
BEGIN:STANDARD
TZOFFSETFROM:-0600
TZOFFSETTO:-0700
TZNAME:MST
DTSTART:20281105T080000
END:STANDARD
END:VTIMEZONE
BEGIN:VEVENT
DTSTART;TZID=America/Denver:20270601T173000
DTEND;TZID=America/Denver:20270601T173000
DTSTAMP:20260423T060936
CREATED:20210920T235754Z
LAST-MODIFIED:20210920T235754Z
UID:73217-1811871000-1811871000@macdnet.org
SUMMARY:Custer County CD Meeting
DESCRIPTION:
URL:https://macdnet.org/event-calendar/__trashed-12__trashed/2027-06-01/
CATEGORIES:CD Board Meetings
END:VEVENT
BEGIN:VEVENT
DTSTART;TZID=America/Denver:20270601T190000
DTEND;TZID=America/Denver:20270601T190000
DTSTAMP:20260423T060936
CREATED:20210920T235755Z
LAST-MODIFIED:20210920T235755Z
UID:73218-1811876400-1811876400@macdnet.org
SUMMARY:Judith Basin CD Meeting
DESCRIPTION:
URL:https://macdnet.org/event-calendar/__trashed-19__trashed/2027-06-01/
CATEGORIES:CD Board Meetings
END:VEVENT
BEGIN:VEVENT
DTSTART;TZID=America/Denver:20270601T190000
DTEND;TZID=America/Denver:20270601T190000
DTSTAMP:20260423T060936
CREATED:20210920T235756Z
LAST-MODIFIED:20210920T235756Z
UID:73221-1811876400-1811876400@macdnet.org
SUMMARY:Roosevelt County CD Meeting
DESCRIPTION:Please see the Roosevelt County CD website for more info.
URL:https://macdnet.org/event-calendar/__trashed-20__trashed/2027-06-01/
CATEGORIES:CD Board Meetings
END:VEVENT
BEGIN:VEVENT
DTSTART;TZID=America/Denver:20270601T190000
DTEND;TZID=America/Denver:20270601T190000
DTSTAMP:20260423T060936
CREATED:20210920T235756Z
LAST-MODIFIED:20210920T235756Z
UID:73223-1811876400-1811876400@macdnet.org
SUMMARY:Wibaux CD Meeting
DESCRIPTION:
URL:https://macdnet.org/event-calendar/__trashed-26__trashed/2027-06-01/
CATEGORIES:CD Board Meetings
END:VEVENT
BEGIN:VEVENT
DTSTART;TZID=America/Denver:20270601T190000
DTEND;TZID=America/Denver:20270601T220000
DTSTAMP:20260423T060936
CREATED:20210920T201921Z
LAST-MODIFIED:20210920T201921Z
UID:73215-1811876400-1811887200@macdnet.org
SUMMARY:Roosevelt CD Board Meeting
DESCRIPTION:Contact Roosevelt CD for the most up-to-date meeting information.
URL:https://macdnet.org/event-calendar/roosevelt-cd-board-meeting/2027-06-01/
LOCATION:USDA Culbertson Office\, 508 E 6th\, Culbertson\, MT\, United States
CATEGORIES:CD Board Meetings
END:VEVENT
BEGIN:VEVENT
DTSTART;TZID=America/Denver:20270602T170000
DTEND;TZID=America/Denver:20270602T170000
DTSTAMP:20260423T060936
CREATED:20210920T235801Z
LAST-MODIFIED:20210920T235801Z
UID:73430-1811955600-1811955600@macdnet.org
SUMMARY:Garfield County CD Meeting
DESCRIPTION:
URL:https://macdnet.org/event-calendar/__trashed-58__trashed/2027-06-02/
CATEGORIES:CD Board Meetings
END:VEVENT
BEGIN:VEVENT
DTSTART;TZID=America/Denver:20270602T190000
DTEND;TZID=America/Denver:20270602T190000
DTSTAMP:20260423T060936
CREATED:20210920T235801Z
LAST-MODIFIED:20210920T235801Z
UID:73433-1811962800-1811962800@macdnet.org
SUMMARY:Powder River CD Meeting
DESCRIPTION:
URL:https://macdnet.org/event-calendar/__trashed-56__trashed/2027-06-02/
CATEGORIES:CD Board Meetings
END:VEVENT
BEGIN:VEVENT
DTSTART;TZID=America/Denver:20270602T190000
DTEND;TZID=America/Denver:20270602T190000
DTSTAMP:20260423T060936
CREATED:20210920T235805Z
LAST-MODIFIED:20210920T235805Z
UID:73432-1811962800-1811962800@macdnet.org
SUMMARY:McCone County CD Meeting
DESCRIPTION:Please see the McCone County CD website for more info.
URL:https://macdnet.org/event-calendar/__trashed-74__trashed/2027-06-02/
CATEGORIES:CD Board Meetings
END:VEVENT
BEGIN:VEVENT
DTSTART;TZID=America/Denver:20270602T200000
DTEND;TZID=America/Denver:20270602T200000
DTSTAMP:20260423T060936
CREATED:20210920T235802Z
LAST-MODIFIED:20210920T235802Z
UID:73431-1811966400-1811966400@macdnet.org
SUMMARY:Eastern Sanders County CD Meeting
DESCRIPTION:
URL:https://macdnet.org/event-calendar/__trashed-62__trashed/2027-06-02/
CATEGORIES:CD Board Meetings
END:VEVENT
BEGIN:VEVENT
DTSTART;TZID=America/Denver:20270603T133000
DTEND;TZID=America/Denver:20270603T133000
DTSTAMP:20260423T060936
CREATED:20210920T235805Z
LAST-MODIFIED:20210920T235805Z
UID:73795-1812029400-1812029400@macdnet.org
SUMMARY:Bighorn CD Meeting
DESCRIPTION:
URL:https://macdnet.org/event-calendar/__trashed-75__trashed/2027-06-03/
CATEGORIES:CD Board Meetings
END:VEVENT
BEGIN:VEVENT
DTSTART;TZID=America/Denver:20270603T173000
DTEND;TZID=America/Denver:20270603T193000
DTSTAMP:20260423T060936
CREATED:20210920T235757Z
LAST-MODIFIED:20210920T235757Z
UID:73796-1812043800-1812051000@macdnet.org
SUMMARY:Little Beaver CD Meeting
DESCRIPTION:Please see the Little Beaver CD website for more info.
URL:https://macdnet.org/event-calendar/__trashed-33__trashed/2027-06-03/
CATEGORIES:CD Board Meetings
END:VEVENT
BEGIN:VEVENT
DTSTART;TZID=America/Denver:20270607T073000
DTEND;TZID=America/Denver:20270607T090000
DTSTAMP:20260423T060936
CREATED:20220202T204812Z
LAST-MODIFIED:20220202T204812Z
UID:74244-1812353400-1812358800@macdnet.org
SUMMARY:MACD Executive Committee
DESCRIPTION:The MACD Executive Committee meets on the first Monday of the Month at 7:30am via zoom. Contact Rebecca Boslough for meeting details. \nBoard Organization Documents
URL:https://macdnet.org/event-calendar/macd-executive-committee/2027-06-07/
LOCATION:Zoom
CATEGORIES:Meetings
ATTACH;FMTTYPE=image/jpeg:https://macdnet.org/wp-content/uploads/2022/02/MACD-logo-state-square-clear-background-1.jpg
END:VEVENT
BEGIN:VEVENT
DTSTART;TZID=America/Denver:20270607T133000
DTEND;TZID=America/Denver:20270607T133000
DTSTAMP:20260423T060936
CREATED:20210920T235755Z
LAST-MODIFIED:20210920T235755Z
UID:74243-1812375000-1812375000@macdnet.org
SUMMARY:North Powell CD Meeting
DESCRIPTION:
URL:https://macdnet.org/event-calendar/__trashed-17__trashed/2027-06-07/
CATEGORIES:CD Board Meetings
END:VEVENT
BEGIN:VEVENT
DTSTART;TZID=America/Denver:20270608T090000
DTEND;TZID=America/Denver:20270608T090000
DTSTAMP:20260423T060936
CREATED:20210920T235757Z
LAST-MODIFIED:20210920T235757Z
UID:74305-1812445200-1812445200@macdnet.org
SUMMARY:Sheridan County CD Meeting
DESCRIPTION:
URL:https://macdnet.org/event-calendar/__trashed-31__trashed/2027-06-08/
CATEGORIES:CD Board Meetings
END:VEVENT
BEGIN:VEVENT
DTSTART;TZID=America/Denver:20270608T130000
DTEND;TZID=America/Denver:20270608T130000
DTSTAMP:20260423T060936
CREATED:20210920T235757Z
LAST-MODIFIED:20210920T235757Z
UID:74306-1812459600-1812459600@macdnet.org
SUMMARY:Phillips CD Meeting
DESCRIPTION:
URL:https://macdnet.org/event-calendar/__trashed-28__trashed/2027-06-08/
CATEGORIES:CD Board Meetings
END:VEVENT
BEGIN:VEVENT
DTSTART;TZID=America/Denver:20270608T183000
DTEND;TZID=America/Denver:20270608T183000
DTSTAMP:20260423T060936
CREATED:20210920T235803Z
LAST-MODIFIED:20210920T235803Z
UID:74304-1812479400-1812479400@macdnet.org
SUMMARY:Deer Lodge Valley CD Meeting
DESCRIPTION:
URL:https://macdnet.org/event-calendar/__trashed-67__trashed/2027-06-08/
CATEGORIES:CD Board Meetings
END:VEVENT
BEGIN:VEVENT
DTSTART;TZID=America/Denver:20270608T190000
DTEND;TZID=America/Denver:20270608T190000
DTSTAMP:20260423T060936
CREATED:20210920T235757Z
LAST-MODIFIED:20210920T235757Z
UID:74307-1812481200-1812481200@macdnet.org
SUMMARY:Treasure County CD Meeting
DESCRIPTION:
URL:https://macdnet.org/event-calendar/__trashed-32__trashed/2027-06-08/
CATEGORIES:CD Board Meetings
END:VEVENT
BEGIN:VEVENT
DTSTART;TZID=America/Denver:20270608T190000
DTEND;TZID=America/Denver:20270608T190000
DTSTAMP:20260423T060936
CREATED:20210920T235759Z
LAST-MODIFIED:20210920T235759Z
UID:74301-1812481200-1812481200@macdnet.org
SUMMARY:Bitterroot CD Meeting
DESCRIPTION:Please see the Bitterroot CD website for more info.
URL:https://macdnet.org/event-calendar/__trashed-47__trashed/2027-06-08/
CATEGORIES:CD Board Meetings
END:VEVENT
BEGIN:VEVENT
DTSTART;TZID=America/Denver:20270609T073000
DTEND;TZID=America/Denver:20270609T083000
DTSTAMP:20260423T060936
CREATED:20231228T222059Z
LAST-MODIFIED:20231228T222059Z
UID:74446-1812526200-1812529800@macdnet.org
SUMMARY:MACD Finance Committee
DESCRIPTION:The MACD Finance Committee meets on the second Wednesday of the Month at 7:30am via zoom. (This is typically the Wednesday prior to MACD Board Meetings). Contact Rebecca Boslough for meeting details.
URL:https://macdnet.org/event-calendar/macd-finance-committee-4/2027-06-09/
LOCATION:Zoom
END:VEVENT
BEGIN:VEVENT
DTSTART;TZID=America/Denver:20270609T090000
DTEND;TZID=America/Denver:20270609T090000
DTSTAMP:20260423T060936
CREATED:20210920T235756Z
LAST-MODIFIED:20210920T235756Z
UID:74445-1812531600-1812531600@macdnet.org
SUMMARY:Yellowstone CD Meeting
DESCRIPTION:
URL:https://macdnet.org/event-calendar/__trashed-21__trashed/2027-06-09/
CATEGORIES:CD Board Meetings
END:VEVENT
BEGIN:VEVENT
DTSTART;TZID=America/Denver:20270609T130000
DTEND;TZID=America/Denver:20270609T130000
DTSTAMP:20260423T060936
CREATED:20210920T235755Z
LAST-MODIFIED:20210920T235755Z
UID:74443-1812546000-1812546000@macdnet.org
SUMMARY:Daniels County CD Meeting
DESCRIPTION:
URL:https://macdnet.org/event-calendar/__trashed-18__trashed/2027-06-09/
CATEGORIES:CD Board Meetings
END:VEVENT
BEGIN:VEVENT
DTSTART;TZID=America/Denver:20270609T133000
DTEND;TZID=America/Denver:20270609T133000
DTSTAMP:20260423T060936
CREATED:20210920T235754Z
LAST-MODIFIED:20210920T235754Z
UID:74444-1812547800-1812547800@macdnet.org
SUMMARY:Valley County CD Meeting
DESCRIPTION:
URL:https://macdnet.org/event-calendar/__trashed-8__trashed/2027-06-09/
CATEGORIES:CD Board Meetings
END:VEVENT
BEGIN:VEVENT
DTSTART;TZID=America/Denver:20270609T190000
DTEND;TZID=America/Denver:20270609T190000
DTSTAMP:20260423T060936
CREATED:20210920T235756Z
LAST-MODIFIED:20210920T235756Z
UID:74440-1812567600-1812567600@macdnet.org
SUMMARY:Fergus CD Meeting
DESCRIPTION:
URL:https://macdnet.org/event-calendar/__trashed-23__trashed/2027-06-09/
CATEGORIES:CD Board Meetings
END:VEVENT
BEGIN:VEVENT
DTSTART;TZID=America/Denver:20270609T193000
DTEND;TZID=America/Denver:20270609T193000
DTSTAMP:20260423T060936
CREATED:20210920T235754Z
LAST-MODIFIED:20210920T235754Z
UID:74441-1812569400-1812569400@macdnet.org
SUMMARY:Big Sandy CD Meeting
DESCRIPTION:
URL:https://macdnet.org/event-calendar/__trashed-9__trashed/2027-06-09/
CATEGORIES:CD Board Meetings
END:VEVENT
BEGIN:VEVENT
DTSTART;TZID=America/Denver:20270609T193000
DTEND;TZID=America/Denver:20270609T193000
DTSTAMP:20260423T060937
CREATED:20210920T235802Z
LAST-MODIFIED:20210920T235802Z
UID:74442-1812569400-1812569400@macdnet.org
SUMMARY:Upper Musselshell CD Meeting
DESCRIPTION:
URL:https://macdnet.org/event-calendar/__trashed-60__trashed/2027-06-09/
CATEGORIES:CD Board Meetings
END:VEVENT
BEGIN:VEVENT
DTSTART;TZID=America/Denver:20270610T130000
DTEND;TZID=America/Denver:20270610T130000
DTSTAMP:20260423T060937
CREATED:20210920T235802Z
LAST-MODIFIED:20210920T235802Z
UID:74605-1812632400-1812632400@macdnet.org
SUMMARY:Lewis & Clark CD Meeting
DESCRIPTION:Please see the Lewis & Clark CD website for more info.
URL:https://macdnet.org/event-calendar/__trashed-61__trashed/2027-06-10/
CATEGORIES:CD Board Meetings
END:VEVENT
BEGIN:VEVENT
DTSTART;TZID=America/Denver:20270610T130000
DTEND;TZID=America/Denver:20270610T150000
DTSTAMP:20260423T060937
CREATED:20210922T170514Z
LAST-MODIFIED:20210922T170514Z
UID:74610-1812632400-1812639600@macdnet.org
SUMMARY:Lewis & Clark CD Meeting
DESCRIPTION:Lewis and Clark meets the 2nd Thursday at 1 pm. Summer meetings are different times\, so be sure to check with the conservation district to get the most up-to-date information.
URL:https://macdnet.org/event-calendar/lewis-clark-cd-meeting/2027-06-10/
ORGANIZER;CN="Lewis and Clark Conservation District":MAILTO:lccd@mt.net
END:VEVENT
BEGIN:VEVENT
DTSTART;TZID=America/Denver:20270610T133000
DTEND;TZID=America/Denver:20270610T133000
DTSTAMP:20260423T060937
CREATED:20210920T235759Z
LAST-MODIFIED:20210920T235759Z
UID:74606-1812634200-1812634200@macdnet.org
SUMMARY:Richland County CD Meeting
DESCRIPTION:
URL:https://macdnet.org/event-calendar/__trashed-45__trashed/2027-06-10/
CATEGORIES:CD Board Meetings
END:VEVENT
BEGIN:VEVENT
DTSTART;TZID=America/Denver:20270610T170000
DTEND;TZID=America/Denver:20270610T170000
DTSTAMP:20260423T060937
CREATED:20210920T235805Z
LAST-MODIFIED:20210920T235805Z
UID:74607-1812646800-1812646800@macdnet.org
SUMMARY:Carbon CD Meeting
DESCRIPTION:
URL:https://macdnet.org/event-calendar/__trashed-76__trashed/2027-06-10/
CATEGORIES:CD Board Meetings
END:VEVENT
BEGIN:VEVENT
DTSTART;TZID=America/Denver:20270610T190000
DTEND;TZID=America/Denver:20270610T190000
DTSTAMP:20260423T060937
CREATED:20210920T235758Z
LAST-MODIFIED:20210920T235758Z
UID:74608-1812654000-1812654000@macdnet.org
SUMMARY:Liberty County CD Meeting
DESCRIPTION:
URL:https://macdnet.org/event-calendar/__trashed-36__trashed/2027-06-10/
CATEGORIES:CD Board Meetings
END:VEVENT
END:VCALENDAR