BEGIN:VCALENDAR
VERSION:2.0
PRODID:-//Montana Association of Conservation Districts - ECPv6.15.20//NONSGML v1.0//EN
CALSCALE:GREGORIAN
METHOD:PUBLISH
X-WR-CALNAME:Montana Association of Conservation Districts
X-ORIGINAL-URL:https://macdnet.org
X-WR-CALDESC:Events for Montana Association of Conservation Districts
REFRESH-INTERVAL;VALUE=DURATION:PT1H
X-Robots-Tag:noindex
X-PUBLISHED-TTL:PT1H
BEGIN:VTIMEZONE
TZID:America/Denver
BEGIN:DAYLIGHT
TZOFFSETFROM:-0700
TZOFFSETTO:-0600
TZNAME:MDT
DTSTART:20240310T090000
END:DAYLIGHT
BEGIN:STANDARD
TZOFFSETFROM:-0600
TZOFFSETTO:-0700
TZNAME:MST
DTSTART:20241103T080000
END:STANDARD
BEGIN:DAYLIGHT
TZOFFSETFROM:-0700
TZOFFSETTO:-0600
TZNAME:MDT
DTSTART:20250309T090000
END:DAYLIGHT
BEGIN:STANDARD
TZOFFSETFROM:-0600
TZOFFSETTO:-0700
TZNAME:MST
DTSTART:20251102T080000
END:STANDARD
BEGIN:DAYLIGHT
TZOFFSETFROM:-0700
TZOFFSETTO:-0600
TZNAME:MDT
DTSTART:20260308T090000
END:DAYLIGHT
BEGIN:STANDARD
TZOFFSETFROM:-0600
TZOFFSETTO:-0700
TZNAME:MST
DTSTART:20261101T080000
END:STANDARD
END:VTIMEZONE
BEGIN:VEVENT
DTSTART;TZID=America/Denver:20250521T100000
DTEND;TZID=America/Denver:20250521T110000
DTSTAMP:20260419T203718
CREATED:20250428T154626Z
LAST-MODIFIED:20250428T154627Z
UID:66940-1747821600-1747825200@macdnet.org
SUMMARY:MCDEO Roundtable: 310 Refresher
DESCRIPTION:MCDEO Roundtable\n310 Refresher\nMay 21\, 2025 \n10:00AM-11:00AM \nVia Zoom \nHailey will be presenting a 310 refresher during the May CD Roundtable. This refresher course will be great for anyone new to 310 permitting or seasoned pros. We’ll cover timelines\, the review process\, emergency procedures\, and violations. \nMore Information Here
URL:https://macdnet.org/event-calendar/mcdeo-roundtable-310-refresher/
LOCATION:Zoom
CATEGORIES:Events Calendar,Trainings and Workshops
END:VEVENT
BEGIN:VEVENT
DTSTART;TZID=America/Denver:20250521T100000
DTEND;TZID=America/Denver:20250521T120000
DTSTAMP:20260419T203718
CREATED:20220119T234558Z
LAST-MODIFIED:20250709T143956Z
UID:37847-1747821600-1747828800@macdnet.org
SUMMARY:Employee Roundtable
DESCRIPTION:EO Roundtable Meetings usually meet on the third Wednesday of the month. For this month’s zoom information contact Chris Evans (chris@lewisandclarkcd.org). [Note: The EO Roundtable meetings for July 2025 and August 2025 have both been cancelled. For more information\, contact Chris Evans.]\n\nTopic: MCDEO Roundtable\nTime: 10:00 AM Mountain Time (US and Canada)\nPlease download and import the following iCalendar (.ics) files to your calendar system.\nMonthly: https://us02web.zoom.us/meeting/tZYlcO6vqj4vH9JCgJL-Wxx0Fi_fv8J3lFOD/ics?icsToken=DEGG1umcCWKBUYQiuQAALAAAADwKmtGvG2Rvb0Ff-PjxGh-OCZo8B4pWN1MFq51i9EHWuYLq0wiyxAIgdIFl_0MckQV3gWP3-FYgUYYRQTAwMDAwMQ&meetingMasterEventId=lPa1Rf1TSMegj2n2gdrRKQ\n\nJoin Zoom Meeting\nhttps://us02web.zoom.us/j/82877745556Meeting ID: 828 7774 5556\nPasscode: 626512— \nOne tap mobile\n+13462487799\,\,82877745556#\,\,\,\,*626512# US (Houston)\n+16694449171\,\,82877745556#\,\,\,\,*626512# US \n— \nDial by your location\n• +1 346 248 7799 US (Houston)\n• +1 669 444 9171 US\n• +1 669 900 9128 US (San Jose)\n• +1 719 359 4580 US\n• +1 253 205 0468 US\n• +1 253 215 8782 US (Tacoma)\n• +1 689 278 1000 US\n• +1 301 715 8592 US (Washington DC)\n• +1 305 224 1968 US\n• +1 309 205 3325 US\n• +1 312 626 6799 US (Chicago)\n• +1 360 209 5623 US\n• +1 386 347 5053 US\n• +1 507 473 4847 US\n• +1 564 217 2000 US\n• +1 646 558 8656 US (New York)\n• +1 646 931 3860 US \nMeeting ID: 828 7774 5556\nPasscode: 626512
URL:https://macdnet.org/event-calendar/employee-roundtable-2/2025-05-21/
LOCATION:Zoom
CATEGORIES:Events Calendar,Meetings,Trainings and Workshops
END:VEVENT
BEGIN:VEVENT
DTSTART;TZID=America/Denver:20250524T120000
DTEND;TZID=America/Denver:20250524T140000
DTSTAMP:20260419T203718
CREATED:20250411T153222Z
LAST-MODIFIED:20250411T153222Z
UID:64590-1748088000-1748095200@macdnet.org
SUMMARY:Hill County CD: Rain Barrel Workshop
DESCRIPTION:Hill County CD: Rain Barrel Workshop\nMay 17\, 2025 & May 24\, 2025 \n12:00PM-02:00PM  \nThe HCCD is hosting rain barrel workshops in late May for the community.\nRSVP to eleanorwilkerson@macdnet.org .\nInformational Flyer
URL:https://macdnet.org/event-calendar/hill-county-cd-rain-barrel-workshop/2025-05-24/
LOCATION:Havre\, MT\, Havre\, 59501\, United States
CATEGORIES:Events Calendar,Trainings and Workshops
END:VEVENT
END:VCALENDAR