BEGIN:VCALENDAR
VERSION:2.0
PRODID:-//Montana Association of Conservation Districts - ECPv6.15.20//NONSGML v1.0//EN
CALSCALE:GREGORIAN
METHOD:PUBLISH
X-WR-CALNAME:Montana Association of Conservation Districts
X-ORIGINAL-URL:https://macdnet.org
X-WR-CALDESC:Events for Montana Association of Conservation Districts
REFRESH-INTERVAL;VALUE=DURATION:PT1H
X-Robots-Tag:noindex
X-PUBLISHED-TTL:PT1H
BEGIN:VTIMEZONE
TZID:America/Denver
BEGIN:DAYLIGHT
TZOFFSETFROM:-0700
TZOFFSETTO:-0600
TZNAME:MDT
DTSTART:20240310T090000
END:DAYLIGHT
BEGIN:STANDARD
TZOFFSETFROM:-0600
TZOFFSETTO:-0700
TZNAME:MST
DTSTART:20241103T080000
END:STANDARD
BEGIN:DAYLIGHT
TZOFFSETFROM:-0700
TZOFFSETTO:-0600
TZNAME:MDT
DTSTART:20250309T090000
END:DAYLIGHT
BEGIN:STANDARD
TZOFFSETFROM:-0600
TZOFFSETTO:-0700
TZNAME:MST
DTSTART:20251102T080000
END:STANDARD
BEGIN:DAYLIGHT
TZOFFSETFROM:-0700
TZOFFSETTO:-0600
TZNAME:MDT
DTSTART:20260308T090000
END:DAYLIGHT
BEGIN:STANDARD
TZOFFSETFROM:-0600
TZOFFSETTO:-0700
TZNAME:MST
DTSTART:20261101T080000
END:STANDARD
END:VTIMEZONE
BEGIN:VEVENT
DTSTART;TZID=America/Denver:20250508T180000
DTEND;TZID=America/Denver:20250508T193000
DTSTAMP:20260419T181020
CREATED:20250418T180446Z
LAST-MODIFIED:20250418T180447Z
UID:65741-1746727200-1746732600@macdnet.org
SUMMARY:Herbicide Basics Webinar Series: Terrestrial and Riparian Herbicide Applications
DESCRIPTION:Herbicide Basics Webinar Series:\nTerrestrial and Riparian Herbicide Applications\nMay 08\, 2025 \n06:00PM-07:30PM \nVia Zoom \nMissoula County Department of Ecology and Extension is hosting a four-part series to provide an educational opportunity for landowners\, applicators\, recreators\, and other stakeholders on the when\, where\, and why of herbicide use. This educational series will cover both terrestrial and aquatic applications and highlight the importance of understanding the potential environmental impacts of this treatment strategy. It is also an opportunity for applicators to earn continuing education credits. \nMore Information \nInformational Flyer \nTerrestrial and Riparian Herbicide Applications \nThe third session of Missoula County’s herbicide webinar series is a presentation by Jeffrey Pettingill focused on terrestrial and riparian applications for herbicide. This presentation will cover small-scale terrestrial application considerations such as weed identification\, seasonality\, weather conditions\, chemical options\, and PPE basics. Additionally\, this presentation will describe how to differentiate between irrigation corridors and riparian areas to limit non-target impacts of terrestrial herbicide use. \nMore Information on Session \nRegister Here
URL:https://macdnet.org/event-calendar/herbicide-basics-webinar-series-terrestrial-and-riparian-herbicide-applications/
LOCATION:Zoom
CATEGORIES:Events Calendar,Trainings and Workshops
END:VEVENT
BEGIN:VEVENT
DTSTART;TZID=America/Denver:20250508T180000
DTEND;TZID=America/Denver:20250508T200000
DTSTAMP:20260419T181020
CREATED:20250203T193340Z
LAST-MODIFIED:20250311T200835Z
UID:53589-1746727200-1746734400@macdnet.org
SUMMARY:Land Stewardship Series: Montana Noxious Weeds
DESCRIPTION:Land Stewardship Series\nMontana Noxious Weed Identification and Management\nMay 8  \n06:00PM-08:00PM  \nJoin local experts at the Land Stewardship Series at Flathead Valley Community College to learn techniques for managing your land. \nThursdays\, 6 -8pm\, April 3 – May 8 \nThis course is an introduction to Montana and Flathead County noxious weeds including identification\, associated regulations\, and management options. \nInstructors: Noel Jinings\, Noxious Weed Education and Compliance Officer\, Flathead County and Dawn Lafleur\, Glacier National Park. \nLearn more and Register Here
URL:https://macdnet.org/event-calendar/land-stewardship-series-montana-noxious-weeds/
LOCATION:Flathead Valley Community College\, 777 Grandview Dr\, Kalispell\, MT\, 59901\, United States
CATEGORIES:Events Calendar,Trainings and Workshops
END:VEVENT
END:VCALENDAR