BEGIN:VCALENDAR
VERSION:2.0
PRODID:-//Montana Association of Conservation Districts - ECPv6.15.20//NONSGML v1.0//EN
CALSCALE:GREGORIAN
METHOD:PUBLISH
X-WR-CALNAME:Montana Association of Conservation Districts
X-ORIGINAL-URL:https://macdnet.org
X-WR-CALDESC:Events for Montana Association of Conservation Districts
REFRESH-INTERVAL;VALUE=DURATION:PT1H
X-Robots-Tag:noindex
X-PUBLISHED-TTL:PT1H
BEGIN:VTIMEZONE
TZID:America/Denver
BEGIN:DAYLIGHT
TZOFFSETFROM:-0700
TZOFFSETTO:-0600
TZNAME:MDT
DTSTART:20230312T090000
END:DAYLIGHT
BEGIN:STANDARD
TZOFFSETFROM:-0600
TZOFFSETTO:-0700
TZNAME:MST
DTSTART:20231105T080000
END:STANDARD
BEGIN:DAYLIGHT
TZOFFSETFROM:-0700
TZOFFSETTO:-0600
TZNAME:MDT
DTSTART:20240310T090000
END:DAYLIGHT
BEGIN:STANDARD
TZOFFSETFROM:-0600
TZOFFSETTO:-0700
TZNAME:MST
DTSTART:20241103T080000
END:STANDARD
BEGIN:DAYLIGHT
TZOFFSETFROM:-0700
TZOFFSETTO:-0600
TZNAME:MDT
DTSTART:20250309T090000
END:DAYLIGHT
BEGIN:STANDARD
TZOFFSETFROM:-0600
TZOFFSETTO:-0700
TZNAME:MST
DTSTART:20251102T080000
END:STANDARD
END:VTIMEZONE
BEGIN:VEVENT
DTSTART;TZID=America/Denver:20241209T100000
DTEND;TZID=America/Denver:20241209T113000
DTSTAMP:20260419T065152
CREATED:20241209T173122Z
LAST-MODIFIED:20241209T173122Z
UID:50818-1733738400-1733743800@macdnet.org
SUMMARY:Insurance Rates: Why are they increasing?
DESCRIPTION:Insurance Rates: Why are they increasing?\nDecember 10  \n10:00AM – 11:30PM
URL:https://macdnet.org/event-calendar/insurance-rates-why-are-they-increasing/
LOCATION:Zoom
CATEGORIES:Events Calendar,Trainings and Workshops
END:VEVENT
BEGIN:VEVENT
DTSTART;TZID=America/Denver:20241209T120000
DTEND;TZID=America/Denver:20241209T133000
DTSTAMP:20260419T065152
CREATED:20241108T191231Z
LAST-MODIFIED:20241108T191231Z
UID:49431-1733745600-1733751000@macdnet.org
SUMMARY:Expanding the Use of Prescribed Fire in Montana Webinar
DESCRIPTION:Expanding the Use of Prescribed Fire in Montana Webinar\nDecember 9\, 2024  \n12:00PM – 01:30PM  \nThe Montana Forest Collaboration Network (MFCN) is hosting two webinars in December\, and we invite you to join us. \nOBJECTIVES: Build understanding of the history and need for prescribed fire in Montana landscapes; Discuss the role of prescribed fire cross-boundary in implementing the Montana Forest Action Plan; Introduce the Prescribed Fire Council and its mission; Discuss how webinar participants can increase the use of prescribed fire in forest restoration (all lands / cross-boundary) \nRegister here \nOnce you RSVP\, the Montana Forest Collaboration Network will send you a Zoom link and email reminders. They will record and post the webinars on the MFCN website. \nIf you have questions\, please contact MFCN Coordinator Steve Kimball at steve@blackfootchallenge.org or (208) 540-2437. \n 
URL:https://macdnet.org/event-calendar/expanding-the-use-of-prescribed-fire-in-montana-webinar/
LOCATION:Zoom
CATEGORIES:Events Calendar,Trainings and Workshops
END:VEVENT
BEGIN:VEVENT
DTSTART;TZID=America/Denver:20241210T120000
DTEND;TZID=America/Denver:20241210T130000
DTSTAMP:20260419T065152
CREATED:20241210T150410Z
LAST-MODIFIED:20241210T150410Z
UID:50833-1733832000-1733835600@macdnet.org
SUMMARY:Stakeholder Working Group Water Bill Webinar 12/10
DESCRIPTION:Permit and Change Harmonization\, Streamlined Change in Limited Circumstances\, Waiver of Adverse Effect\nDecember 10 \n12:00PM – 01:30PM  \n 
URL:https://macdnet.org/event-calendar/stakeholder-working-group-water-bill-webinar-12-10/
LOCATION:Zoom
CATEGORIES:Events Calendar,Trainings and Workshops
END:VEVENT
BEGIN:VEVENT
DTSTART;VALUE=DATE:20241212
DTEND;VALUE=DATE:20241213
DTSTAMP:20260419T065152
CREATED:20241202T163337Z
LAST-MODIFIED:20241202T163337Z
UID:50693-1733961600-1734047999@macdnet.org
SUMMARY:2024 CRB Watershed Pesticide Tour
DESCRIPTION:2024 CRB Watershed Pesticide Tour\nDecember 12 \nRegistration due December 6.  \nThe MSU Extension Pesticide Education Program (MSU PEP) partnered with the Montana Pesticide Stewardship Partnership Program are offering an educational tour to instruct urban and agricultural pesticide applicators located within the Columbia River Basin (CRB) on pesticide fate in the environment\, routes of pesticide contamination\, detects in CRB waters\, high risk pesticide applicator behaviors and mitigation measures to protect water quality. All interested parties are welcome to attend. \nClick here for more information.
URL:https://macdnet.org/event-calendar/2024-crb-watershed-pesticide-tour/
CATEGORIES:Events Calendar,Trainings and Workshops
END:VEVENT
BEGIN:VEVENT
DTSTART;TZID=America/Denver:20241212T120000
DTEND;TZID=America/Denver:20241212T130000
DTSTAMP:20260419T065152
CREATED:20241127T170615Z
LAST-MODIFIED:20241127T171457Z
UID:50071-1734004800-1734008400@macdnet.org
SUMMARY:MWCC Unleashing The Power Of Data-Driven Storytelling
DESCRIPTION:MWCC Unleashing The Power Of Data-Driven Storytelling\nDecember 12  \n12:00PM – 01:00PM \nClick here for Teams link.
URL:https://macdnet.org/event-calendar/mwcc-unleashing-the-power-of-data-driven-storytelling/
LOCATION:Microsoft Teams
CATEGORIES:Events Calendar,Trainings and Workshops
END:VEVENT
BEGIN:VEVENT
DTSTART;TZID=America/Denver:20241212T120000
DTEND;TZID=America/Denver:20241212T130000
DTSTAMP:20260419T065152
CREATED:20241203T164806Z
LAST-MODIFIED:20241203T171234Z
UID:50751-1734004800-1734008400@macdnet.org
SUMMARY:Future Role of the Judiciary in Water Proceedings
DESCRIPTION:December 12 \n12:00PM – 01:00PM \nJoin members of the Comprehensive Water Review Stakeholder Working Group and DNRC Water Resources Division staff for a detailed look at a suite of stakeholder-generated bills. This Webinar will cover the Future Role of the Judiciary in Water Proceedings. \nClick here to register.
URL:https://macdnet.org/event-calendar/future-role-of-the-judiciary-in-water-proceedings/
LOCATION:Zoom
CATEGORIES:Events Calendar,Trainings and Workshops
END:VEVENT
BEGIN:VEVENT
DTSTART;TZID=America/Denver:20241212T130000
DTEND;TZID=America/Denver:20241212T140000
DTSTAMP:20260419T065152
CREATED:20241104T192806Z
LAST-MODIFIED:20241104T192806Z
UID:49287-1734008400-1734012000@macdnet.org
SUMMARY:Conservation Coffee Webinar
DESCRIPTION:Conservation Coffee Webinar\nDecember 12\, 2024 \n01:00PM-02:00PM \nNACD offers the Conservation Coffees as quick\, bi-monthly learning sessions about our activities and programs\, as well as an opportunity to network and learn from members. Register here and join us on Zoom for the next coffee on December 12\, 3:00 p.m. ET. NACD’s Outreach Subcommittee will share information on Heir’s Property\, specifically\, what the term means\, why it matters in an agricultural and conservation context\, and current efforts by the committee to bring awareness to the issue. Registration is free and open to anyone interested in joining\, and the session will also be recorded and later added to our Conservation Coffees playlist on YouTube. \nRegister here
URL:https://macdnet.org/event-calendar/conservation-coffee-webinar/
LOCATION:Zoom
CATEGORIES:Events Calendar,Trainings and Workshops
END:VEVENT
BEGIN:VEVENT
DTSTART;TZID=America/Denver:20241212T140000
DTEND;TZID=America/Denver:20241212T153000
DTSTAMP:20260419T065152
CREATED:20241126T152132Z
LAST-MODIFIED:20241127T155158Z
UID:49902-1734012000-1734017400@macdnet.org
SUMMARY:NWTF Grant Office Hours 2
DESCRIPTION:NWTF Grant Office Hours\nDecember 12\, 2024 \n02:00PM-03:00PM \nThe Department Of Agriculture Noxious Weed Trust Fund is hosting open office hours for grant assistance December 5th\,12th\, and 19th\, 2024. For more information see the flyer here: NWTF Grant Office Hours. \nJoin Zoom Meeting Here
URL:https://macdnet.org/event-calendar/grant-writing-training-opportunities/
LOCATION:Zoom
CATEGORIES:Trainings and Workshops
END:VEVENT
END:VCALENDAR