BEGIN:VCALENDAR
VERSION:2.0
PRODID:-//Montana Association of Conservation Districts - ECPv6.15.20//NONSGML v1.0//EN
CALSCALE:GREGORIAN
METHOD:PUBLISH
X-ORIGINAL-URL:https://macdnet.org
X-WR-CALDESC:Events for Montana Association of Conservation Districts
REFRESH-INTERVAL;VALUE=DURATION:PT1H
X-Robots-Tag:noindex
X-PUBLISHED-TTL:PT1H
BEGIN:VTIMEZONE
TZID:America/Denver
BEGIN:DAYLIGHT
TZOFFSETFROM:-0700
TZOFFSETTO:-0600
TZNAME:MDT
DTSTART:20230312T090000
END:DAYLIGHT
BEGIN:STANDARD
TZOFFSETFROM:-0600
TZOFFSETTO:-0700
TZNAME:MST
DTSTART:20231105T080000
END:STANDARD
BEGIN:DAYLIGHT
TZOFFSETFROM:-0700
TZOFFSETTO:-0600
TZNAME:MDT
DTSTART:20240310T090000
END:DAYLIGHT
BEGIN:STANDARD
TZOFFSETFROM:-0600
TZOFFSETTO:-0700
TZNAME:MST
DTSTART:20241103T080000
END:STANDARD
BEGIN:DAYLIGHT
TZOFFSETFROM:-0700
TZOFFSETTO:-0600
TZNAME:MDT
DTSTART:20250309T090000
END:DAYLIGHT
BEGIN:STANDARD
TZOFFSETFROM:-0600
TZOFFSETTO:-0700
TZNAME:MST
DTSTART:20251102T080000
END:STANDARD
END:VTIMEZONE
BEGIN:VEVENT
DTSTART;TZID=America/Denver:20240305T090000
DTEND;TZID=America/Denver:20240305T103000
DTSTAMP:20260424T162632
CREATED:20240213T220114Z
LAST-MODIFIED:20240213T220114Z
UID:41683-1709629200-1709634600@macdnet.org
SUMMARY:DIY Strategic Planning Training Opportunities
DESCRIPTION:DIY Strategic Planning Training Opportunities\nMarch 5 at 9a.m and March 6 at 5p.m. \nPlease join the CD Bureau to learn how to craft a thoughtful and compelling roadmap for your conservation district’s future. These sessions will guide participants through a four-step process of crafting a strategic plan without the assistance of a hired planning facilitator. Take-home resources will include strategic planning discussion questions and an easily customizable plan template with sample conservation districts priorities\, strategies\, and goals for your district to consider. \nTerry Profota is the founder of Sage 4 Success and has been working with hundreds of nonprofits\, businesses\, and organizations helping them to improve their effectiveness since 2004. She retired as a professor at Montana State University’s Jake Jabs College of Business and Entrepreneurship at the end of 2018. Profota has also developed and taught online nonprofit management courses for the University of Montana and was a Founding Board Member and past Chair of the Montana Nonprofit Association. \nMore information on Sage 4 Success’ work\, resources and clients can be found at www.sagenonprofitconsulting.com \nZOOM INFORMATION \nJoin Zoom Meeting\nhttps://mt-gov.zoom.us/j/2227574277?pwd=ciswV0hxdk5ibFNDeklBTnBFVW50Zz09&omn=81625699530 \nMeeting ID: 222 757 4277\nPassword: 221372 \nDial by Telephone\n+1 646 558 8656
URL:https://macdnet.org/event-calendar/diy-strategic-planning-training-opportunities/2024-03-05/
LOCATION:Zoom
CATEGORIES:Events Calendar,Trainings and Workshops
END:VEVENT
END:VCALENDAR