BEGIN:VCALENDAR
VERSION:2.0
PRODID:-//Montana Association of Conservation Districts - ECPv6.15.20//NONSGML v1.0//EN
CALSCALE:GREGORIAN
METHOD:PUBLISH
X-WR-CALNAME:Montana Association of Conservation Districts
X-ORIGINAL-URL:https://macdnet.org
X-WR-CALDESC:Events for Montana Association of Conservation Districts
REFRESH-INTERVAL;VALUE=DURATION:PT1H
X-Robots-Tag:noindex
X-PUBLISHED-TTL:PT1H
BEGIN:VTIMEZONE
TZID:America/Denver
BEGIN:DAYLIGHT
TZOFFSETFROM:-0700
TZOFFSETTO:-0600
TZNAME:MDT
DTSTART:20230312T090000
END:DAYLIGHT
BEGIN:STANDARD
TZOFFSETFROM:-0600
TZOFFSETTO:-0700
TZNAME:MST
DTSTART:20231105T080000
END:STANDARD
BEGIN:DAYLIGHT
TZOFFSETFROM:-0700
TZOFFSETTO:-0600
TZNAME:MDT
DTSTART:20240310T090000
END:DAYLIGHT
BEGIN:STANDARD
TZOFFSETFROM:-0600
TZOFFSETTO:-0700
TZNAME:MST
DTSTART:20241103T080000
END:STANDARD
BEGIN:DAYLIGHT
TZOFFSETFROM:-0700
TZOFFSETTO:-0600
TZNAME:MDT
DTSTART:20250309T090000
END:DAYLIGHT
BEGIN:STANDARD
TZOFFSETFROM:-0600
TZOFFSETTO:-0700
TZNAME:MST
DTSTART:20251102T080000
END:STANDARD
END:VTIMEZONE
BEGIN:VEVENT
DTSTART;TZID=America/Denver:20240729T090000
DTEND;TZID=America/Denver:20240729T150000
DTSTAMP:20260420T141602
CREATED:20240729T173911Z
LAST-MODIFIED:20240729T181518Z
UID:45479-1722243600-1722265200@macdnet.org
SUMMARY:Flathead Waters Clean-Up
DESCRIPTION:Flathead Waters Clean-Up\nAugust 10\,2024 \nClean-up: 09:00am-03:00pm \nAfter-Party & Prize Giveaway: 04:00pm-08:00pm \nThe 2024 Flathead Waters Cleanup will take place on Saturday\, August 10th – mark your calendars! The cleanup itself will occur between 9AM and 3PM. After-Party & Prize Giveaway – 4 PM to 8 PM. After the cleanup\, join us at Sacred Waters Brewing Co. for food\, drinks\, and chances to win amazing prizes! \nMore Information and Registration Here
URL:https://macdnet.org/event-calendar/flathead-waters-clean-up/
LOCATION:Flathead Lake\, MT\, United States
CATEGORIES:Events Calendar,Miscellaneous
END:VEVENT
BEGIN:VEVENT
DTSTART;VALUE=DATE:20240803
DTEND;VALUE=DATE:20240805
DTSTAMP:20260420T141602
CREATED:20240729T160046Z
LAST-MODIFIED:20240729T160050Z
UID:45475-1722643200-1722815999@macdnet.org
SUMMARY:Boating Bonanza: AIS Event
DESCRIPTION:Boating Bonanza: AIS Event\nAugust 3-4\, 2024  \nGeorgetown Lake  \nGrassy Point Picnic Area \nInvasive Species Action Network (ISAN) and the Western Montana Conservation Commission (WMCC) are hosting outreach activities for boaters at Georgetown Lake August 3-4\, 2024! Find them at the Grassy Point Picnic Area boat ramp with a wealth of information on AIS and giveaways of tools like boot brushes\, sponges\, towels\, and dry bags. These tools will assist boaters in CLEANING off any mud or debris\, DRAINING standing water\, and thoroughly DRYING all types of watercrafts between uses. ISAN and WMCC will also be helping boaters use the lake’s brand new CD3 unit to ensure their gear is free of invasive species. The CD3 unit features a large brush\, hose\, vacuum\, and everything else boaters need to thoroughly clean all their water toys. Additionally\, if you present a recent boat inspection receipt or use the CD3 unit to clean your watercraft\, you’ll be entered to win a Lifetime paddle!
URL:https://macdnet.org/event-calendar/boating-bonanza-ais-event/
LOCATION:Georgetown Lake\, Anaconda\, CA\, 59711\, United States
CATEGORIES:Events Calendar,Miscellaneous
END:VEVENT
END:VCALENDAR