BEGIN:VCALENDAR
VERSION:2.0
PRODID:-//Montana Association of Conservation Districts - ECPv6.15.20//NONSGML v1.0//EN
CALSCALE:GREGORIAN
METHOD:PUBLISH
X-WR-CALNAME:Montana Association of Conservation Districts
X-ORIGINAL-URL:https://macdnet.org
X-WR-CALDESC:Events for Montana Association of Conservation Districts
REFRESH-INTERVAL;VALUE=DURATION:PT1H
X-Robots-Tag:noindex
X-PUBLISHED-TTL:PT1H
BEGIN:VTIMEZONE
TZID:America/Denver
BEGIN:DAYLIGHT
TZOFFSETFROM:-0700
TZOFFSETTO:-0600
TZNAME:MDT
DTSTART:20230312T090000
END:DAYLIGHT
BEGIN:STANDARD
TZOFFSETFROM:-0600
TZOFFSETTO:-0700
TZNAME:MST
DTSTART:20231105T080000
END:STANDARD
BEGIN:DAYLIGHT
TZOFFSETFROM:-0700
TZOFFSETTO:-0600
TZNAME:MDT
DTSTART:20240310T090000
END:DAYLIGHT
BEGIN:STANDARD
TZOFFSETFROM:-0600
TZOFFSETTO:-0700
TZNAME:MST
DTSTART:20241103T080000
END:STANDARD
BEGIN:DAYLIGHT
TZOFFSETFROM:-0700
TZOFFSETTO:-0600
TZNAME:MDT
DTSTART:20250309T090000
END:DAYLIGHT
BEGIN:STANDARD
TZOFFSETFROM:-0600
TZOFFSETTO:-0700
TZNAME:MST
DTSTART:20251102T080000
END:STANDARD
END:VTIMEZONE
BEGIN:VEVENT
DTSTART;TZID=America/Denver:20240503T090000
DTEND;TZID=America/Denver:20240503T170000
DTSTAMP:20260419T215747
CREATED:20240401T202859Z
LAST-MODIFIED:20240401T202859Z
UID:42833-1714726800-1714755600@macdnet.org
SUMMARY:Montana Agritourism Conference
DESCRIPTION:2024 Montana Agritourism Conference: Building Agritourism from the Ground Up: Inviting You to the Table.\nMay 3\, 2024 9am-5pm \nMontana State University  \nBozeman\, MT \nThe Montana Agritourism Conference is organized by the Montana Agritourism Fellows and MSU\, where professionals from various fields like tourism\, agriculture\, education\, and government come together to explore agritourism. The theme\, “Building Agritourism from the Ground Up: Inviting You to the Table\,” guides discussions on starting and managing agritourism businesses\, effective marketing strategies\, funding opportunities\, state-level initiatives\, and more. Keynote speakers\, including founders of successful agritourism ventures and researchers\, share their insights. It’s a great chance to learn\, connect\, and get inspired in the agritourism industry. \nFull Agenda Here \nClick Here to Register \nMore Information Here
URL:https://macdnet.org/event-calendar/montana-agritourism-conference/
LOCATION:Montana State University\, Culbertson Hall\, 100\, Bozeman\, MT 59717\, Bozeman\, MT\, 59717\, United States
CATEGORIES:Events Calendar,Miscellaneous
END:VEVENT
BEGIN:VEVENT
DTSTART;TZID=America/Denver:20240503T110000
DTEND;TZID=America/Denver:20240503T133000
DTSTAMP:20260419T215747
CREATED:20240410T134116Z
LAST-MODIFIED:20240410T134116Z
UID:43098-1714734000-1714743000@macdnet.org
SUMMARY:Cattle Handling and Stockman Clinic
DESCRIPTION:Cattle Handling and Stockman Clinic\nMay 3rd\, 2024  \nLewistown Livestock Yards   \nLewistown\, MT \nCome join a cattle handling and stockmanship clinic in Lewistown on May 3rd. There will be presentations\, free lunch\, and more! \nFor more information reach out to Ryan or Megan Green at (406) 462-5408. \nEvent Poster
URL:https://macdnet.org/event-calendar/cattle-handling-and-stockman-clinic/
LOCATION:Lewistown\, Lewistown\, MT\, 59457\, United States
CATEGORIES:Events Calendar,Miscellaneous
END:VEVENT
END:VCALENDAR