BEGIN:VCALENDAR
VERSION:2.0
PRODID:-//Montana Association of Conservation Districts - ECPv6.15.20//NONSGML v1.0//EN
CALSCALE:GREGORIAN
METHOD:PUBLISH
X-ORIGINAL-URL:https://macdnet.org
X-WR-CALDESC:Events for Montana Association of Conservation Districts
REFRESH-INTERVAL;VALUE=DURATION:PT1H
X-Robots-Tag:noindex
X-PUBLISHED-TTL:PT1H
BEGIN:VTIMEZONE
TZID:America/Denver
BEGIN:DAYLIGHT
TZOFFSETFROM:-0700
TZOFFSETTO:-0600
TZNAME:MDT
DTSTART:20230312T090000
END:DAYLIGHT
BEGIN:STANDARD
TZOFFSETFROM:-0600
TZOFFSETTO:-0700
TZNAME:MST
DTSTART:20231105T080000
END:STANDARD
BEGIN:DAYLIGHT
TZOFFSETFROM:-0700
TZOFFSETTO:-0600
TZNAME:MDT
DTSTART:20240310T090000
END:DAYLIGHT
BEGIN:STANDARD
TZOFFSETFROM:-0600
TZOFFSETTO:-0700
TZNAME:MST
DTSTART:20241103T080000
END:STANDARD
BEGIN:DAYLIGHT
TZOFFSETFROM:-0700
TZOFFSETTO:-0600
TZNAME:MDT
DTSTART:20250309T090000
END:DAYLIGHT
BEGIN:STANDARD
TZOFFSETFROM:-0600
TZOFFSETTO:-0700
TZNAME:MST
DTSTART:20251102T080000
END:STANDARD
END:VTIMEZONE
BEGIN:VEVENT
DTSTART;VALUE=DATE:20240422
DTEND;VALUE=DATE:20240423
DTSTAMP:20260419T134607
CREATED:20240402T142935Z
LAST-MODIFIED:20240402T142935Z
UID:42856-1713744000-1713830399@macdnet.org
SUMMARY:Earth Day 2024
DESCRIPTION:
URL:https://macdnet.org/event-calendar/earth-day-2024/
CATEGORIES:Miscellaneous
END:VEVENT
BEGIN:VEVENT
DTSTART;TZID=America/Denver:20240425T120000
DTEND;TZID=America/Denver:20240425T130000
DTSTAMP:20260419T134607
CREATED:20240417T162348Z
LAST-MODIFIED:20240417T162442Z
UID:43236-1714046400-1714050000@macdnet.org
SUMMARY:Conservation Outcomes Web Series
DESCRIPTION:Conservation Outcomes Web Series: Emerging Findings on the Effects of Cover Crops on Grassland Birds\nApril 25  12:00pm-1:00pm \nAs the use of cover crops to improve soil health and reduce water quality concerns on working cropland has increased in recent years\, questions have emerged regarding the value of cover crops to wildlife. For example\, do cover crops provide needed habitat for grassland birds\, a group that has experienced widespread population decline in recent decades? What is the value of cover crop fields to grassland birds during the winter\, spring migration\, and breeding periods compared to cropland fields without cover crops or areas of perennial cover? \nDr. Adam Janke of Iowa State University and Dr. David Buehler of the University of Tennessee will provide answers to these questions and more during our free\, one-hour Conservation Outcomes Webinar. This webinar will share findings from recent studies examining bird use of cover crops in Iowa and Tennessee conducted in partnership with USDA’s Conservation Effects Assessment Project. Findings may be used to support on-the-ground cropland management decisions informed by a better understanding of the potential role of cover crops in grassland bird conservation efforts. \nMore Information  \n  \nJoin Meeting Below  \nJoin Teams Meeting  \nYou may also join via audio only: \nPhone Number: 202-650-0123\nPhone Conference ID: 554 587 395#
URL:https://macdnet.org/event-calendar/conservation-outcomes-web-series/
LOCATION:Microsoft Teams
CATEGORIES:Events Calendar,Miscellaneous
END:VEVENT
BEGIN:VEVENT
DTSTART;TZID=America/Denver:20240426T100000
DTEND;TZID=America/Denver:20240426T130000
DTSTAMP:20260419T134607
CREATED:20240411T193809Z
LAST-MODIFIED:20240412T144220Z
UID:43161-1714125600-1714136400@macdnet.org
SUMMARY:Yellowstone Conservation District Annual Arbor Day Tree Giveaway
DESCRIPTION:Yellowstone Conservation District Annual Arbor Day Tree Giveaway\nApril 26 10:00am-1:00pm \n1670S. 48th St. West Billings\, MT 59106 \n  \nThe Yellowstone Conservation District is providing free trees to Yellowstone County residents in celebration of Arbor Day. Over 300 bagged trees will be given away as well as free planting guides for the trees. \nThe trees that will be given away this year are: \n1. Ash\, Green – 2-3’ bareroot\n2. American Plum – 3’+ – bareroot\n3. Amur Maple – 3’+ bareroot\n4. Cottonwood Siouxland – 3-5’ bareroot\n5. Lilac\, Villosa – 3’ bareroot\n6. Linden\, American – 3-5’ bareroot\n7. Ponderosa pine – 10 cubic inch containers\n8. Red Osier Dogwood – 2-3’ bareroot\n9. Quaking Aspen – 10 &amp; 27 cubic inch containers \nTrees will not be given out before 10:00am. Tree quantities are limited and are on a first come first serve basis. \nContact Yellowstone Conservation District if you have any questions. \nMore Information Here
URL:https://macdnet.org/event-calendar/yellowstone-conservation-district-annual-arbor-day-tree-giveaway/
LOCATION:Billings\, MT\, Billings\, MT\, United States
CATEGORIES:Events Calendar,Miscellaneous
END:VEVENT
END:VCALENDAR