BEGIN:VCALENDAR
VERSION:2.0
PRODID:-//Montana Association of Conservation Districts - ECPv6.15.20//NONSGML v1.0//EN
CALSCALE:GREGORIAN
METHOD:PUBLISH
X-WR-CALNAME:Montana Association of Conservation Districts
X-ORIGINAL-URL:https://macdnet.org
X-WR-CALDESC:Events for Montana Association of Conservation Districts
REFRESH-INTERVAL;VALUE=DURATION:PT1H
X-Robots-Tag:noindex
X-PUBLISHED-TTL:PT1H
BEGIN:VTIMEZONE
TZID:America/Denver
BEGIN:DAYLIGHT
TZOFFSETFROM:-0700
TZOFFSETTO:-0600
TZNAME:MDT
DTSTART:20210314T090000
END:DAYLIGHT
BEGIN:STANDARD
TZOFFSETFROM:-0600
TZOFFSETTO:-0700
TZNAME:MST
DTSTART:20211107T080000
END:STANDARD
BEGIN:DAYLIGHT
TZOFFSETFROM:-0700
TZOFFSETTO:-0600
TZNAME:MDT
DTSTART:20220313T090000
END:DAYLIGHT
BEGIN:STANDARD
TZOFFSETFROM:-0600
TZOFFSETTO:-0700
TZNAME:MST
DTSTART:20221106T080000
END:STANDARD
BEGIN:DAYLIGHT
TZOFFSETFROM:-0700
TZOFFSETTO:-0600
TZNAME:MDT
DTSTART:20230312T090000
END:DAYLIGHT
BEGIN:STANDARD
TZOFFSETFROM:-0600
TZOFFSETTO:-0700
TZNAME:MST
DTSTART:20231105T080000
END:STANDARD
END:VTIMEZONE
BEGIN:VEVENT
DTSTART;TZID=America/Denver:20220817T100000
DTEND;TZID=America/Denver:20220817T120000
DTSTAMP:20260425T104615
CREATED:20220119T234558Z
LAST-MODIFIED:20220721T212149Z
UID:25096-1660730400-1660737600@macdnet.org
SUMMARY:Employee Roundtable
DESCRIPTION:[vc_row][vc_column][vc_column_text]Employee Roundtable | Aug 17 @ 10 am\nDNRC will be rolling out their new CD Project Grants and you will be able to get all (or at least most) of the details that day. \nEO Roundtable Meetings usually meet on the third Wednesday of the month. For this month’s zoom information contact Chris Evans (chris@lewisandclarkcd.org).[/vc_column_text][/vc_column][/vc_row]
URL:https://macdnet.org/event-calendar/employee-roundtable-2-2022-08-17/
LOCATION:Zoom
CATEGORIES:Events Calendar,Meetings,Trainings and Workshops
END:VEVENT
END:VCALENDAR