BEGIN:VCALENDAR
VERSION:2.0
PRODID:-//Montana Association of Conservation Districts - ECPv6.15.20//NONSGML v1.0//EN
CALSCALE:GREGORIAN
METHOD:PUBLISH
X-WR-CALNAME:Montana Association of Conservation Districts
X-ORIGINAL-URL:https://macdnet.org
X-WR-CALDESC:Events for Montana Association of Conservation Districts
REFRESH-INTERVAL;VALUE=DURATION:PT1H
X-Robots-Tag:noindex
X-PUBLISHED-TTL:PT1H
BEGIN:VTIMEZONE
TZID:America/Denver
BEGIN:DAYLIGHT
TZOFFSETFROM:-0700
TZOFFSETTO:-0600
TZNAME:MDT
DTSTART:20210314T090000
END:DAYLIGHT
BEGIN:STANDARD
TZOFFSETFROM:-0600
TZOFFSETTO:-0700
TZNAME:MST
DTSTART:20211107T080000
END:STANDARD
BEGIN:DAYLIGHT
TZOFFSETFROM:-0700
TZOFFSETTO:-0600
TZNAME:MDT
DTSTART:20220313T090000
END:DAYLIGHT
BEGIN:STANDARD
TZOFFSETFROM:-0600
TZOFFSETTO:-0700
TZNAME:MST
DTSTART:20221106T080000
END:STANDARD
BEGIN:DAYLIGHT
TZOFFSETFROM:-0700
TZOFFSETTO:-0600
TZNAME:MDT
DTSTART:20230312T090000
END:DAYLIGHT
BEGIN:STANDARD
TZOFFSETFROM:-0600
TZOFFSETTO:-0700
TZNAME:MST
DTSTART:20231105T080000
END:STANDARD
END:VTIMEZONE
BEGIN:VEVENT
DTSTART;TZID=America/Denver:20220620T090000
DTEND;TZID=America/Denver:20220620T110000
DTSTAMP:20260425T182009
CREATED:20220610T153032Z
LAST-MODIFIED:20220610T153400Z
UID:29063-1655715600-1655722800@macdnet.org
SUMMARY:Nutrient Work Group
DESCRIPTION:[vc_row][vc_column][vc_column_text]\nThe Nutrient Work Group meetings will be held every two weeks starting in August. A monthly meeting will be held in June and July. The July meeting time has been adjusted to help with scheduling conflicts. Please see the schedule below. Agendas with Zoom links will be provided in advance of each meeting. Meetings will be added to the calendar\, according to the schedule below\, as discussions with the Nutrient Work Group progress. If you have any questions\, concerns or comments\, please reach out to Christina using the contact information below. \n\nWednesday\, June 22: 9 – 11 a.m\nWednesday\, July 20: 8:30 – 10 a.m.\n2nd and 4th Wednesday of the month beginning August 2022 from 9 to 11 a.m.\nFirst regular meeting Wednesday\, August 10: 9-11 a.m.\n\nThe DEQ website will be updated with the above dates. Please contact Christina Staten with any questions: CStaten@mt.gov\, (406) 444-2836[/vc_column_text][/vc_column][/vc_row]
URL:https://macdnet.org/event-calendar/nutrient-work-group/2022-06-20/
LOCATION:Zoom
CATEGORIES:Meetings
END:VEVENT
END:VCALENDAR