BEGIN:VCALENDAR
VERSION:2.0
PRODID:-//Montana Association of Conservation Districts - ECPv6.15.20//NONSGML v1.0//EN
CALSCALE:GREGORIAN
METHOD:PUBLISH
X-WR-CALNAME:Montana Association of Conservation Districts
X-ORIGINAL-URL:https://macdnet.org
X-WR-CALDESC:Events for Montana Association of Conservation Districts
REFRESH-INTERVAL;VALUE=DURATION:PT1H
X-Robots-Tag:noindex
X-PUBLISHED-TTL:PT1H
BEGIN:VTIMEZONE
TZID:America/Denver
BEGIN:DAYLIGHT
TZOFFSETFROM:-0700
TZOFFSETTO:-0600
TZNAME:MDT
DTSTART:20210314T090000
END:DAYLIGHT
BEGIN:STANDARD
TZOFFSETFROM:-0600
TZOFFSETTO:-0700
TZNAME:MST
DTSTART:20211107T080000
END:STANDARD
BEGIN:DAYLIGHT
TZOFFSETFROM:-0700
TZOFFSETTO:-0600
TZNAME:MDT
DTSTART:20220313T090000
END:DAYLIGHT
BEGIN:STANDARD
TZOFFSETFROM:-0600
TZOFFSETTO:-0700
TZNAME:MST
DTSTART:20221106T080000
END:STANDARD
BEGIN:DAYLIGHT
TZOFFSETFROM:-0700
TZOFFSETTO:-0600
TZNAME:MDT
DTSTART:20230312T090000
END:DAYLIGHT
BEGIN:STANDARD
TZOFFSETFROM:-0600
TZOFFSETTO:-0700
TZNAME:MST
DTSTART:20231105T080000
END:STANDARD
END:VTIMEZONE
BEGIN:VEVENT
DTSTART;TZID=America/Denver:20220609T100000
DTEND;TZID=America/Denver:20220609T120000
DTSTAMP:20260423T133333
CREATED:20220302T222504Z
LAST-MODIFIED:20220302T222504Z
UID:26130-1654768800-1654776000@macdnet.org
SUMMARY:Montana Drought Task Force Meeting
DESCRIPTION:The next Montana Drought Task Force meeting is March 9\, 10:00a.m. – 12:00p.m. \n\nZoom registration\nAgenda\n\nFor more information about the Montana Drought Management Plan\, check out this Webinar or visit mtdroughtinfo.org.
URL:https://macdnet.org/event-calendar/montana-drought-task-force-meeting/
LOCATION:Zoom
CATEGORIES:Meetings
ATTACH;FMTTYPE=image/png:https://macdnet.org/wp-content/uploads/2021/12/mt-dnrc.png
END:VEVENT
END:VCALENDAR