BEGIN:VCALENDAR
VERSION:2.0
PRODID:-//Montana Association of Conservation Districts - ECPv6.15.20//NONSGML v1.0//EN
CALSCALE:GREGORIAN
METHOD:PUBLISH
X-WR-CALNAME:Montana Association of Conservation Districts
X-ORIGINAL-URL:https://macdnet.org
X-WR-CALDESC:Events for Montana Association of Conservation Districts
REFRESH-INTERVAL;VALUE=DURATION:PT1H
X-Robots-Tag:noindex
X-PUBLISHED-TTL:PT1H
BEGIN:VTIMEZONE
TZID:America/Denver
BEGIN:DAYLIGHT
TZOFFSETFROM:-0700
TZOFFSETTO:-0600
TZNAME:MDT
DTSTART:20210314T090000
END:DAYLIGHT
BEGIN:STANDARD
TZOFFSETFROM:-0600
TZOFFSETTO:-0700
TZNAME:MST
DTSTART:20211107T080000
END:STANDARD
BEGIN:DAYLIGHT
TZOFFSETFROM:-0700
TZOFFSETTO:-0600
TZNAME:MDT
DTSTART:20220313T090000
END:DAYLIGHT
BEGIN:STANDARD
TZOFFSETFROM:-0600
TZOFFSETTO:-0700
TZNAME:MST
DTSTART:20221106T080000
END:STANDARD
BEGIN:DAYLIGHT
TZOFFSETFROM:-0700
TZOFFSETTO:-0600
TZNAME:MDT
DTSTART:20230312T090000
END:DAYLIGHT
BEGIN:STANDARD
TZOFFSETFROM:-0600
TZOFFSETTO:-0700
TZNAME:MST
DTSTART:20231105T080000
END:STANDARD
END:VTIMEZONE
BEGIN:VEVENT
DTSTART;TZID=America/Denver:20220601T163000
DTEND;TZID=America/Denver:20220601T173000
DTSTAMP:20260425T182039
CREATED:20220525T181329Z
LAST-MODIFIED:20220525T181329Z
UID:28597-1654101000-1654104600@macdnet.org
SUMMARY:Montana Invasive Species Council (MISC) Meeting
DESCRIPTION:[vc_row][vc_column][vc_column_text]\nMontana Invasive Species Council to meet Early June.\nMontana Invasive Species Council meets June 1\, 2022 \nHELENA\, Mont — The Montana Invasive Species Council (MISC) will hold its next meeting Wednesday\, June 1\, in Helena. The meeting will take place from 9:00 am to 4:30 pm at the Montana  State Capitol room 102\,  a virtual option will be available. \nThe meeting will commence with a welcome from Chair Bryce Christiaens. The Council will hear updates on the AIS grant program\, Feral Swine\, Salt Cedar\, and the Firewood Science Advisory Panel recommendation\,.  The Council will discuss and take action on proposed revisions to the AIS grant program guidelines. Click to view the June MISC meeting agenda. \nMISC is a statewide partnership working to protect Montana’s economy\, natural resources\, and public health through a coordinated approach to combat invasive species. All MISC meetings are open to the public. For more information about the meeting and to access meeting materials\, visit misc.mt.gov or contact Liz Lodman\, Council Coordinator.  A live stream video of the meeting can be found on Montana Legislative Division website at: http://sg001-harmony.sliq.net/00309/Harmony/en/PowerBrowser/PowerBrowserV2/20220601/-1/44632 \nTo participate via zoom\, register at the following link: https://mt-gov.zoom.us/webinar/register/WN_UT0mL3hqTR-hJa4avcbT5A.  If you have trouble registering using the link\, please email EMoran@mt.gov with your name and a request. Written comments may be emailed to staff and forwarded to the Council.[/vc_column_text][/vc_column][/vc_row]
URL:https://macdnet.org/event-calendar/montana-invasive-species-council-misc-meeting/
LOCATION:Helena\, Montana\, Helena\, MT\, 59601\, United States
CATEGORIES:Meetings
ATTACH;FMTTYPE=image/png:https://macdnet.org/wp-content/uploads/2022/05/Screen-Shot-2022-05-25-at-12.12.57-PM.png
END:VEVENT
END:VCALENDAR