BEGIN:VCALENDAR
VERSION:2.0
PRODID:-//Montana Association of Conservation Districts - ECPv6.15.20//NONSGML v1.0//EN
CALSCALE:GREGORIAN
METHOD:PUBLISH
X-WR-CALNAME:Montana Association of Conservation Districts
X-ORIGINAL-URL:https://macdnet.org
X-WR-CALDESC:Events for Montana Association of Conservation Districts
REFRESH-INTERVAL;VALUE=DURATION:PT1H
X-Robots-Tag:noindex
X-PUBLISHED-TTL:PT1H
BEGIN:VTIMEZONE
TZID:America/Denver
BEGIN:DAYLIGHT
TZOFFSETFROM:-0700
TZOFFSETTO:-0600
TZNAME:MDT
DTSTART:20230312T090000
END:DAYLIGHT
BEGIN:STANDARD
TZOFFSETFROM:-0600
TZOFFSETTO:-0700
TZNAME:MST
DTSTART:20231105T080000
END:STANDARD
BEGIN:DAYLIGHT
TZOFFSETFROM:-0700
TZOFFSETTO:-0600
TZNAME:MDT
DTSTART:20240310T090000
END:DAYLIGHT
BEGIN:STANDARD
TZOFFSETFROM:-0600
TZOFFSETTO:-0700
TZNAME:MST
DTSTART:20241103T080000
END:STANDARD
BEGIN:DAYLIGHT
TZOFFSETFROM:-0700
TZOFFSETTO:-0600
TZNAME:MDT
DTSTART:20250309T090000
END:DAYLIGHT
BEGIN:STANDARD
TZOFFSETFROM:-0600
TZOFFSETTO:-0700
TZNAME:MST
DTSTART:20251102T080000
END:STANDARD
END:VTIMEZONE
BEGIN:VEVENT
DTSTART;TZID=America/Denver:20240416T080000
DTEND;TZID=America/Denver:20240416T180000
DTSTAMP:20260419T175322
CREATED:20240226T185808Z
LAST-MODIFIED:20240226T185809Z
UID:41920-1713254400-1713290400@macdnet.org
SUMMARY:Montana Watershed Coordination Council Fundraising Workshop
DESCRIPTION:Montana Watershed Coordination Council Fundraising Workshop\nApril 16-17  \nBest Western Helena Great Northern Hotel \n835 Great Northern Blvd\, Helena\, MT 59601 \nJoin the Montana Watershed Coordination Council for a workshop on fundraising. Certified Fund Raising Executive Chany Ockert will focus on conservation fund development\, stewarding donor relationships\, and building an annual fund development calendar. Lara Tomov from Stories for Action will host a Life in the Land film screening and discussion as well as a story workshop that will include creating a story pitch packet and budget. \nFull Agenda Here \nRegister Here \nMore Information Here
URL:https://macdnet.org/event-calendar/montana-watershed-coordination-council-fundraising-workshop/2024-04-16/
LOCATION:Best Western Premier Helena Great Northern Hotel\, 835 Great Northern Blvd\,\, Helena\, MT\, 59601\, United States
CATEGORIES:Events Calendar,Trainings and Workshops
END:VEVENT
BEGIN:VEVENT
DTSTART;TZID=America/Denver:20240418T100000
DTEND;TZID=America/Denver:20240418T120000
DTSTAMP:20260419T175322
CREATED:20240409T155920Z
LAST-MODIFIED:20240409T155920Z
UID:43011-1713434400-1713441600@macdnet.org
SUMMARY:Conservation District Advisory Council Meeting
DESCRIPTION:Conservation Districts Advisory Council Meets April 18 \nHELENA\, MT —  The Conservation Districts Advisory Council (CDAC) will meet on April 18 from 10:00  a.m.- noon to review Conservation District Planning\, Project\, and Pollinator grant applications. \nThe purpose of the Council is to advise and assist the CDB on programs\, activities\, and programs relating to conservation districts. Specifically\, the Council will: \n\nAdvise and assist the Conservation Districts Bureau on district operations and conservation-related issues including impending conservation matters.\nFacilitate communication between the Conservation Districts Bureau and districts.\nAdvocate about the importance of the work and value of the districts to the public\, partners\, and stakeholders.\nActively participate in recruiting\, training\, and engaging district supervisors.\n\nTo participate via zoom\, email Denise Cook at dcook3@mt.gov with your name and a request. Instructions will be sent for joining and participating in the meeting by 5 p.m. the day before the meeting. Written comments may be emailed to CDB staff and forwarded to the Council. \nZoom Link Here \nMeeting ID: 868 9927 7264 Password: 368468 \nDail by Telephone +1 646 558 8656 \nMore Information Here
URL:https://macdnet.org/event-calendar/conservation-district-advisory-council-meeting/
LOCATION:Zoom
CATEGORIES:Events Calendar,Meetings
END:VEVENT
BEGIN:VEVENT
DTSTART;TZID=America/Denver:20240420T100000
DTEND;TZID=America/Denver:20240420T150000
DTSTAMP:20260419T175322
CREATED:20240402T140057Z
LAST-MODIFIED:20240402T140057Z
UID:42849-1713607200-1713625200@macdnet.org
SUMMARY:Gallatin Valley Earth Day Festival
DESCRIPTION:Gallatin Valley Earth Day Festival\nSaturday April 20th\, 2024 from 10am-3pm \nGallatin Valley Fairgrounds  \nBozeman\, MT  \nCome celebrate Earth Day at the Gallatin Valley Fairgrounds. There will be exhibits\, talks\, children’s activities\, food\, music and more! \nFull Agenda Here \nMore Information Here
URL:https://macdnet.org/event-calendar/gallatin-valley-earth-day-festival/
LOCATION:Gallatin County Fairgrounds\, 901 N Black Ave\, Bozeman\, MT\, 59715\, United States
CATEGORIES:Events Calendar,Miscellaneous
END:VEVENT
END:VCALENDAR