BEGIN:VCALENDAR
VERSION:2.0
PRODID:-//Montana Association of Conservation Districts - ECPv6.15.20//NONSGML v1.0//EN
CALSCALE:GREGORIAN
METHOD:PUBLISH
X-ORIGINAL-URL:https://macdnet.org
X-WR-CALDESC:Events for Montana Association of Conservation Districts
REFRESH-INTERVAL;VALUE=DURATION:PT1H
X-Robots-Tag:noindex
X-PUBLISHED-TTL:PT1H
BEGIN:VTIMEZONE
TZID:America/Denver
BEGIN:DAYLIGHT
TZOFFSETFROM:-0700
TZOFFSETTO:-0600
TZNAME:MDT
DTSTART:20240310T090000
END:DAYLIGHT
BEGIN:STANDARD
TZOFFSETFROM:-0600
TZOFFSETTO:-0700
TZNAME:MST
DTSTART:20241103T080000
END:STANDARD
BEGIN:DAYLIGHT
TZOFFSETFROM:-0700
TZOFFSETTO:-0600
TZNAME:MDT
DTSTART:20250309T090000
END:DAYLIGHT
BEGIN:STANDARD
TZOFFSETFROM:-0600
TZOFFSETTO:-0700
TZNAME:MST
DTSTART:20251102T080000
END:STANDARD
BEGIN:DAYLIGHT
TZOFFSETFROM:-0700
TZOFFSETTO:-0600
TZNAME:MDT
DTSTART:20260308T090000
END:DAYLIGHT
BEGIN:STANDARD
TZOFFSETFROM:-0600
TZOFFSETTO:-0700
TZNAME:MST
DTSTART:20261101T080000
END:STANDARD
END:VTIMEZONE
BEGIN:VEVENT
DTSTART;VALUE=DATE:20250531
DTEND;VALUE=DATE:20250601
DTSTAMP:20260423T064538
CREATED:20250513T185400Z
LAST-MODIFIED:20250513T185400Z
UID:69081-1748649600-1748735999@macdnet.org
SUMMARY:Weed pull at Tower Rock State Park
DESCRIPTION:Weed Pull at Tower Rock State Park\nMay 31  \nTower Rock State Park  \n2325 Old US Highway 91 \nCascade\, MT 59421 \nTower Rock State Park is looking for volunteers to assist with a weed pull inside the area of the park which burned in 2024 to remove noxious weeds and help give the native plants room to grow and thrive. Gloves and water will be provided for volunteers\, or bring your own\, and wear closed-toe boots along with long pants and shirts. Call 406-866-2217 or email firstpeoplesbuffalojump@mt.gov to register. Tower Rock State Park is about 8 miles south of Cascade.
URL:https://macdnet.org/event-calendar/weed-pull-at-tower-rock-state-park/
LOCATION:Tower Rock State Park\, 2325 Old US Highway 91\, Cascade\, Montana\, 59421
CATEGORIES:Events Calendar
END:VEVENT
BEGIN:VEVENT
DTSTART;TZID=America/Denver:20250531T100000
DTEND;TZID=America/Denver:20250531T120000
DTSTAMP:20260423T064538
CREATED:20250506T145607Z
LAST-MODIFIED:20250514T190035Z
UID:68142-1748685600-1748692800@macdnet.org
SUMMARY:Benefits of Native Plant Landscaping Micro-Workshop
DESCRIPTION:Benefits of Native Plant Landscaping Micro-Workshop\nMay 31  \n10:00AM-12:00PM  \nLupine Lab – Gerald W. Marks Exploration Center \n1075 South Avenue W \n Missoula\, MT 59801 \nThe Missoula Conservation District will host a short\, public workshop on the many benefits of landscaping with native plants\, whether starting from scratch or converting part of an existing lawn or flower bed. These benefits include reduced pesticide and fertilizer use\, pollinator habitat creation\, reduced watering needs\, eliminating the need for mowing\, and improving soil health while still creating an aesthetically pleasing environment. \nClick here for more information. You can also contact the Missoula Conservation District office at office@mslacd.macdnet.org or 406-258-3430. \n 
URL:https://macdnet.org/event-calendar/benefits-of-native-plant-landscaping-micro-workshop/
LOCATION:Lupine Lab – Gerald W. Marks Exploration Center\, 1075 South Avenue W\, Missoula\, Montana\, 59801
CATEGORIES:Events Calendar
END:VEVENT
END:VCALENDAR