BEGIN:VCALENDAR
VERSION:2.0
PRODID:-//Montana Association of Conservation Districts - ECPv6.15.20//NONSGML v1.0//EN
CALSCALE:GREGORIAN
METHOD:PUBLISH
X-WR-CALNAME:Montana Association of Conservation Districts
X-ORIGINAL-URL:https://macdnet.org
X-WR-CALDESC:Events for Montana Association of Conservation Districts
REFRESH-INTERVAL;VALUE=DURATION:PT1H
X-Robots-Tag:noindex
X-PUBLISHED-TTL:PT1H
BEGIN:VTIMEZONE
TZID:America/Denver
BEGIN:DAYLIGHT
TZOFFSETFROM:-0700
TZOFFSETTO:-0600
TZNAME:MDT
DTSTART:20240310T090000
END:DAYLIGHT
BEGIN:STANDARD
TZOFFSETFROM:-0600
TZOFFSETTO:-0700
TZNAME:MST
DTSTART:20241103T080000
END:STANDARD
BEGIN:DAYLIGHT
TZOFFSETFROM:-0700
TZOFFSETTO:-0600
TZNAME:MDT
DTSTART:20250309T090000
END:DAYLIGHT
BEGIN:STANDARD
TZOFFSETFROM:-0600
TZOFFSETTO:-0700
TZNAME:MST
DTSTART:20251102T080000
END:STANDARD
BEGIN:DAYLIGHT
TZOFFSETFROM:-0700
TZOFFSETTO:-0600
TZNAME:MDT
DTSTART:20260308T090000
END:DAYLIGHT
BEGIN:STANDARD
TZOFFSETFROM:-0600
TZOFFSETTO:-0700
TZNAME:MST
DTSTART:20261101T080000
END:STANDARD
END:VTIMEZONE
BEGIN:VEVENT
DTSTART;TZID=America/Denver:20250421T103000
DTEND;TZID=America/Denver:20250421T143000
DTSTAMP:20260424T151239
CREATED:20250325T171018Z
LAST-MODIFIED:20250325T171019Z
UID:61200-1745231400-1745245800@macdnet.org
SUMMARY:Lewis & Clark CD Pollinator Seed Pick-Up
DESCRIPTION:Lewis & Clark CD Pollinator Seed Pick-Up\nApril 21  \n10:30AM-02:30PM  \n132 Main St  \nAugusta\, MT 59410 \nStaff time is limited. If you have signed up for seed and cannot pick it up on one of these dates\, you will need to contact Chris Evans at chris@lewisandclarkcd.org to set up an appointment to pick up the seed. \nSeed is being claimed quickly this year. If you’ve not yet signed up for seed\, and would like to\, go to our website at https://lewisandclarkcd.org/programs/pollinator-initiative/ and sign up. \nThose who are willing to provide follow up monitoring (one email a year requesting photos of your plot)\, will get priority for seed this year.
URL:https://macdnet.org/event-calendar/lewis-clark-cd-pollinator-seed-pick-up-3/
CATEGORIES:Events Calendar
ORGANIZER;CN="Lewis and Clark Conservation District":MAILTO:lccd@mt.net
END:VEVENT
END:VCALENDAR