BEGIN:VCALENDAR
VERSION:2.0
PRODID:-//Montana Association of Conservation Districts - ECPv6.15.20//NONSGML v1.0//EN
CALSCALE:GREGORIAN
METHOD:PUBLISH
X-WR-CALNAME:Montana Association of Conservation Districts
X-ORIGINAL-URL:https://macdnet.org
X-WR-CALDESC:Events for Montana Association of Conservation Districts
REFRESH-INTERVAL;VALUE=DURATION:PT1H
X-Robots-Tag:noindex
X-PUBLISHED-TTL:PT1H
BEGIN:VTIMEZONE
TZID:America/Denver
BEGIN:DAYLIGHT
TZOFFSETFROM:-0700
TZOFFSETTO:-0600
TZNAME:MDT
DTSTART:20240310T090000
END:DAYLIGHT
BEGIN:STANDARD
TZOFFSETFROM:-0600
TZOFFSETTO:-0700
TZNAME:MST
DTSTART:20241103T080000
END:STANDARD
BEGIN:DAYLIGHT
TZOFFSETFROM:-0700
TZOFFSETTO:-0600
TZNAME:MDT
DTSTART:20250309T090000
END:DAYLIGHT
BEGIN:STANDARD
TZOFFSETFROM:-0600
TZOFFSETTO:-0700
TZNAME:MST
DTSTART:20251102T080000
END:STANDARD
BEGIN:DAYLIGHT
TZOFFSETFROM:-0700
TZOFFSETTO:-0600
TZNAME:MDT
DTSTART:20260308T090000
END:DAYLIGHT
BEGIN:STANDARD
TZOFFSETFROM:-0600
TZOFFSETTO:-0700
TZNAME:MST
DTSTART:20261101T080000
END:STANDARD
END:VTIMEZONE
BEGIN:VEVENT
DTSTART;VALUE=DATE:20250401
DTEND;VALUE=DATE:20250408
DTSTAMP:20260422T064956
CREATED:20250305T151153Z
LAST-MODIFIED:20250311T192427Z
UID:57170-1743465600-1744070399@macdnet.org
SUMMARY:Soil Health Week
DESCRIPTION:Soil Health Week\nApril 1-7 \nJoin in the celebration of Montana’s 2nd annual Soil Health Week! \nThe weeklong celebration is designed to raise awareness about how healthy soils can increase crop yields\, strengthen food security\, create greater climate resiliency\, and improve nutrition. Soil Health Day and Week highlights the work of everyone stewarding soil health across Montana. \nClick here for more info.
URL:https://macdnet.org/event-calendar/soil-health-week/
CATEGORIES:Events Calendar
END:VEVENT
BEGIN:VEVENT
DTSTART;VALUE=DATE:20250403
DTEND;VALUE=DATE:20250404
DTSTAMP:20260422T064956
CREATED:20250305T150802Z
LAST-MODIFIED:20250311T192350Z
UID:57167-1743638400-1743724799@macdnet.org
SUMMARY:Soil Health Day
DESCRIPTION:Soil Health Day\nApril 3 \nMontana’s second ever Soil Health Day will be held on April 3rd. MACD invites you to join us in celebrating soil health in Montana. \nClick here for more information.
URL:https://macdnet.org/event-calendar/soil-health-day/
CATEGORIES:Events Calendar
END:VEVENT
BEGIN:VEVENT
DTSTART;VALUE=DATE:20250403
DTEND;VALUE=DATE:20250405
DTSTAMP:20260422T064956
CREATED:20250318T155145Z
LAST-MODIFIED:20250318T155145Z
UID:60022-1743638400-1743811199@macdnet.org
SUMMARY:Grant Management USA Training with MACD
DESCRIPTION:Grant Management USA Training with MACD\nApril 3-4  \nGrant Management USA and Montana Association of Conservation Districts will present a two-day grant management workshop on April 3-4\, 2025. Attend this class and you’ll learn how to administer government grants and stay in compliance with applicable rules and regulations. \nTo sign up visit: Workshop Application \nFor learning objectives visit: Grant Management USA \nA $75 refundable deposit will be required at time of registration. This deposit will be refunded upon completion of the training by MACD. This workshop includes two days of terrific instruction\, Grant Management USA’s 500-page grant management workbook and reference guide\, and lifetime access to our Alumni Resource Center. Online reservations are necessary. \nFor more information\, contact Kate Helm or LaDara Brydson.
URL:https://macdnet.org/event-calendar/grant-management-usa-training-with-macd/
CATEGORIES:Events Calendar
END:VEVENT
BEGIN:VEVENT
DTSTART;TZID=America/Denver:20250403T180000
DTEND;TZID=America/Denver:20250403T200000
DTSTAMP:20260422T064956
CREATED:20250203T192559Z
LAST-MODIFIED:20250311T201040Z
UID:53584-1743703200-1743710400@macdnet.org
SUMMARY:Land Stewardship Series: Landowner Fire Preparedness
DESCRIPTION:Land Stewardship Series: \nLandowner Fire Preparedness\nApril 3\, 2025  \n06:00PM-08:00PM \nJoin local experts at the Land Stewardship Series at Flathead Valley Community College to learn techniques for managing your land. \nThursdays\, 6 -8pm\, April 3 – May 8 \nLandowner Fire Preparedness: A conversation about the impacts of wildfire on our rural and urban communities and the tools land/homeowners can use. We will be discussing landscaping techniques\, ember awareness\, home ignition zone treatment and ways to help defend your home and land from fire.\nInstructor: Kellie Kulseth\, Fire Adapted Communities Coordinator\, Montana Department of Natural Resources and Conservation. \nLearn more and Register Here
URL:https://macdnet.org/event-calendar/land-stewardship-series-landowner-fire-preparedness/
LOCATION:Flathead Valley Community College\, 777 Grandview Dr\, Kalispell\, MT\, 59901\, United States
CATEGORIES:Events Calendar,Trainings and Workshops
END:VEVENT
END:VCALENDAR