BEGIN:VCALENDAR
VERSION:2.0
PRODID:-//Montana Association of Conservation Districts - ECPv6.15.20//NONSGML v1.0//EN
CALSCALE:GREGORIAN
METHOD:PUBLISH
X-WR-CALNAME:Montana Association of Conservation Districts
X-ORIGINAL-URL:https://macdnet.org
X-WR-CALDESC:Events for Montana Association of Conservation Districts
REFRESH-INTERVAL;VALUE=DURATION:PT1H
X-Robots-Tag:noindex
X-PUBLISHED-TTL:PT1H
BEGIN:VTIMEZONE
TZID:America/Denver
BEGIN:DAYLIGHT
TZOFFSETFROM:-0700
TZOFFSETTO:-0600
TZNAME:MDT
DTSTART:20240310T090000
END:DAYLIGHT
BEGIN:STANDARD
TZOFFSETFROM:-0600
TZOFFSETTO:-0700
TZNAME:MST
DTSTART:20241103T080000
END:STANDARD
BEGIN:DAYLIGHT
TZOFFSETFROM:-0700
TZOFFSETTO:-0600
TZNAME:MDT
DTSTART:20250309T090000
END:DAYLIGHT
BEGIN:STANDARD
TZOFFSETFROM:-0600
TZOFFSETTO:-0700
TZNAME:MST
DTSTART:20251102T080000
END:STANDARD
BEGIN:DAYLIGHT
TZOFFSETFROM:-0700
TZOFFSETTO:-0600
TZNAME:MDT
DTSTART:20260308T090000
END:DAYLIGHT
BEGIN:STANDARD
TZOFFSETFROM:-0600
TZOFFSETTO:-0700
TZNAME:MST
DTSTART:20261101T080000
END:STANDARD
END:VTIMEZONE
BEGIN:VEVENT
DTSTART;VALUE=DATE:20250316
DTEND;VALUE=DATE:20250323
DTSTAMP:20260424T173728
CREATED:20250305T152450Z
LAST-MODIFIED:20250311T201928Z
UID:57178-1742083200-1742687999@macdnet.org
SUMMARY:Montana Ag Week
DESCRIPTION:Montana Ag Week\nMarch 16-22  \n 
URL:https://macdnet.org/event-calendar/montana-ag-week/
CATEGORIES:Events Calendar
END:VEVENT
BEGIN:VEVENT
DTSTART;TZID=America/Denver:20250320T110000
DTEND;TZID=America/Denver:20250320T123000
DTSTAMP:20260424T173728
CREATED:20250318T143100Z
LAST-MODIFIED:20250318T143100Z
UID:60009-1742468400-1742473800@macdnet.org
SUMMARY:Maximizing Marginal Croplands Webinar
DESCRIPTION:Maximizing Marginal Croplands: Case Studies in Successful Land Management Practices that Drive Efficiency\, Profitability and Biodiversity\nMarch 20  \n11:00AM-12:30PM  \nHabitat creation does more than improve biodiversity on your farm or ranch. It nurtures an ecosystem that benefits your pest control\, improves water quality and availability\, reduces input costs and ultimately creates a more resilient and productive agricultural system. \nJoin CTIC\, Syngenta\, Second Century Habitat Fund\, Precision Risk Management\, and South Dakota Game\, Fish and Parks for a discussion with agronomists\, biologists\, landowners and others who have helped to make marginal lands work\, and learn how to get resources and support in evaluating your acres. In preparation for our Conservation in Action Tour in Sioux Falls May 6-7\, we’ll explore South Dakota’s unique programs and technical assistance support that contribute to producers’ whole-farm management strategies and the state’s dedication to protecting its strong outdoor heritage\, unique bird populations and ecosystems for today and future generations. We’ll also explore farm management strategies in South Dakota with a focus on weed control in no-till or conservation tillage systems. Learn how successful herbicide and fungicide programs – combined with conservation tillage – contribute to plant health\, soil conservation\, and moisture retention. Learn how producers manage region-specific challenges\, such as prevent plant scenarios and severe drought\, and how to successfully integrate cover crops with pesticide programs for optimal weed suppression and soil conservation to mitigate weather and environmental risk. \nSpeakers include: Kevin Robling\, South Dakota Secretary of Game\, Fish and Parks; Mary Sutton Carruthers\, Stewardship Manager at Syngenta\, CTIC Board member; Aaron Kromann\, Agronomy Service Representative\, Syngenta; Elysabeth Kierl\, Executive Director\, Second Century Habitat Fund; John Mayrose\, Private Lands Habitat Biologist\, South Dakota Game\, Fish and Parks; Melvin Gimbel\, Wolf Creek Ranch\, Ree Heights\, S.D.; Cristin Weber\, Data Strategy Manager\, Precision Risk Management. \nClick here to register.
URL:https://macdnet.org/event-calendar/maximizing-marginal-croplands-webinar/
CATEGORIES:Events Calendar
END:VEVENT
END:VCALENDAR