BEGIN:VCALENDAR
VERSION:2.0
PRODID:-//Montana Association of Conservation Districts - ECPv6.15.20//NONSGML v1.0//EN
CALSCALE:GREGORIAN
METHOD:PUBLISH
X-WR-CALNAME:Montana Association of Conservation Districts
X-ORIGINAL-URL:https://macdnet.org
X-WR-CALDESC:Events for Montana Association of Conservation Districts
REFRESH-INTERVAL;VALUE=DURATION:PT1H
X-Robots-Tag:noindex
X-PUBLISHED-TTL:PT1H
BEGIN:VTIMEZONE
TZID:America/Denver
BEGIN:DAYLIGHT
TZOFFSETFROM:-0700
TZOFFSETTO:-0600
TZNAME:MDT
DTSTART:20240310T090000
END:DAYLIGHT
BEGIN:STANDARD
TZOFFSETFROM:-0600
TZOFFSETTO:-0700
TZNAME:MST
DTSTART:20241103T080000
END:STANDARD
BEGIN:DAYLIGHT
TZOFFSETFROM:-0700
TZOFFSETTO:-0600
TZNAME:MDT
DTSTART:20250309T090000
END:DAYLIGHT
BEGIN:STANDARD
TZOFFSETFROM:-0600
TZOFFSETTO:-0700
TZNAME:MST
DTSTART:20251102T080000
END:STANDARD
BEGIN:DAYLIGHT
TZOFFSETFROM:-0700
TZOFFSETTO:-0600
TZNAME:MDT
DTSTART:20260308T090000
END:DAYLIGHT
BEGIN:STANDARD
TZOFFSETFROM:-0600
TZOFFSETTO:-0700
TZNAME:MST
DTSTART:20261101T080000
END:STANDARD
END:VTIMEZONE
BEGIN:VEVENT
DTSTART;VALUE=DATE:20250310
DTEND;VALUE=DATE:20250313
DTSTAMP:20260425T114150
CREATED:20250213T164952Z
LAST-MODIFIED:20250213T164952Z
UID:54761-1741564800-1741823999@macdnet.org
SUMMARY:Noxious Weed Management Advisory Council Meeting
DESCRIPTION:Noxious Weed Management Advisory Council Meeting\nMarch 10-12  \nDelta Hotels Helena Colonial \n2301 Colonial Drive \nHelena\, Montana\, USA\, 59601 \nThe Noxious Weed Management Advisory Council will meet beginning on Monday\, March 10\, 2025\, for the fall business meeting at the Delta Hotel in Helena\, Montana. The council will review applications for the 2025 Noxious Weed Trust Fund grants through a series of hearings March 10-12\, 2025. Funding deliberations will take place at 2:00 P.M. on Wednesday\, March 12\, 2025. Meetings will be conducted in-person with the option to join online through Zoom. An agenda is available on the Montana Department of Agriculture website at agr.mt.gov. To request information to join the meeting virtually\, please contact Greta Dige\, Noxious Weed Trust Fund Coordinator.
URL:https://macdnet.org/event-calendar/noxious-weed-management-advisory-council-meeting/
LOCATION:Delta Hotel\, 2301 Colonial Dr\, Helena\, MT\, 59601\, United States
CATEGORIES:Events Calendar
END:VEVENT
BEGIN:VEVENT
DTSTART;VALUE=DATE:20250312
DTEND;VALUE=DATE:20250315
DTSTAMP:20260425T114150
CREATED:20250207T153029Z
LAST-MODIFIED:20250207T153029Z
UID:54150-1741737600-1741996799@macdnet.org
SUMMARY:Montana Rural Water Systems Conference
DESCRIPTION:Montana Rural Water Systems Conference\nMarch 12-14 \nHeritage Inn  \n1700 Fox Farm Rd \nGreat Falls\, MT 59404 \nClick here for more information.
URL:https://macdnet.org/event-calendar/montana-rural-water-systems-conference/
LOCATION:Heritage Inn\, 1700 Fox Farm Rd\, Great Falls\, MT\, United States
CATEGORIES:Events Calendar
END:VEVENT
END:VCALENDAR