BEGIN:VCALENDAR
VERSION:2.0
PRODID:-//Montana Association of Conservation Districts - ECPv6.15.20//NONSGML v1.0//EN
CALSCALE:GREGORIAN
METHOD:PUBLISH
X-WR-CALNAME:Montana Association of Conservation Districts
X-ORIGINAL-URL:https://macdnet.org
X-WR-CALDESC:Events for Montana Association of Conservation Districts
REFRESH-INTERVAL;VALUE=DURATION:PT1H
X-Robots-Tag:noindex
X-PUBLISHED-TTL:PT1H
BEGIN:VTIMEZONE
TZID:America/Denver
BEGIN:DAYLIGHT
TZOFFSETFROM:-0700
TZOFFSETTO:-0600
TZNAME:MDT
DTSTART:20240310T090000
END:DAYLIGHT
BEGIN:STANDARD
TZOFFSETFROM:-0600
TZOFFSETTO:-0700
TZNAME:MST
DTSTART:20241103T080000
END:STANDARD
BEGIN:DAYLIGHT
TZOFFSETFROM:-0700
TZOFFSETTO:-0600
TZNAME:MDT
DTSTART:20250309T090000
END:DAYLIGHT
BEGIN:STANDARD
TZOFFSETFROM:-0600
TZOFFSETTO:-0700
TZNAME:MST
DTSTART:20251102T080000
END:STANDARD
BEGIN:DAYLIGHT
TZOFFSETFROM:-0700
TZOFFSETTO:-0600
TZNAME:MDT
DTSTART:20260308T090000
END:DAYLIGHT
BEGIN:STANDARD
TZOFFSETFROM:-0600
TZOFFSETTO:-0700
TZNAME:MST
DTSTART:20261101T080000
END:STANDARD
END:VTIMEZONE
BEGIN:VEVENT
DTSTART;VALUE=DATE:20250601
DTEND;VALUE=DATE:20250602
DTSTAMP:20260425T213303
CREATED:20250506T143654Z
LAST-MODIFIED:20260303T180920Z
UID:68109-1748736000-1748822399@macdnet.org
SUMMARY:Montana Noxious Weed Awareness Week 2025
DESCRIPTION:Montana Noxious Weed Awareness Week 2025\nTopic: kNOweeds \nWeed of the Day: Leafy spurge
URL:https://macdnet.org/event-calendar/montana-noxious-weed-awareness-week-2025/2025-06-01/
CATEGORIES:Events Calendar
END:VEVENT
BEGIN:VEVENT
DTSTART;VALUE=DATE:20250602
DTEND;VALUE=DATE:20250603
DTSTAMP:20260425T213303
CREATED:20250506T143654Z
LAST-MODIFIED:20250506T143944Z
UID:68112-1748822400-1748908799@macdnet.org
SUMMARY:Montana Noxious Weed Awareness Week 2025
DESCRIPTION:Montana Noxious Weed Awareness Week 2025\nTopic: Vectors \nWeed of the Day: Dalmatian toadflax to ventenata
URL:https://macdnet.org/event-calendar/montana-noxious-weed-awareness-week-2025-2025-06-02/
CATEGORIES:Events Calendar
END:VEVENT
BEGIN:VEVENT
DTSTART;VALUE=DATE:20250603
DTEND;VALUE=DATE:20250606
DTSTAMP:20260425T213303
CREATED:20241203T153550Z
LAST-MODIFIED:20250423T145713Z
UID:50731-1748908800-1749167999@macdnet.org
SUMMARY:406 Grazing Academy
DESCRIPTION:406 Grazing Academy\nJune 3-5\, 2025  \nHavre\, MT  \nJoin us June 3-5\, 2025 in Havre\, Montana for the 406 Grazing Academy! \nThe 406 is an immersive 3-day hands-on learning experience to deepen your knowledge of grazing management. This event will feature educational and campfire speakers\, grazing demos\, in-class instruction\, and field tours of MSU’s Northern Agricultural Experiment Station in Havre. \nWorkshop cost is $150 per person and includes educational materials\, dinner and lunch all 3 days. \nParticipants are responsible for travel and hotel costs. A limited number of scholarships to assist those interested in attending are available through the Montana Rural Employment Opportunities (REO) program; for additional details on REO visit https://reomontana.org/. \nA block of rooms has been reserved at the Havre Inn & Suites use code: DNRC to reserve your room. Class size is limited\, so register today! \nRegistration & room block both end 5/15/2025 \nIf you need assistance registering\, contact Stacey Barta at (406) 594-8481  or Shantell Martin at (406) 531-4584. \nMore Information and Registration Here. \n20250305_2025_406_grazing_academy
URL:https://macdnet.org/event-calendar/406-grazing-academy-3/
CATEGORIES:Events Calendar
END:VEVENT
BEGIN:VEVENT
DTSTART;VALUE=DATE:20250603
DTEND;VALUE=DATE:20250605
DTSTAMP:20260425T213303
CREATED:20250327T142429Z
LAST-MODIFIED:20250327T142429Z
UID:61558-1748908800-1749081599@macdnet.org
SUMMARY:100th Meridian Columbia River Basin AIS Meeting
DESCRIPTION:100th Meridian Columbia River Basin AIS Meeting\nJune 3-4  \nBoise\, ID  \nMore information coming soon.
URL:https://macdnet.org/event-calendar/100th-meridian-columbia-river-basin-ais-meeting/
CATEGORIES:Events Calendar
END:VEVENT
BEGIN:VEVENT
DTSTART;VALUE=DATE:20250603
DTEND;VALUE=DATE:20250604
DTSTAMP:20260425T213303
CREATED:20250506T143654Z
LAST-MODIFIED:20250506T144224Z
UID:68113-1748908800-1748995199@macdnet.org
SUMMARY:Montana Noxious Weed Awareness Week 2025
DESCRIPTION:Montana Noxious Weed Awareness Week 2025\nTopic: EDRR \nWeed of the Day: Field bindweed to rush skeleton weed
URL:https://macdnet.org/event-calendar/montana-noxious-weed-awareness-week-2025-2025-06-03/
CATEGORIES:Events Calendar
END:VEVENT
BEGIN:VEVENT
DTSTART;TZID=America/Denver:20250603T140000
DTEND;TZID=America/Denver:20250603T153000
DTSTAMP:20260425T213303
CREATED:20250506T162924Z
LAST-MODIFIED:20250506T162924Z
UID:68196-1748959200-1748964600@macdnet.org
SUMMARY:Impacts of Pesticides and Native Plants in Residential Landscapes
DESCRIPTION:Impacts of Pesticides and Native Plants in Residential Landscapes\nJune 3  \n02:00PM-03:30PM  \nPolson Public Library  \n102 1st St E  \nPolson\, MT 59860 \nFor more information\, contact Caroline at LakeCD@macdnet.org.
URL:https://macdnet.org/event-calendar/impacts-of-pesticides-and-native-plants-in-residential-landscapes/
LOCATION:Polson Public Library\, 102 1st St E\, Polson\, Montana\, 59860
CATEGORIES:Events Calendar
END:VEVENT
BEGIN:VEVENT
DTSTART;VALUE=DATE:20250604
DTEND;VALUE=DATE:20250605
DTSTAMP:20260425T213303
CREATED:20250506T143654Z
LAST-MODIFIED:20250506T144307Z
UID:68114-1748995200-1749081599@macdnet.org
SUMMARY:Montana Noxious Weed Awareness Week 2025
DESCRIPTION:Montana Noxious Weed Awareness Week 2025\nTopic: Integrated Weed Management \nWeed of the Day: Whitetop
URL:https://macdnet.org/event-calendar/montana-noxious-weed-awareness-week-2025-2025-06-04/
CATEGORIES:Events Calendar
END:VEVENT
BEGIN:VEVENT
DTSTART;TZID=America/Denver:20250604T090000
DTEND;TZID=America/Denver:20250604T153000
DTSTAMP:20260425T213303
CREATED:20250506T154216Z
LAST-MODIFIED:20250506T154216Z
UID:68176-1749027600-1749051000@macdnet.org
SUMMARY:Field Day at Red Bluff Research Ranch
DESCRIPTION:Field Day at Red Bluff Research Ranch\nJune 4  \n09:00AM-03:30PM  \nRed Bluff Research Ranch  \nBradley Creek Rd  \nNorris\, MT 59745 \nMSU is hosting an exciting\, hands-on field day at the Red Bluff Research Ranch. Come connect with Extension specialists\, researchers\, and students\, and gain practical insights that directly impact your land and livestock management. Learn about cutting edge research in rangeland science and discover effective strategies to tackle weed management challenges. \nPlease register by May 30. For more information\, contact (406)-387-3282 or Madisonjefferson2@montana.edu.
URL:https://macdnet.org/event-calendar/field-day-at-red-bluff-research-ranch/
LOCATION:Red Bluff Research Ranch\, Bradley Creek Rd \, Norris\, Montana\, 59745
CATEGORIES:Events Calendar
END:VEVENT
BEGIN:VEVENT
DTSTART;TZID=America/Denver:20250604T093000
DTEND;TZID=America/Denver:20250604T113000
DTSTAMP:20260425T213303
CREATED:20250602T143320Z
LAST-MODIFIED:20250602T143320Z
UID:73202-1749029400-1749036600@macdnet.org
SUMMARY:Governor's Drought and Water Supply Advisory Committee (DWSAC)
DESCRIPTION:Governor’s Drought and Water Supply Advisory Committee (DWSAC)\nJune 4  \n09:30AM-11:30AM  \nDNRC Headquarters (Montana Room)  \n1539 11th Ave  \nHelena\, MT 59601 \nThe Governor’s Drought and Water Supply Advisory Committee (DWSAC) will meet from 9:30 to 11:30 a.m.\, this Wednesday\, June 4 in the Montana Room at the DNRC Headquarters located at 1539 Eleventh Ave. in Helena\, with a virtual option via Zoom. \nThe meeting will include reports and discussion on: \n\nThe Water Supply Outlook & Current Conditions\nSpring Streamflow Forecast\nFederal Reservoir Storage and Milk River Update\nMontana Stream Gage Network Updates\n\nAgenda \nVia Zoom or in-person in the Montana Room at the DNRC Headquarters\, 1539 Eleventh Ave. in Helena
URL:https://macdnet.org/event-calendar/governors-drought-and-water-supply-advisory-committee-dwsac-2/
LOCATION:Montana DNRC Headquarters\, 1539 11th Ave\, Helena\, MT\, United States
CATEGORIES:Events Calendar
END:VEVENT
BEGIN:VEVENT
DTSTART;TZID=America/Denver:20250604T183000
DTEND;TZID=America/Denver:20250604T200000
DTSTAMP:20260425T213303
CREATED:20250506T163349Z
LAST-MODIFIED:20250506T163349Z
UID:68198-1749061800-1749067200@macdnet.org
SUMMARY:Science on Tap\, Diane Boyd: Wolf Research in MT
DESCRIPTION:Science on Tap\, Diane Boyd: Wolf Research in MT\nJune 4  \n06:30PM-08:00PM  \nThe Durham  \n49494 US-93 \n Polson\, MT 59860 \nTickets are $5/person and may be purchased here when reservations go live. \nFor more information\, contact Caroline at LakeCD@macdnet.org.
URL:https://macdnet.org/event-calendar/science-on-tap-diane-boyd-wolf-research-in-mt/
LOCATION:The Durham\, 49494 US-93\, Polson\, Montana\, 59860
CATEGORIES:Events Calendar
END:VEVENT
BEGIN:VEVENT
DTSTART;VALUE=DATE:20250605
DTEND;VALUE=DATE:20250606
DTSTAMP:20260425T213303
CREATED:20250506T143654Z
LAST-MODIFIED:20250506T144416Z
UID:68115-1749081600-1749167999@macdnet.org
SUMMARY:Montana Noxious Weed Awareness Week 2025
DESCRIPTION:Montana Noxious Weed Awareness Week 2025\nTopic: Reporting Weeds \nWeed of the Day: Hoary alyssum to dalmatian toadflax
URL:https://macdnet.org/event-calendar/montana-noxious-weed-awareness-week-2025-2025-06-05/
CATEGORIES:Events Calendar
END:VEVENT
BEGIN:VEVENT
DTSTART;VALUE=DATE:20250606
DTEND;VALUE=DATE:20250607
DTSTAMP:20260425T213303
CREATED:20250506T143654Z
LAST-MODIFIED:20250506T144523Z
UID:68116-1749168000-1749254399@macdnet.org
SUMMARY:Montana Noxious Weed Awareness Week 2025
DESCRIPTION:Montana Noxious Weed Awareness Week 2025\nTopic: Recreation and Weeds \nWeed of the Day: Houndstongue
URL:https://macdnet.org/event-calendar/montana-noxious-weed-awareness-week-2025-2025-06-06/
CATEGORIES:Events Calendar
END:VEVENT
BEGIN:VEVENT
DTSTART;VALUE=DATE:20250607
DTEND;VALUE=DATE:20250608
DTSTAMP:20260425T213303
CREATED:20250506T143654Z
LAST-MODIFIED:20250506T144626Z
UID:68117-1749254400-1749340799@macdnet.org
SUMMARY:Montana Noxious Weed Awareness Week 2025
DESCRIPTION:Montana Noxious Weed Awareness Week 2025\nTopic: Plant This\, Not That \nWeed of the Day: Ventenata to common buckthorn
URL:https://macdnet.org/event-calendar/montana-noxious-weed-awareness-week-2025-2025-06-07/
CATEGORIES:Events Calendar
END:VEVENT
BEGIN:VEVENT
DTSTART;TZID=America/Denver:20250609T150000
DTEND;TZID=America/Denver:20250609T180000
DTSTAMP:20260425T213303
CREATED:20250513T190833Z
LAST-MODIFIED:20250513T190833Z
UID:69088-1749481200-1749492000@macdnet.org
SUMMARY:Hummocks & Uplands Community Weed Pull
DESCRIPTION:Hummocks & Uplands Community Weed Pull\nJune 9  \nJoin Grow Wild\, Big Sky Community Organization\, and Lone Mountain Land Company for an afternoon of pulling weeds! Come any time between 3-6pm and stay as long or as short as you wish. Any help is appreciated! \nClick here for more information.
URL:https://macdnet.org/event-calendar/hummocks-uplands-community-weed-pull/
CATEGORIES:Events Calendar
END:VEVENT
BEGIN:VEVENT
DTSTART;VALUE=DATE:20250610
DTEND;VALUE=DATE:20250613
DTSTAMP:20260425T213303
CREATED:20241212T183432Z
LAST-MODIFIED:20250311T191503Z
UID:50935-1749513600-1749772799@macdnet.org
SUMMARY:Spring Board Meeting 2025
DESCRIPTION:Spring Board Meeting 2025\nJune 10-12  \nHelena  \nEach year MACD meets in late spring to do the Spring Board Meeting. The Spring Board meeting provides a vital opportunity for board members and district employees\, who are often spread across Montana\, to meet face-to-face. This meeting fosters collaboration and ensures that everyone is aligned on goals and strategies. \nMore information coming soon.
URL:https://macdnet.org/event-calendar/spring-board-meeting-2025/
CATEGORIES:Events Calendar
END:VEVENT
BEGIN:VEVENT
DTSTART;TZID=America/Denver:20250610T180000
DTEND;TZID=America/Denver:20250610T193000
DTSTAMP:20260425T213303
CREATED:20250602T141933Z
LAST-MODIFIED:20250602T142204Z
UID:73176-1749578400-1749583800@macdnet.org
SUMMARY:International Poplar River & Big Muddy Task Force Public Meeting
DESCRIPTION:International Poplar River & Big Muddy Task Force Public Meeting\nJune 10  \n06:00PM-07:30PM  \nNemont Telephone Cooperative\, Friendship Room \n61 MT-13 \nScobey\, MT 59263 \nThe International Poplar River and Big Muddy Creek Task Force (Task Force) will host two public meetings to talk about water in the basin:\n• Tuesday\, June 10 in Scobey\, Montana\, at the Nemont Telephone Cooperative\n• Wednesday\, June 11 in Coronach\, Saskatchewan\, at Coronach Community Hall \nThese two public meetings will be held to share updates on current reporting in the basin and the work of the Task Force to date. The public is invited to share local information and perspectives about how water is being used now and what local needs may be in the future. \nThe Task Force was set up in October 2024 by the International Joint Commission (IJC) to identify gaps in current reporting on water by Canada and the US\, in consideration of the IJC’s responsibilities under the 1948 Reference from governments. \nThe Poplar River and Big Muddy Creek are transboundary waters that flow between the province of Saskatchewan in Canada and the state of Montana in the United States. \nThe IJC\, which is a body set up by the governments of Canada and the United States\, was established by the Boundary Waters Treaty of 1909 to help the governments of Canada and the United States prevent and resolve disputes over use of the waters shared by the two countries. \nThere is no virtual attendance option for the June 10 and 11 meetings. No advance registration is required for participation. Questions can be submitted in advance to PoplarBigMuddyTF@ijc.org. \nContacts:\nMelissa Schaar: mschaar@usgs.gov\nPatrick Cherneski: Patrick.Cherneski@cwa-aec.gc.ca \n 
URL:https://macdnet.org/event-calendar/international-poplar-river-big-muddy-task-force-public-meeting/
LOCATION:Nemont Telephone Cooperative\, 61 MT-13\, Scobey\, Montana\, 59623
CATEGORIES:Events Calendar
END:VEVENT
BEGIN:VEVENT
DTSTART;TZID=America/Denver:20250611T100000
DTEND;TZID=America/Denver:20250611T140000
DTSTAMP:20260425T213303
CREATED:20250523T214233Z
LAST-MODIFIED:20250523T214249Z
UID:70784-1749636000-1749650400@macdnet.org
SUMMARY:Blaine County Soil Health Workshop
DESCRIPTION:Blaine County Soil Health Workshop\nJune 11  \n10:00AM-02:00PM  \n20250523_blaine_county_soil_health_workshop
URL:https://macdnet.org/event-calendar/blaine-county-soil-health-workshop/
CATEGORIES:Events Calendar
END:VEVENT
BEGIN:VEVENT
DTSTART;TZID=America/Denver:20250611T123000
DTEND;TZID=America/Denver:20250611T160000
DTSTAMP:20260425T213303
CREATED:20250430T165636Z
LAST-MODIFIED:20250430T165636Z
UID:67221-1749645000-1749657600@macdnet.org
SUMMARY:Ladies Day on the Range
DESCRIPTION:Ladies Day on the Range\nJune 11  \n12:30PM-04:00PM  \nTopics Covered: Building a Rural Food Web; Vermicast for Soil Health; Cattle parasites\, Reproduction\, & Breeding. \nDeparting from Winnett PCCD/NRCS office at 12:30PM\, concludes around 4:00PM. \nLocation: Reba Ahlgren Ranch\, 16 miles NE of Winnett\, Jitney Rd \nFor more information\, contact (406)-429-6646 or petroleumcd@macdnet.org.
URL:https://macdnet.org/event-calendar/ladies-day-on-the-range/
LOCATION:Petroleum County Conservation District Office\, 813 N Broadway Ste B\, Winnett\, Montana\, 59087
CATEGORIES:Events Calendar
END:VEVENT
BEGIN:VEVENT
DTSTART;TZID=America/Denver:20250611T180000
DTEND;TZID=America/Denver:20250611T193000
DTSTAMP:20260425T213303
CREATED:20250602T142647Z
LAST-MODIFIED:20250602T142647Z
UID:73198-1749664800-1749670200@macdnet.org
SUMMARY:International Poplar River & Big Muddy Task Force Public Meeting
DESCRIPTION:International Poplar River & Big Muddy Task Force Public Meeting\nJune 11  \n06:00PM-07:30PM \nCoronach Community Hall \n205 1 St E \nCoronach\, SK S0H 0Z0 \nThe International Poplar River and Big Muddy Creek Task Force (Task Force) will host two public meetings to talk about water in the basin:\n• Tuesday\, June 10 in Scobey\, Montana\, at the Nemont Telephone Cooperative\n• Wednesday\, June 11 in Coronach\, Saskatchewan\, at Coronach Community Hall \nThese two public meetings will be held to share updates on current reporting in the basin and the work of the Task Force to date. The public is invited to share local information and perspectives about how water is being used now and what local needs may be in the future. \nThe Task Force was set up in October 2024 by the International Joint Commission (IJC) to identify gaps in current reporting on water by Canada and the US\, in consideration of the IJC’s responsibilities under the 1948 Reference from governments. \nThe Poplar River and Big Muddy Creek are transboundary waters that flow between the province of Saskatchewan in Canada and the state of Montana in the United States. \nThe IJC\, which is a body set up by the governments of Canada and the United States\, was established by the Boundary Waters Treaty of 1909 to help the governments of Canada and the United States prevent and resolve disputes over use of the waters shared by the two countries. \nThere is no virtual attendance option for the June 10 and 11 meetings. No advance registration is required for participation. Questions can be submitted in advance to PoplarBigMuddyTF@ijc.org. \nContacts:\nMelissa Schaar: mschaar@usgs.gov\nPatrick Cherneski: Patrick.Cherneski@cwa-aec.gc.ca
URL:https://macdnet.org/event-calendar/international-poplar-river-big-muddy-task-force-public-meeting-2/
LOCATION:Coronach Community Hall\, 205 1 St E\, Coronach\, Saskatchewan\, S0H 0Z0
CATEGORIES:Events Calendar
END:VEVENT
BEGIN:VEVENT
DTSTART;TZID=America/Denver:20250611T180000
DTEND;TZID=America/Denver:20250611T200000
DTSTAMP:20260425T213303
CREATED:20250506T152003Z
LAST-MODIFIED:20250506T152003Z
UID:68158-1749664800-1749672000@macdnet.org
SUMMARY:Pasture Walks
DESCRIPTION:Pasture Walks\nSecond Wednesday of each month through September 2025  \n06:00PM-08:00PM  \nPetroleum County Community Center \n207 W Main Street  \nWinnett\, MT 59087 \nMay 14: Reseeding Native Perennials \nJune 11: Riparian Restoration & LTBPR w/Clint Smith\, FWP \nJuly 9: Cattle nutrition & forage testing w/Dr. Becca Woodford \nAugust 13: Grazing & Range Health w/Emily Standley\, RMG \nSeptember 10: Conifer Encroachment with ACES Conservation Committee \nFor more information\, contact Kendall at kendall@winnettaces.org. \n 
URL:https://macdnet.org/event-calendar/pasture-walks/2025-06-11/
LOCATION:PETROLEUM COUNTY COMMUNITY CENTER\, 207 W Main Street\, Winnett\, Montana\, 59087
CATEGORIES:Events Calendar
END:VEVENT
BEGIN:VEVENT
DTSTART;TZID=America/Denver:20250612T120000
DTEND;TZID=America/Denver:20250612T133000
DTSTAMP:20260425T213303
CREATED:20250604T192056Z
LAST-MODIFIED:20250604T192056Z
UID:73786-1749729600-1749735000@macdnet.org
SUMMARY:Targeted Grazing for Wildlife\, Wildfire and Weeds
DESCRIPTION:Targeted Grazing for Wildlife\, Wildfire and Weeds\nJune 12  \n12:00PM-01:30PM \nGrazing is a great tool for land stewardship\, and for some skillful graziers\, it’s the basis for profitable businesses without having to own a lot of land. Join WLA’s online session on June 12 to hear from three of the best in the business of targeted grazing for stewardship services. \nClick here to register.
URL:https://macdnet.org/event-calendar/targeted-grazing-for-wildlife-wildfire-and-weeds/
LOCATION:Zoom
CATEGORIES:Events Calendar
END:VEVENT
BEGIN:VEVENT
DTSTART;TZID=America/Denver:20250614T090000
DTEND;TZID=America/Denver:20250614T110000
DTSTAMP:20260425T213303
CREATED:20250513T191415Z
LAST-MODIFIED:20250513T191417Z
UID:69100-1749891600-1749898800@macdnet.org
SUMMARY:17th Annual Gallatin River Weed Pull
DESCRIPTION:17th Annual Gallatin River Weed Pull\nJune 14  \n09:00AM-11:00AM  \nMoose Creek Flat Campground \n59730 Gallatin Rd \nGallatin Gateway\, Mt 59730  \nClick here for more information.
URL:https://macdnet.org/event-calendar/17th-annual-gallatin-river-weed-pull/
LOCATION:Moose Creek Flat Campground\, 59730 Gallatin Rd\, Gallatin Gateway\, Montana\, 59730
CATEGORIES:Events Calendar
END:VEVENT
BEGIN:VEVENT
DTSTART;TZID=America/Denver:20250614T100000
DTEND;TZID=America/Denver:20250614T140000
DTSTAMP:20260425T213303
CREATED:20250411T154629Z
LAST-MODIFIED:20250411T154630Z
UID:64592-1749895200-1749909600@macdnet.org
SUMMARY:Hill County CD: Atlas Bee Training
DESCRIPTION:Hill County CD: Atlas Bee Training\nJune 14\, 2025  \n10:00AM-4:00PM \nWanna run through fields of wildflowers in the Bear Paw Mountains? Frolicking and learning how to identify native bumble bees? Then this event is for you! Michelle Toshack from the Xerces Society will be leading us on an educational visit around Beaver Creek Park teaching us how to identify native bees!\nRSVP to eleanorwilkerson@macdnet.org .\n\nInformational Flyer
URL:https://macdnet.org/event-calendar/hill-county-cd-atlas-bee-training/
LOCATION:Havre\, MT\, Havre\, 59501\, United States
CATEGORIES:Events Calendar,Trainings and Workshops
END:VEVENT
BEGIN:VEVENT
DTSTART;VALUE=DATE:20250616
DTEND;VALUE=DATE:20250617
DTSTAMP:20260425T213303
CREATED:20250401T203154Z
LAST-MODIFIED:20250401T203154Z
UID:62813-1750032000-1750118399@macdnet.org
SUMMARY:SRWG Suds for the Sun Pint Night
DESCRIPTION:SRWG Suds for the Sun Pint Night\nJune 16 \nMighty Mo Brewing Co. \n412 Central Ave \n Great Falls\, MT 59401 \nFor more information\, contact Madison Coyler.
URL:https://macdnet.org/event-calendar/srwg-suds-for-the-sun-pint-night/
LOCATION:Mighty Mo Brewery\, 412 Central Ave\, Great Falls\, Montana\, 59401
CATEGORIES:Events Calendar
END:VEVENT
BEGIN:VEVENT
DTSTART;VALUE=DATE:20250617
DTEND;VALUE=DATE:20250618
DTSTAMP:20260425T213303
CREATED:20250523T213424Z
LAST-MODIFIED:20250610T174621Z
UID:70778-1750118400-1750204799@macdnet.org
SUMMARY:CD Procurement Training
DESCRIPTION:CD Procurement Training\nJune 17  \n09:00AM-10:30AM  \nThe CD Bureau invites you to a training session on Tuesday\, June 17 at 9 a.m. to learn about: \n\nChanges to CD Procurement Law as a result of of SB 77\nCD procurement legal requirements and processes\nResources and assistance available through the CD Bureau and the State Procurement Services Division (SPSD)\nWhere to find templates and tools for effective procurement\n\nThe training will be followed by Q&A and recorded for those unable to attend. \nJoin the meeting \nMeeting ID: 271 442 345 984 7\nPasscode: te6BY3d2 \nDial in by phone\n+1 406-318-5487\, 453501850#
URL:https://macdnet.org/event-calendar/cd-procurement-training/
LOCATION:Microsoft Teams
CATEGORIES:Events Calendar
END:VEVENT
BEGIN:VEVENT
DTSTART;TZID=America/Denver:20250617T170000
DTEND;TZID=America/Denver:20250617T183000
DTSTAMP:20260425T213303
CREATED:20250513T192006Z
LAST-MODIFIED:20250513T192006Z
UID:69104-1750179600-1750185000@macdnet.org
SUMMARY:13th Annual Big Sky Community Park Weed Pull
DESCRIPTION:13th Annual Big Sky Community Park Weed Pull\nJune 17 \n05:00PM-06:30PM \nPull together for the park! Last year the Big Sky community pulled 835 lbs. and noticed a considerable difference in how many weeds we found. Let’s keep up the awesome work of caring for our shared resources and the habitat that surrounds them! \nClick here for more information.
URL:https://macdnet.org/event-calendar/13th-annual-big-sky-community-park-weed-pull/
CATEGORIES:Events Calendar
END:VEVENT
BEGIN:VEVENT
DTSTART;VALUE=DATE:20250618
DTEND;VALUE=DATE:20250619
DTSTAMP:20260425T213303
CREATED:20241203T154231Z
LAST-MODIFIED:20250523T192936Z
UID:50733-1750204800-1750291199@macdnet.org
SUMMARY:Montana Range Tour
DESCRIPTION:Montana Range Tour\nJune 18\, 2025  \nHilger\, MT \nRegistration is open for the Montana Range Tour (MRT) on June 18\, 2025\, in Hilger\, MT. This educational event will feature Guest Speaker Byron Shelton from the Savory Institute and a tour of the 2024 Leopold Conservation Award winners\, Wickens Salt Creek Ranch. \nThe Montana Range Tour is an educational field day for ranchers desiring to learn from others who are leaders in implementing innovative on-the-ground grazing and agricultural practices. The cost of MRT registration is $65 per person and includes the tour\, presentations\, banquet breakfast\, and lunch. Transportation from Lewistown to Hilger is also provided. \nEvent registration ends 6/4/2025 \nIf you need assistance registering\, contact Stacey Barta at (406) 594-8481  or Shantell Martin at (406) 531-4584.
URL:https://macdnet.org/event-calendar/montana-range-tour-3/
CATEGORIES:Events Calendar
END:VEVENT
BEGIN:VEVENT
DTSTART;TZID=America/Denver:20250618T073000
DTEND;TZID=America/Denver:20250618T150000
DTSTAMP:20260425T213303
CREATED:20250521T180447Z
LAST-MODIFIED:20250521T180447Z
UID:70451-1750231800-1750258800@macdnet.org
SUMMARY:America's Conservation Ag Movement Farmer-Led Field Day
DESCRIPTION:America’s Conservation Ag Movement Farmer-Led Field Day\nJune 18  \n07:30AM-03:00PM  \nR L Lankford Farms Inc. \n7444 Lankford Lane \nHarlem\, MT 59523 \nOn June 18\, Ryan Lankford will open the farm gate at R.L. Lankford Farms/Kimberlite Farms to share personal experience on how conservation is helping him find success in productivity\, profitability and stewardship. \nRegistration is FREE and lunch is provided. During the field day\, you’ll have the chance to discuss soil health\, leveraging technology and innovation and conservation funding. \nClick here for more information or to register.
URL:https://macdnet.org/event-calendar/americas-conservation-ag-movement-farmer-led-field-day/
LOCATION:R L Lankford Farms Inc\, 7444 Lankford Lane\, Harlem\, Montana\, 59523
CATEGORIES:Events Calendar
END:VEVENT
BEGIN:VEVENT
DTSTART;TZID=America/Denver:20250618T100000
DTEND;TZID=America/Denver:20250618T120000
DTSTAMP:20260425T213303
CREATED:20220119T234558Z
LAST-MODIFIED:20250709T143958Z
UID:38273-1750240800-1750248000@macdnet.org
SUMMARY:Employee Roundtable
DESCRIPTION:EO Roundtable Meetings usually meet on the third Wednesday of the month. For this month’s zoom information contact Chris Evans (chris@lewisandclarkcd.org). [Note: The EO Roundtable meetings for July 2025 and August 2025 have both been cancelled. For more information\, contact Chris Evans.]\n\nTopic: MCDEO Roundtable\nTime: 10:00 AM Mountain Time (US and Canada)\nPlease download and import the following iCalendar (.ics) files to your calendar system.\nMonthly: https://us02web.zoom.us/meeting/tZYlcO6vqj4vH9JCgJL-Wxx0Fi_fv8J3lFOD/ics?icsToken=DEGG1umcCWKBUYQiuQAALAAAADwKmtGvG2Rvb0Ff-PjxGh-OCZo8B4pWN1MFq51i9EHWuYLq0wiyxAIgdIFl_0MckQV3gWP3-FYgUYYRQTAwMDAwMQ&meetingMasterEventId=lPa1Rf1TSMegj2n2gdrRKQ\n\nJoin Zoom Meeting\nhttps://us02web.zoom.us/j/82877745556Meeting ID: 828 7774 5556\nPasscode: 626512— \nOne tap mobile\n+13462487799\,\,82877745556#\,\,\,\,*626512# US (Houston)\n+16694449171\,\,82877745556#\,\,\,\,*626512# US \n— \nDial by your location\n• +1 346 248 7799 US (Houston)\n• +1 669 444 9171 US\n• +1 669 900 9128 US (San Jose)\n• +1 719 359 4580 US\n• +1 253 205 0468 US\n• +1 253 215 8782 US (Tacoma)\n• +1 689 278 1000 US\n• +1 301 715 8592 US (Washington DC)\n• +1 305 224 1968 US\n• +1 309 205 3325 US\n• +1 312 626 6799 US (Chicago)\n• +1 360 209 5623 US\n• +1 386 347 5053 US\n• +1 507 473 4847 US\n• +1 564 217 2000 US\n• +1 646 558 8656 US (New York)\n• +1 646 931 3860 US \nMeeting ID: 828 7774 5556\nPasscode: 626512
URL:https://macdnet.org/event-calendar/employee-roundtable-2/2025-06-18/
LOCATION:Zoom
CATEGORIES:Events Calendar,Meetings,Trainings and Workshops
END:VEVENT
BEGIN:VEVENT
DTSTART;TZID=America/Denver:20250619T100000
DTEND;TZID=America/Denver:20250619T113000
DTSTAMP:20260425T213303
CREATED:20250423T153715Z
LAST-MODIFIED:20250423T153715Z
UID:66065-1750327200-1750332600@macdnet.org
SUMMARY:Convention Planning Meeting
DESCRIPTION:Convention Planning Meeting\nThird Thursday of every month  \n10:00AM-11:30AM \nWe are looking forward to seeing everyone in Billings this November 18-20 for the 2025 Convention!\n\nWe aim to keep Convention’s location central for venue logistics and reasonable travel while ensuring that all areas have the opportunity to participate as hosts (and no areas are overburdened)\, and I am excited to share that Area 1 and Area 2 will be hosting this year’s event! With that said\, Convention planning meetings are open to everyone\, and we invite all suggestions for training and content.\n\nConvention planning meetings will be held on the third Thursday of each month – the first will be held tomorrow (4/17) at 10am! Planning meetings are open to all conservation district staff\, supervisors\, and partners. My apologies for sending out this notice last minute – meeting reminders and agenda will typically go out 1 week prior to meetings.\nJoin Zoom Meeting \nMeeting ID: 898 5985 3141 \n\nPasscode: 642957
URL:https://macdnet.org/event-calendar/convention-planning-meeting-2/2025-06-19/
LOCATION:Zoom
CATEGORIES:Events Calendar
END:VEVENT
END:VCALENDAR