BEGIN:VCALENDAR
VERSION:2.0
PRODID:-//Montana Association of Conservation Districts - ECPv6.15.20//NONSGML v1.0//EN
CALSCALE:GREGORIAN
METHOD:PUBLISH
X-WR-CALNAME:Montana Association of Conservation Districts
X-ORIGINAL-URL:https://macdnet.org
X-WR-CALDESC:Events for Montana Association of Conservation Districts
REFRESH-INTERVAL;VALUE=DURATION:PT1H
X-Robots-Tag:noindex
X-PUBLISHED-TTL:PT1H
BEGIN:VTIMEZONE
TZID:America/Denver
BEGIN:DAYLIGHT
TZOFFSETFROM:-0700
TZOFFSETTO:-0600
TZNAME:MDT
DTSTART:20260308T090000
END:DAYLIGHT
BEGIN:STANDARD
TZOFFSETFROM:-0600
TZOFFSETTO:-0700
TZNAME:MST
DTSTART:20261101T080000
END:STANDARD
BEGIN:DAYLIGHT
TZOFFSETFROM:-0700
TZOFFSETTO:-0600
TZNAME:MDT
DTSTART:20270314T090000
END:DAYLIGHT
BEGIN:STANDARD
TZOFFSETFROM:-0600
TZOFFSETTO:-0700
TZNAME:MST
DTSTART:20271107T080000
END:STANDARD
BEGIN:DAYLIGHT
TZOFFSETFROM:-0700
TZOFFSETTO:-0600
TZNAME:MDT
DTSTART:20280312T090000
END:DAYLIGHT
BEGIN:STANDARD
TZOFFSETFROM:-0600
TZOFFSETTO:-0700
TZNAME:MST
DTSTART:20281105T080000
END:STANDARD
END:VTIMEZONE
BEGIN:VEVENT
DTSTART;TZID=America/Denver:20270301T133000
DTEND;TZID=America/Denver:20270301T133000
DTSTAMP:20260421T135600
CREATED:20210920T235755Z
LAST-MODIFIED:20210920T235755Z
UID:56247-1803907800-1803907800@macdnet.org
SUMMARY:North Powell CD Meeting
DESCRIPTION:
URL:https://macdnet.org/event-calendar/__trashed-17__trashed/2027-03-01/
CATEGORIES:CD Board Meetings
END:VEVENT
BEGIN:VEVENT
DTSTART;TZID=America/Denver:20270302T110000
DTEND;TZID=America/Denver:20270302T110000
DTSTAMP:20260421T135600
CREATED:20210920T235802Z
LAST-MODIFIED:20210920T235802Z
UID:56352-1803985200-1803985200@macdnet.org
SUMMARY:Park CD Meeting
DESCRIPTION:Please see the Park CD website for more information.
URL:https://macdnet.org/event-calendar/__trashed-59__trashed/2027-03-02/
CATEGORIES:CD Board Meetings
END:VEVENT
BEGIN:VEVENT
DTSTART;TZID=America/Denver:20270302T140000
DTEND;TZID=America/Denver:20270302T140000
DTSTAMP:20260421T135600
CREATED:20210920T235755Z
LAST-MODIFIED:20210920T235755Z
UID:56353-1803996000-1803996000@macdnet.org
SUMMARY:Stillwater CD Meeting
DESCRIPTION:
URL:https://macdnet.org/event-calendar/__trashed-14__trashed/2027-03-02/
CATEGORIES:CD Board Meetings
END:VEVENT
BEGIN:VEVENT
DTSTART;TZID=America/Denver:20270302T173000
DTEND;TZID=America/Denver:20270302T173000
DTSTAMP:20260421T135600
CREATED:20210920T235754Z
LAST-MODIFIED:20210920T235754Z
UID:56350-1804008600-1804008600@macdnet.org
SUMMARY:Custer County CD Meeting
DESCRIPTION:
URL:https://macdnet.org/event-calendar/__trashed-12__trashed/2027-03-02/
CATEGORIES:CD Board Meetings
END:VEVENT
BEGIN:VEVENT
DTSTART;TZID=America/Denver:20270302T190000
DTEND;TZID=America/Denver:20270302T190000
DTSTAMP:20260421T135600
CREATED:20210920T235755Z
LAST-MODIFIED:20210920T235755Z
UID:56351-1804014000-1804014000@macdnet.org
SUMMARY:Judith Basin CD Meeting
DESCRIPTION:
URL:https://macdnet.org/event-calendar/__trashed-19__trashed/2027-03-02/
CATEGORIES:CD Board Meetings
END:VEVENT
BEGIN:VEVENT
DTSTART;TZID=America/Denver:20270302T190000
DTEND;TZID=America/Denver:20270302T190000
DTSTAMP:20260421T135600
CREATED:20210920T235756Z
LAST-MODIFIED:20210920T235756Z
UID:56354-1804014000-1804014000@macdnet.org
SUMMARY:Roosevelt County CD Meeting
DESCRIPTION:Please see the Roosevelt County CD website for more info.
URL:https://macdnet.org/event-calendar/__trashed-20__trashed/2027-03-02/
CATEGORIES:CD Board Meetings
END:VEVENT
BEGIN:VEVENT
DTSTART;TZID=America/Denver:20270302T190000
DTEND;TZID=America/Denver:20270302T190000
DTSTAMP:20260421T135600
CREATED:20210920T235756Z
LAST-MODIFIED:20210920T235756Z
UID:56356-1804014000-1804014000@macdnet.org
SUMMARY:Wibaux CD Meeting
DESCRIPTION:
URL:https://macdnet.org/event-calendar/__trashed-26__trashed/2027-03-02/
CATEGORIES:CD Board Meetings
END:VEVENT
BEGIN:VEVENT
DTSTART;TZID=America/Denver:20270302T190000
DTEND;TZID=America/Denver:20270302T220000
DTSTAMP:20260421T135600
CREATED:20210920T201921Z
LAST-MODIFIED:20210920T201921Z
UID:56348-1804014000-1804024800@macdnet.org
SUMMARY:Roosevelt CD Board Meeting
DESCRIPTION:Contact Roosevelt CD for the most up-to-date meeting information.
URL:https://macdnet.org/event-calendar/roosevelt-cd-board-meeting/2027-03-02/
LOCATION:USDA Culbertson Office\, 508 E 6th\, Culbertson\, MT\, United States
CATEGORIES:CD Board Meetings
END:VEVENT
BEGIN:VEVENT
DTSTART;TZID=America/Denver:20270303T170000
DTEND;TZID=America/Denver:20270303T170000
DTSTAMP:20260421T135600
CREATED:20210920T235801Z
LAST-MODIFIED:20210920T235801Z
UID:56875-1804093200-1804093200@macdnet.org
SUMMARY:Garfield County CD Meeting
DESCRIPTION:
URL:https://macdnet.org/event-calendar/__trashed-58__trashed/2027-03-03/
CATEGORIES:CD Board Meetings
END:VEVENT
BEGIN:VEVENT
DTSTART;TZID=America/Denver:20270303T190000
DTEND;TZID=America/Denver:20270303T190000
DTSTAMP:20260421T135600
CREATED:20210920T235801Z
LAST-MODIFIED:20210920T235801Z
UID:56878-1804100400-1804100400@macdnet.org
SUMMARY:Powder River CD Meeting
DESCRIPTION:
URL:https://macdnet.org/event-calendar/__trashed-56__trashed/2027-03-03/
CATEGORIES:CD Board Meetings
END:VEVENT
BEGIN:VEVENT
DTSTART;TZID=America/Denver:20270303T190000
DTEND;TZID=America/Denver:20270303T190000
DTSTAMP:20260421T135600
CREATED:20210920T235805Z
LAST-MODIFIED:20210920T235805Z
UID:56877-1804100400-1804100400@macdnet.org
SUMMARY:McCone County CD Meeting
DESCRIPTION:Please see the McCone County CD website for more info.
URL:https://macdnet.org/event-calendar/__trashed-74__trashed/2027-03-03/
CATEGORIES:CD Board Meetings
END:VEVENT
BEGIN:VEVENT
DTSTART;TZID=America/Denver:20270303T200000
DTEND;TZID=America/Denver:20270303T200000
DTSTAMP:20260421T135600
CREATED:20210920T235802Z
LAST-MODIFIED:20210920T235802Z
UID:56876-1804104000-1804104000@macdnet.org
SUMMARY:Eastern Sanders County CD Meeting
DESCRIPTION:
URL:https://macdnet.org/event-calendar/__trashed-62__trashed/2027-03-03/
CATEGORIES:CD Board Meetings
END:VEVENT
BEGIN:VEVENT
DTSTART;TZID=America/Denver:20270304T133000
DTEND;TZID=America/Denver:20270304T133000
DTSTAMP:20260421T135600
CREATED:20210920T235805Z
LAST-MODIFIED:20210920T235805Z
UID:57363-1804167000-1804167000@macdnet.org
SUMMARY:Bighorn CD Meeting
DESCRIPTION:
URL:https://macdnet.org/event-calendar/__trashed-75__trashed/2027-03-04/
CATEGORIES:CD Board Meetings
END:VEVENT
BEGIN:VEVENT
DTSTART;TZID=America/Denver:20270304T173000
DTEND;TZID=America/Denver:20270304T193000
DTSTAMP:20260421T135600
CREATED:20210920T235757Z
LAST-MODIFIED:20210920T235757Z
UID:57364-1804181400-1804188600@macdnet.org
SUMMARY:Little Beaver CD Meeting
DESCRIPTION:Please see the Little Beaver CD website for more info.
URL:https://macdnet.org/event-calendar/__trashed-33__trashed/2027-03-04/
CATEGORIES:CD Board Meetings
END:VEVENT
END:VCALENDAR