BEGIN:VCALENDAR
VERSION:2.0
PRODID:-//Montana Association of Conservation Districts - ECPv6.15.20//NONSGML v1.0//EN
CALSCALE:GREGORIAN
METHOD:PUBLISH
X-WR-CALNAME:Montana Association of Conservation Districts
X-ORIGINAL-URL:https://macdnet.org
X-WR-CALDESC:Events for Montana Association of Conservation Districts
REFRESH-INTERVAL;VALUE=DURATION:PT1H
X-Robots-Tag:noindex
X-PUBLISHED-TTL:PT1H
BEGIN:VTIMEZONE
TZID:America/Denver
BEGIN:DAYLIGHT
TZOFFSETFROM:-0700
TZOFFSETTO:-0600
TZNAME:MDT
DTSTART:20250309T090000
END:DAYLIGHT
BEGIN:STANDARD
TZOFFSETFROM:-0600
TZOFFSETTO:-0700
TZNAME:MST
DTSTART:20251102T080000
END:STANDARD
BEGIN:DAYLIGHT
TZOFFSETFROM:-0700
TZOFFSETTO:-0600
TZNAME:MDT
DTSTART:20260308T090000
END:DAYLIGHT
BEGIN:STANDARD
TZOFFSETFROM:-0600
TZOFFSETTO:-0700
TZNAME:MST
DTSTART:20261101T080000
END:STANDARD
BEGIN:DAYLIGHT
TZOFFSETFROM:-0700
TZOFFSETTO:-0600
TZNAME:MDT
DTSTART:20270314T090000
END:DAYLIGHT
BEGIN:STANDARD
TZOFFSETFROM:-0600
TZOFFSETTO:-0700
TZNAME:MST
DTSTART:20271107T080000
END:STANDARD
END:VTIMEZONE
BEGIN:VEVENT
DTSTART;TZID=America/Denver:20261214T070000
DTEND;TZID=America/Denver:20261214T070000
DTSTAMP:20260423T090454
CREATED:20210920T235754Z
LAST-MODIFIED:20210920T235754Z
UID:50986-1797231600-1797231600@macdnet.org
SUMMARY:Teton CD Meeting
DESCRIPTION:
URL:https://macdnet.org/event-calendar/__trashed-11__trashed/2026-12-14/
CATEGORIES:CD Board Meetings
END:VEVENT
BEGIN:VEVENT
DTSTART;TZID=America/Denver:20261214T130000
DTEND;TZID=America/Denver:20261214T133000
DTSTAMP:20260423T090454
CREATED:20210920T235754Z
LAST-MODIFIED:20210920T235754Z
UID:50981-1797253200-1797255000@macdnet.org
SUMMARY:Dawson County CD Meeting
DESCRIPTION:
URL:https://macdnet.org/event-calendar/__trashed-7__trashed/2026-12-14/
CATEGORIES:CD Board Meetings
END:VEVENT
BEGIN:VEVENT
DTSTART;TZID=America/Denver:20261214T170000
DTEND;TZID=America/Denver:20261214T173000
DTSTAMP:20260423T090454
CREATED:20210920T235756Z
LAST-MODIFIED:20210920T235756Z
UID:50987-1797267600-1797269400@macdnet.org
SUMMARY:Sweet Grass County Conservation District
DESCRIPTION:
URL:https://macdnet.org/event-calendar/__trashed-22__trashed/2026-12-14/
CATEGORIES:CD Board Meetings
END:VEVENT
BEGIN:VEVENT
DTSTART;TZID=America/Denver:20261214T173000
DTEND;TZID=America/Denver:20261214T173000
DTSTAMP:20260423T090454
CREATED:20210920T235803Z
LAST-MODIFIED:20210920T235803Z
UID:50980-1797269400-1797269400@macdnet.org
SUMMARY:Missoula Conservation District
DESCRIPTION:
URL:https://macdnet.org/event-calendar/__trashed-66__trashed/2026-12-14/
CATEGORIES:CD Board Meetings
END:VEVENT
BEGIN:VEVENT
DTSTART;TZID=America/Denver:20261214T173000
DTEND;TZID=America/Denver:20261214T173000
DTSTAMP:20260423T090454
CREATED:20210920T235803Z
LAST-MODIFIED:20210920T235803Z
UID:50988-1797269400-1797269400@macdnet.org
SUMMARY:Missoula Conservation District
DESCRIPTION:
URL:https://macdnet.org/event-calendar/__trashed-66__trashed-2024-02-12/2026-12-14/
CATEGORIES:CD Board Meetings
END:VEVENT
BEGIN:VEVENT
DTSTART;TZID=America/Denver:20261214T190000
DTEND;TZID=America/Denver:20261214T190000
DTSTAMP:20260423T090454
CREATED:20210920T235756Z
LAST-MODIFIED:20210920T235756Z
UID:50984-1797274800-1797274800@macdnet.org
SUMMARY:Meagher County Conservation District
DESCRIPTION:
URL:https://macdnet.org/event-calendar/__trashed-24__trashed/2026-12-14/
CATEGORIES:CD Board Meetings
END:VEVENT
BEGIN:VEVENT
DTSTART;TZID=America/Denver:20261214T190000
DTEND;TZID=America/Denver:20261214T190000
DTSTAMP:20260423T090454
CREATED:20210920T235800Z
LAST-MODIFIED:20210920T235800Z
UID:50982-1797274800-1797274800@macdnet.org
SUMMARY:Flathead CD 310 Meeting
DESCRIPTION:
URL:https://macdnet.org/event-calendar/__trashed-52__trashed/2026-12-14/
CATEGORIES:CD Board Meetings
END:VEVENT
BEGIN:VEVENT
DTSTART;TZID=America/Denver:20261214T193000
DTEND;TZID=America/Denver:20261214T193000
DTSTAMP:20260423T090454
CREATED:20210920T235757Z
LAST-MODIFIED:20210920T235757Z
UID:50985-1797276600-1797276600@macdnet.org
SUMMARY:Pondera County CD Meeting
DESCRIPTION:
URL:https://macdnet.org/event-calendar/__trashed-34__trashed/2026-12-14/
CATEGORIES:CD Board Meetings
END:VEVENT
BEGIN:VEVENT
DTSTART;TZID=America/Denver:20261214T193000
DTEND;TZID=America/Denver:20261214T193000
DTSTAMP:20260423T090454
CREATED:20210920T235757Z
LAST-MODIFIED:20210920T235757Z
UID:50983-1797276600-1797276600@macdnet.org
SUMMARY:Granite Conservation District
DESCRIPTION:
URL:https://macdnet.org/event-calendar/__trashed-30__trashed/2026-12-14/
CATEGORIES:CD Board Meetings
END:VEVENT
BEGIN:VEVENT
DTSTART;TZID=America/Denver:20261215T070000
DTEND;TZID=America/Denver:20261215T070000
DTSTAMP:20260423T090454
CREATED:20210920T235805Z
LAST-MODIFIED:20210920T235805Z
UID:51010-1797318000-1797318000@macdnet.org
SUMMARY:Jefferson Valley CD Meeting
DESCRIPTION:
URL:https://macdnet.org/event-calendar/__trashed-73__trashed/2026-12-15/
CATEGORIES:CD Board Meetings
END:VEVENT
BEGIN:VEVENT
DTSTART;TZID=America/Denver:20261215T171500
DTEND;TZID=America/Denver:20261215T171500
DTSTAMP:20260423T090454
CREATED:20210920T235755Z
LAST-MODIFIED:20210920T235755Z
UID:51011-1797354900-1797354900@macdnet.org
SUMMARY:Blaine County CD Meeting
DESCRIPTION:
URL:https://macdnet.org/event-calendar/__trashed-15__trashed/2026-12-15/
CATEGORIES:CD Board Meetings
END:VEVENT
BEGIN:VEVENT
DTSTART;TZID=America/Denver:20261215T180000
DTEND;TZID=America/Denver:20261215T180000
DTSTAMP:20260423T090454
CREATED:20210920T235755Z
LAST-MODIFIED:20210920T235755Z
UID:51012-1797357600-1797357600@macdnet.org
SUMMARY:Mineral County CD Meeting
DESCRIPTION:
URL:https://macdnet.org/event-calendar/__trashed-16__trashed/2026-12-15/
CATEGORIES:CD Board Meetings
END:VEVENT
BEGIN:VEVENT
DTSTART;TZID=America/Denver:20261216T150000
DTEND;TZID=America/Denver:20261216T150000
DTSTAMP:20260423T090454
CREATED:20210920T235803Z
LAST-MODIFIED:20210920T235803Z
UID:51018-1797433200-1797433200@macdnet.org
SUMMARY:Prairie County CD Meeting
DESCRIPTION:
URL:https://macdnet.org/event-calendar/__trashed-68__trashed/2026-12-16/
CATEGORIES:CD Board Meetings
END:VEVENT
BEGIN:VEVENT
DTSTART;TZID=America/Denver:20261216T160000
DTEND;TZID=America/Denver:20261216T160000
DTSTAMP:20260423T090454
CREATED:20210920T235804Z
LAST-MODIFIED:20210920T235804Z
UID:51019-1797436800-1797436800@macdnet.org
SUMMARY:Lincoln Conservation District
DESCRIPTION:The Lincoln Conservation District Meetings alternate bimonthly between the U.S.F.S. Office in Eureka\, and Plum Creek Timberlands Office in Libby.
URL:https://macdnet.org/event-calendar/__trashed-69__trashed/2026-12-16/
CATEGORIES:CD Board Meetings
END:VEVENT
BEGIN:VEVENT
DTSTART;TZID=America/Denver:20261216T190000
DTEND;TZID=America/Denver:20261216T190000
DTSTAMP:20260423T090454
CREATED:20210920T235758Z
LAST-MODIFIED:20210920T235758Z
UID:51021-1797447600-1797447600@macdnet.org
SUMMARY:Green Mountain CD Meeting
DESCRIPTION:
URL:https://macdnet.org/event-calendar/__trashed-41__trashed/2026-12-16/
CATEGORIES:CD Board Meetings
END:VEVENT
BEGIN:VEVENT
DTSTART;TZID=America/Denver:20261217T093000
DTEND;TZID=America/Denver:20261217T143000
DTSTAMP:20260423T090454
CREATED:20210920T235804Z
LAST-MODIFIED:20210920T235804Z
UID:51055-1797499800-1797517800@macdnet.org
SUMMARY:Gallatin CD Meeting
DESCRIPTION:Please go to the Gallatin CD website https://gallatin.macdnet.org/ for more info.
URL:https://macdnet.org/event-calendar/__trashed-70__trashed/2026-12-17/
CATEGORIES:CD Board Meetings
END:VEVENT
BEGIN:VEVENT
DTSTART;TZID=America/Denver:20261217T170000
DTEND;TZID=America/Denver:20261217T170000
DTSTAMP:20260423T090454
CREATED:20210920T235800Z
LAST-MODIFIED:20210920T235800Z
UID:65717-1797526800-1797526800@macdnet.org
SUMMARY:Hill County CD Meeting
DESCRIPTION:
URL:https://macdnet.org/event-calendar/__trashed-53__trashed/2026-12-17/
CATEGORIES:CD Board Meetings
END:VEVENT
BEGIN:VEVENT
DTSTART;TZID=America/Denver:20261217T190000
DTEND;TZID=America/Denver:20261217T190000
DTSTAMP:20260423T090454
CREATED:20210920T235801Z
LAST-MODIFIED:20210920T235801Z
UID:51054-1797534000-1797534000@macdnet.org
SUMMARY:Glacier County CD Meeting
DESCRIPTION:
URL:https://macdnet.org/event-calendar/__trashed-55__trashed/2026-12-17/
CATEGORIES:CD Board Meetings
END:VEVENT
BEGIN:VEVENT
DTSTART;TZID=America/Denver:20261217T190000
DTEND;TZID=America/Denver:20261217T190000
DTSTAMP:20260423T090454
CREATED:20210920T235804Z
LAST-MODIFIED:20210920T235804Z
UID:51056-1797534000-1797534000@macdnet.org
SUMMARY:Beaverhead CD Meeting
DESCRIPTION:Please go to the Beaverhead CD website at http://www.beaverheadwatershed.org/beaverhead-conservation-district/ for more information.
URL:https://macdnet.org/event-calendar/__trashed-72__trashed/2026-12-17/
CATEGORIES:CD Board Meetings
END:VEVENT
BEGIN:VEVENT
DTSTART;TZID=America/Denver:20261217T193000
DTEND;TZID=America/Denver:20261217T220000
DTSTAMP:20260423T090454
CREATED:20210920T235801Z
LAST-MODIFIED:20210920T235801Z
UID:51057-1797535800-1797544800@macdnet.org
SUMMARY:Lower Musselshell CD Meeting
DESCRIPTION:Please go to the Lower Musselshell CD website http://lmcdistrict.com/ for more info.
URL:https://macdnet.org/event-calendar/__trashed-54__trashed/2026-12-17/
CATEGORIES:CD Board Meetings
END:VEVENT
END:VCALENDAR