BEGIN:VCALENDAR
VERSION:2.0
PRODID:-//Montana Association of Conservation Districts - ECPv6.15.20//NONSGML v1.0//EN
CALSCALE:GREGORIAN
METHOD:PUBLISH
X-WR-CALNAME:Montana Association of Conservation Districts
X-ORIGINAL-URL:https://macdnet.org
X-WR-CALDESC:Events for Montana Association of Conservation Districts
REFRESH-INTERVAL;VALUE=DURATION:PT1H
X-Robots-Tag:noindex
X-PUBLISHED-TTL:PT1H
BEGIN:VTIMEZONE
TZID:America/Denver
BEGIN:DAYLIGHT
TZOFFSETFROM:-0700
TZOFFSETTO:-0600
TZNAME:MDT
DTSTART:20240310T090000
END:DAYLIGHT
BEGIN:STANDARD
TZOFFSETFROM:-0600
TZOFFSETTO:-0700
TZNAME:MST
DTSTART:20241103T080000
END:STANDARD
BEGIN:DAYLIGHT
TZOFFSETFROM:-0700
TZOFFSETTO:-0600
TZNAME:MDT
DTSTART:20250309T090000
END:DAYLIGHT
BEGIN:STANDARD
TZOFFSETFROM:-0600
TZOFFSETTO:-0700
TZNAME:MST
DTSTART:20251102T080000
END:STANDARD
BEGIN:DAYLIGHT
TZOFFSETFROM:-0700
TZOFFSETTO:-0600
TZNAME:MDT
DTSTART:20260308T090000
END:DAYLIGHT
BEGIN:STANDARD
TZOFFSETFROM:-0600
TZOFFSETTO:-0700
TZNAME:MST
DTSTART:20261101T080000
END:STANDARD
END:VTIMEZONE
BEGIN:VEVENT
DTSTART;TZID=America/Denver:20251006T133000
DTEND;TZID=America/Denver:20251006T133000
DTSTAMP:20260422T162902
CREATED:20210920T235755Z
LAST-MODIFIED:20210920T235755Z
UID:40090-1759757400-1759757400@macdnet.org
SUMMARY:North Powell CD Meeting
DESCRIPTION:
URL:https://macdnet.org/event-calendar/__trashed-17__trashed/2025-10-06/
CATEGORIES:CD Board Meetings
END:VEVENT
BEGIN:VEVENT
DTSTART;TZID=America/Denver:20251007T110000
DTEND;TZID=America/Denver:20251007T110000
DTSTAMP:20260422T162902
CREATED:20210920T235802Z
LAST-MODIFIED:20210920T235802Z
UID:40095-1759834800-1759834800@macdnet.org
SUMMARY:Park CD Meeting
DESCRIPTION:Please see the Park CD website for more information.
URL:https://macdnet.org/event-calendar/__trashed-59__trashed/2025-10-07/
CATEGORIES:CD Board Meetings
END:VEVENT
BEGIN:VEVENT
DTSTART;TZID=America/Denver:20251007T140000
DTEND;TZID=America/Denver:20251007T140000
DTSTAMP:20260422T162902
CREATED:20210920T235755Z
LAST-MODIFIED:20210920T235755Z
UID:40096-1759845600-1759845600@macdnet.org
SUMMARY:Stillwater CD Meeting
DESCRIPTION:
URL:https://macdnet.org/event-calendar/__trashed-14__trashed/2025-10-07/
CATEGORIES:CD Board Meetings
END:VEVENT
BEGIN:VEVENT
DTSTART;TZID=America/Denver:20251007T173000
DTEND;TZID=America/Denver:20251007T173000
DTSTAMP:20260422T162902
CREATED:20210920T235754Z
LAST-MODIFIED:20210920T235754Z
UID:40093-1759858200-1759858200@macdnet.org
SUMMARY:Custer County CD Meeting
DESCRIPTION:
URL:https://macdnet.org/event-calendar/__trashed-12__trashed/2025-10-07/
CATEGORIES:CD Board Meetings
END:VEVENT
BEGIN:VEVENT
DTSTART;TZID=America/Denver:20251007T190000
DTEND;TZID=America/Denver:20251007T190000
DTSTAMP:20260422T162902
CREATED:20210920T235755Z
LAST-MODIFIED:20210920T235755Z
UID:40094-1759863600-1759863600@macdnet.org
SUMMARY:Judith Basin CD Meeting
DESCRIPTION:
URL:https://macdnet.org/event-calendar/__trashed-19__trashed/2025-10-07/
CATEGORIES:CD Board Meetings
END:VEVENT
BEGIN:VEVENT
DTSTART;TZID=America/Denver:20251007T190000
DTEND;TZID=America/Denver:20251007T190000
DTSTAMP:20260422T162902
CREATED:20210920T235756Z
LAST-MODIFIED:20210920T235756Z
UID:40097-1759863600-1759863600@macdnet.org
SUMMARY:Roosevelt County CD Meeting
DESCRIPTION:Please see the Roosevelt County CD website for more info.
URL:https://macdnet.org/event-calendar/__trashed-20__trashed/2025-10-07/
CATEGORIES:CD Board Meetings
END:VEVENT
BEGIN:VEVENT
DTSTART;TZID=America/Denver:20251007T190000
DTEND;TZID=America/Denver:20251007T190000
DTSTAMP:20260422T162902
CREATED:20210920T235756Z
LAST-MODIFIED:20210920T235756Z
UID:40099-1759863600-1759863600@macdnet.org
SUMMARY:Wibaux CD Meeting
DESCRIPTION:
URL:https://macdnet.org/event-calendar/__trashed-26__trashed/2025-10-07/
CATEGORIES:CD Board Meetings
END:VEVENT
BEGIN:VEVENT
DTSTART;TZID=America/Denver:20251007T190000
DTEND;TZID=America/Denver:20251007T220000
DTSTAMP:20260422T162902
CREATED:20210920T201921Z
LAST-MODIFIED:20210920T201921Z
UID:40091-1759863600-1759874400@macdnet.org
SUMMARY:Roosevelt CD Board Meeting
DESCRIPTION:Contact Roosevelt CD for the most up-to-date meeting information.
URL:https://macdnet.org/event-calendar/roosevelt-cd-board-meeting/2025-10-07/
LOCATION:USDA Culbertson Office\, 508 E 6th\, Culbertson\, MT\, United States
CATEGORIES:CD Board Meetings
END:VEVENT
BEGIN:VEVENT
DTSTART;TZID=America/Denver:20251008T090000
DTEND;TZID=America/Denver:20251008T090000
DTSTAMP:20260422T162902
CREATED:20210920T235756Z
LAST-MODIFIED:20210920T235756Z
UID:40105-1759914000-1759914000@macdnet.org
SUMMARY:Yellowstone CD Meeting
DESCRIPTION:
URL:https://macdnet.org/event-calendar/__trashed-21__trashed/2025-10-08/
CATEGORIES:CD Board Meetings
END:VEVENT
BEGIN:VEVENT
DTSTART;TZID=America/Denver:20251008T130000
DTEND;TZID=America/Denver:20251008T130000
DTSTAMP:20260422T162902
CREATED:20210920T235755Z
LAST-MODIFIED:20210920T235755Z
UID:40103-1759928400-1759928400@macdnet.org
SUMMARY:Daniels County CD Meeting
DESCRIPTION:
URL:https://macdnet.org/event-calendar/__trashed-18__trashed/2025-10-08/
CATEGORIES:CD Board Meetings
END:VEVENT
BEGIN:VEVENT
DTSTART;TZID=America/Denver:20251008T133000
DTEND;TZID=America/Denver:20251008T133000
DTSTAMP:20260422T162902
CREATED:20210920T235754Z
LAST-MODIFIED:20210920T235754Z
UID:40104-1759930200-1759930200@macdnet.org
SUMMARY:Valley County CD Meeting
DESCRIPTION:
URL:https://macdnet.org/event-calendar/__trashed-8__trashed/2025-10-08/
CATEGORIES:CD Board Meetings
END:VEVENT
BEGIN:VEVENT
DTSTART;TZID=America/Denver:20251008T190000
DTEND;TZID=America/Denver:20251008T190000
DTSTAMP:20260422T162902
CREATED:20210920T235756Z
LAST-MODIFIED:20210920T235756Z
UID:40100-1759950000-1759950000@macdnet.org
SUMMARY:Fergus CD Meeting
DESCRIPTION:
URL:https://macdnet.org/event-calendar/__trashed-23__trashed/2025-10-08/
CATEGORIES:CD Board Meetings
END:VEVENT
BEGIN:VEVENT
DTSTART;TZID=America/Denver:20251008T193000
DTEND;TZID=America/Denver:20251008T193000
DTSTAMP:20260422T162902
CREATED:20210920T235754Z
LAST-MODIFIED:20210920T235754Z
UID:40101-1759951800-1759951800@macdnet.org
SUMMARY:Big Sandy CD Meeting
DESCRIPTION:
URL:https://macdnet.org/event-calendar/__trashed-9__trashed/2025-10-08/
CATEGORIES:CD Board Meetings
END:VEVENT
BEGIN:VEVENT
DTSTART;TZID=America/Denver:20251008T193000
DTEND;TZID=America/Denver:20251008T193000
DTSTAMP:20260422T162902
CREATED:20210920T235802Z
LAST-MODIFIED:20210920T235802Z
UID:40102-1759951800-1759951800@macdnet.org
SUMMARY:Upper Musselshell CD Meeting
DESCRIPTION:
URL:https://macdnet.org/event-calendar/__trashed-60__trashed/2025-10-08/
CATEGORIES:CD Board Meetings
END:VEVENT
BEGIN:VEVENT
DTSTART;TZID=America/Denver:20251009T130000
DTEND;TZID=America/Denver:20251009T130000
DTSTAMP:20260422T162902
CREATED:20210920T235802Z
LAST-MODIFIED:20210920T235802Z
UID:40106-1760014800-1760014800@macdnet.org
SUMMARY:Lewis & Clark CD Meeting
DESCRIPTION:Please see the Lewis & Clark CD website for more info.
URL:https://macdnet.org/event-calendar/__trashed-61__trashed/2025-10-09/
CATEGORIES:CD Board Meetings
END:VEVENT
BEGIN:VEVENT
DTSTART;TZID=America/Denver:20251009T133000
DTEND;TZID=America/Denver:20251009T133000
DTSTAMP:20260422T162902
CREATED:20210920T235759Z
LAST-MODIFIED:20210920T235759Z
UID:40107-1760016600-1760016600@macdnet.org
SUMMARY:Richland County CD Meeting
DESCRIPTION:
URL:https://macdnet.org/event-calendar/__trashed-45__trashed/2025-10-09/
CATEGORIES:CD Board Meetings
END:VEVENT
BEGIN:VEVENT
DTSTART;TZID=America/Denver:20251009T170000
DTEND;TZID=America/Denver:20251009T170000
DTSTAMP:20260422T162902
CREATED:20210920T235805Z
LAST-MODIFIED:20210920T235805Z
UID:40108-1760029200-1760029200@macdnet.org
SUMMARY:Carbon CD Meeting
DESCRIPTION:
URL:https://macdnet.org/event-calendar/__trashed-76__trashed/2025-10-09/
CATEGORIES:CD Board Meetings
END:VEVENT
BEGIN:VEVENT
DTSTART;TZID=America/Denver:20251009T190000
DTEND;TZID=America/Denver:20251009T190000
DTSTAMP:20260422T162902
CREATED:20210920T235758Z
LAST-MODIFIED:20210920T235758Z
UID:40109-1760036400-1760036400@macdnet.org
SUMMARY:Liberty County CD Meeting
DESCRIPTION:
URL:https://macdnet.org/event-calendar/__trashed-36__trashed/2025-10-09/
CATEGORIES:CD Board Meetings
END:VEVENT
BEGIN:VEVENT
DTSTART;TZID=America/Denver:20251009T190000
DTEND;TZID=America/Denver:20251009T190000
DTSTAMP:20260422T162902
CREATED:20210920T235759Z
LAST-MODIFIED:20210920T235759Z
UID:40110-1760036400-1760036400@macdnet.org
SUMMARY:Lake CD Meeting
DESCRIPTION:Please see the Lake County CD website for more info.
URL:https://macdnet.org/event-calendar/__trashed-44__trashed/2025-10-09/
CATEGORIES:CD Board Meetings
END:VEVENT
END:VCALENDAR