BEGIN:VCALENDAR
VERSION:2.0
PRODID:-//Montana Association of Conservation Districts - ECPv6.15.20//NONSGML v1.0//EN
CALSCALE:GREGORIAN
METHOD:PUBLISH
X-WR-CALNAME:Montana Association of Conservation Districts
X-ORIGINAL-URL:https://macdnet.org
X-WR-CALDESC:Events for Montana Association of Conservation Districts
REFRESH-INTERVAL;VALUE=DURATION:PT1H
X-Robots-Tag:noindex
X-PUBLISHED-TTL:PT1H
BEGIN:VTIMEZONE
TZID:America/Denver
BEGIN:DAYLIGHT
TZOFFSETFROM:-0700
TZOFFSETTO:-0600
TZNAME:MDT
DTSTART:20260308T090000
END:DAYLIGHT
BEGIN:STANDARD
TZOFFSETFROM:-0600
TZOFFSETTO:-0700
TZNAME:MST
DTSTART:20261101T080000
END:STANDARD
BEGIN:DAYLIGHT
TZOFFSETFROM:-0700
TZOFFSETTO:-0600
TZNAME:MDT
DTSTART:20270314T090000
END:DAYLIGHT
BEGIN:STANDARD
TZOFFSETFROM:-0600
TZOFFSETTO:-0700
TZNAME:MST
DTSTART:20271107T080000
END:STANDARD
BEGIN:DAYLIGHT
TZOFFSETFROM:-0700
TZOFFSETTO:-0600
TZNAME:MDT
DTSTART:20280312T090000
END:DAYLIGHT
BEGIN:STANDARD
TZOFFSETFROM:-0600
TZOFFSETTO:-0700
TZNAME:MST
DTSTART:20281105T080000
END:STANDARD
END:VTIMEZONE
BEGIN:VEVENT
DTSTART;TZID=America/Denver:20270819T190000
DTEND;TZID=America/Denver:20270819T190000
DTSTAMP:20260421T145409
CREATED:20210920T235804Z
LAST-MODIFIED:20210920T235804Z
UID:86599-1818702000-1818702000@macdnet.org
SUMMARY:Beaverhead CD Meeting
DESCRIPTION:Please go to the Beaverhead CD website at http://www.beaverheadwatershed.org/beaverhead-conservation-district/ for more information.
URL:https://macdnet.org/event-calendar/__trashed-72__trashed/2027-08-19/
CATEGORIES:CD Board Meetings
END:VEVENT
BEGIN:VEVENT
DTSTART;TZID=America/Denver:20270819T193000
DTEND;TZID=America/Denver:20270819T220000
DTSTAMP:20260421T145409
CREATED:20210920T235801Z
LAST-MODIFIED:20210920T235801Z
UID:86600-1818703800-1818712800@macdnet.org
SUMMARY:Lower Musselshell CD Meeting
DESCRIPTION:Please go to the Lower Musselshell CD website http://lmcdistrict.com/ for more info.
URL:https://macdnet.org/event-calendar/__trashed-54__trashed/2027-08-19/
CATEGORIES:CD Board Meetings
END:VEVENT
BEGIN:VEVENT
DTSTART;TZID=America/Denver:20270823T110000
DTEND;TZID=America/Denver:20270823T110000
DTSTAMP:20260421T145409
CREATED:20210920T231535Z
LAST-MODIFIED:20210920T231535Z
UID:88443-1819018800-1819018800@macdnet.org
SUMMARY:Mile High CD Meeting
DESCRIPTION:Please call or email CD administrator Kris Hugulet for more information.
URL:https://macdnet.org/event-calendar/mile-high-cd-meeting-2021-06-28/2027-08-23/
CATEGORIES:CD Board Meetings
END:VEVENT
BEGIN:VEVENT
DTSTART;TZID=America/Denver:20270823T190000
DTEND;TZID=America/Denver:20270823T220000
DTSTAMP:20260421T145409
CREATED:20210920T235109Z
LAST-MODIFIED:20210920T235109Z
UID:88444-1819047600-1819058400@macdnet.org
SUMMARY:Flathead CD Business Meeting
DESCRIPTION:Please see the Flathead CD website http://flatheadcd.org/ for more info.
URL:https://macdnet.org/event-calendar/flathead-cd-business-meeting/2027-08-23/
CATEGORIES:CD Board Meetings
END:VEVENT
BEGIN:VEVENT
DTSTART;TZID=America/Denver:20270824T180000
DTEND;TZID=America/Denver:20270824T190000
DTSTAMP:20260421T145409
CREATED:20220303T180508Z
LAST-MODIFIED:20220303T180508Z
UID:88445-1819130400-1819134000@macdnet.org
SUMMARY:Broadwater Conservation District Monthly Meeting
DESCRIPTION:Monthly Meeting on the fourth Tuesday of every month.
URL:https://macdnet.org/event-calendar/broadwater-conservation-district-monthly-meeting/2027-08-24/
CATEGORIES:CD Board Meetings
END:VEVENT
BEGIN:VEVENT
DTSTART;TZID=America/Denver:20270831T190000
DTEND;TZID=America/Denver:20270831T190000
DTSTAMP:20260421T145409
CREATED:20210920T235759Z
LAST-MODIFIED:20210920T235759Z
UID:88474-1819738800-1819738800@macdnet.org
SUMMARY:Bitterroot CD Meeting
DESCRIPTION:Please see the Bitterroot CD website for more info.
URL:https://macdnet.org/event-calendar/__trashed-47__trashed/2027-08-31/
CATEGORIES:CD Board Meetings
END:VEVENT
BEGIN:VEVENT
DTSTART;TZID=America/Denver:20270901T170000
DTEND;TZID=America/Denver:20270901T170000
DTSTAMP:20260421T145409
CREATED:20210920T235801Z
LAST-MODIFIED:20210920T235801Z
UID:88458-1819818000-1819818000@macdnet.org
SUMMARY:Garfield County CD Meeting
DESCRIPTION:
URL:https://macdnet.org/event-calendar/__trashed-58__trashed/2027-09-01/
CATEGORIES:CD Board Meetings
END:VEVENT
BEGIN:VEVENT
DTSTART;TZID=America/Denver:20270901T190000
DTEND;TZID=America/Denver:20270901T190000
DTSTAMP:20260421T145409
CREATED:20210920T235801Z
LAST-MODIFIED:20210920T235801Z
UID:88461-1819825200-1819825200@macdnet.org
SUMMARY:Powder River CD Meeting
DESCRIPTION:
URL:https://macdnet.org/event-calendar/__trashed-56__trashed/2027-09-01/
CATEGORIES:CD Board Meetings
END:VEVENT
BEGIN:VEVENT
DTSTART;TZID=America/Denver:20270901T190000
DTEND;TZID=America/Denver:20270901T190000
DTSTAMP:20260421T145409
CREATED:20210920T235805Z
LAST-MODIFIED:20210920T235805Z
UID:88460-1819825200-1819825200@macdnet.org
SUMMARY:McCone County CD Meeting
DESCRIPTION:Please see the McCone County CD website for more info.
URL:https://macdnet.org/event-calendar/__trashed-74__trashed/2027-09-01/
CATEGORIES:CD Board Meetings
END:VEVENT
BEGIN:VEVENT
DTSTART;TZID=America/Denver:20270901T200000
DTEND;TZID=America/Denver:20270901T200000
DTSTAMP:20260421T145409
CREATED:20210920T235802Z
LAST-MODIFIED:20210920T235802Z
UID:88459-1819828800-1819828800@macdnet.org
SUMMARY:Eastern Sanders County CD Meeting
DESCRIPTION:
URL:https://macdnet.org/event-calendar/__trashed-62__trashed/2027-09-01/
CATEGORIES:CD Board Meetings
END:VEVENT
BEGIN:VEVENT
DTSTART;TZID=America/Denver:20270902T133000
DTEND;TZID=America/Denver:20270902T133000
DTSTAMP:20260421T145409
CREATED:20210920T235805Z
LAST-MODIFIED:20210920T235805Z
UID:88462-1819891800-1819891800@macdnet.org
SUMMARY:Bighorn CD Meeting
DESCRIPTION:
URL:https://macdnet.org/event-calendar/__trashed-75__trashed/2027-09-02/
CATEGORIES:CD Board Meetings
END:VEVENT
BEGIN:VEVENT
DTSTART;TZID=America/Denver:20270902T173000
DTEND;TZID=America/Denver:20270902T193000
DTSTAMP:20260421T145409
CREATED:20210920T235757Z
LAST-MODIFIED:20210920T235757Z
UID:88463-1819906200-1819913400@macdnet.org
SUMMARY:Little Beaver CD Meeting
DESCRIPTION:Please see the Little Beaver CD website for more info.
URL:https://macdnet.org/event-calendar/__trashed-33__trashed/2027-09-02/
CATEGORIES:CD Board Meetings
END:VEVENT
BEGIN:VEVENT
DTSTART;TZID=America/Denver:20270906T133000
DTEND;TZID=America/Denver:20270906T133000
DTSTAMP:20260421T145409
CREATED:20210920T235755Z
LAST-MODIFIED:20210920T235755Z
UID:88446-1820237400-1820237400@macdnet.org
SUMMARY:North Powell CD Meeting
DESCRIPTION:
URL:https://macdnet.org/event-calendar/__trashed-17__trashed/2027-09-06/
CATEGORIES:CD Board Meetings
END:VEVENT
BEGIN:VEVENT
DTSTART;TZID=America/Denver:20270907T110000
DTEND;TZID=America/Denver:20270907T110000
DTSTAMP:20260421T145409
CREATED:20210920T235802Z
LAST-MODIFIED:20210920T235802Z
UID:88452-1820314800-1820314800@macdnet.org
SUMMARY:Park CD Meeting
DESCRIPTION:Please see the Park CD website for more information.
URL:https://macdnet.org/event-calendar/__trashed-59__trashed/2027-09-07/
CATEGORIES:CD Board Meetings
END:VEVENT
BEGIN:VEVENT
DTSTART;TZID=America/Denver:20270907T140000
DTEND;TZID=America/Denver:20270907T140000
DTSTAMP:20260421T145409
CREATED:20210920T235755Z
LAST-MODIFIED:20210920T235755Z
UID:88453-1820325600-1820325600@macdnet.org
SUMMARY:Stillwater CD Meeting
DESCRIPTION:
URL:https://macdnet.org/event-calendar/__trashed-14__trashed/2027-09-07/
CATEGORIES:CD Board Meetings
END:VEVENT
BEGIN:VEVENT
DTSTART;TZID=America/Denver:20270907T173000
DTEND;TZID=America/Denver:20270907T173000
DTSTAMP:20260421T145409
CREATED:20210920T235754Z
LAST-MODIFIED:20210920T235754Z
UID:88450-1820338200-1820338200@macdnet.org
SUMMARY:Custer County CD Meeting
DESCRIPTION:
URL:https://macdnet.org/event-calendar/__trashed-12__trashed/2027-09-07/
CATEGORIES:CD Board Meetings
END:VEVENT
BEGIN:VEVENT
DTSTART;TZID=America/Denver:20270907T190000
DTEND;TZID=America/Denver:20270907T190000
DTSTAMP:20260421T145409
CREATED:20210920T235755Z
LAST-MODIFIED:20210920T235755Z
UID:88451-1820343600-1820343600@macdnet.org
SUMMARY:Judith Basin CD Meeting
DESCRIPTION:
URL:https://macdnet.org/event-calendar/__trashed-19__trashed/2027-09-07/
CATEGORIES:CD Board Meetings
END:VEVENT
BEGIN:VEVENT
DTSTART;TZID=America/Denver:20270907T190000
DTEND;TZID=America/Denver:20270907T190000
DTSTAMP:20260421T145409
CREATED:20210920T235756Z
LAST-MODIFIED:20210920T235756Z
UID:88454-1820343600-1820343600@macdnet.org
SUMMARY:Roosevelt County CD Meeting
DESCRIPTION:Please see the Roosevelt County CD website for more info.
URL:https://macdnet.org/event-calendar/__trashed-20__trashed/2027-09-07/
CATEGORIES:CD Board Meetings
END:VEVENT
BEGIN:VEVENT
DTSTART;TZID=America/Denver:20270907T190000
DTEND;TZID=America/Denver:20270907T190000
DTSTAMP:20260421T145409
CREATED:20210920T235756Z
LAST-MODIFIED:20210920T235756Z
UID:88456-1820343600-1820343600@macdnet.org
SUMMARY:Wibaux CD Meeting
DESCRIPTION:
URL:https://macdnet.org/event-calendar/__trashed-26__trashed/2027-09-07/
CATEGORIES:CD Board Meetings
END:VEVENT
BEGIN:VEVENT
DTSTART;TZID=America/Denver:20270907T190000
DTEND;TZID=America/Denver:20270907T220000
DTSTAMP:20260421T145409
CREATED:20210920T201921Z
LAST-MODIFIED:20210920T201921Z
UID:88448-1820343600-1820354400@macdnet.org
SUMMARY:Roosevelt CD Board Meeting
DESCRIPTION:Contact Roosevelt CD for the most up-to-date meeting information.
URL:https://macdnet.org/event-calendar/roosevelt-cd-board-meeting/2027-09-07/
LOCATION:USDA Culbertson Office\, 508 E 6th\, Culbertson\, MT\, United States
CATEGORIES:CD Board Meetings
END:VEVENT
BEGIN:VEVENT
DTSTART;TZID=America/Denver:20270908T090000
DTEND;TZID=America/Denver:20270908T090000
DTSTAMP:20260421T145409
CREATED:20210920T235756Z
LAST-MODIFIED:20210920T235756Z
UID:88485-1820394000-1820394000@macdnet.org
SUMMARY:Yellowstone CD Meeting
DESCRIPTION:
URL:https://macdnet.org/event-calendar/__trashed-21__trashed/2027-09-08/
CATEGORIES:CD Board Meetings
END:VEVENT
BEGIN:VEVENT
DTSTART;TZID=America/Denver:20270908T130000
DTEND;TZID=America/Denver:20270908T130000
DTSTAMP:20260421T145409
CREATED:20210920T235755Z
LAST-MODIFIED:20210920T235755Z
UID:88483-1820408400-1820408400@macdnet.org
SUMMARY:Daniels County CD Meeting
DESCRIPTION:
URL:https://macdnet.org/event-calendar/__trashed-18__trashed/2027-09-08/
CATEGORIES:CD Board Meetings
END:VEVENT
BEGIN:VEVENT
DTSTART;TZID=America/Denver:20270908T133000
DTEND;TZID=America/Denver:20270908T133000
DTSTAMP:20260421T145409
CREATED:20210920T235754Z
LAST-MODIFIED:20210920T235754Z
UID:88484-1820410200-1820410200@macdnet.org
SUMMARY:Valley County CD Meeting
DESCRIPTION:
URL:https://macdnet.org/event-calendar/__trashed-8__trashed/2027-09-08/
CATEGORIES:CD Board Meetings
END:VEVENT
BEGIN:VEVENT
DTSTART;TZID=America/Denver:20270908T190000
DTEND;TZID=America/Denver:20270908T190000
DTSTAMP:20260421T145409
CREATED:20210920T235756Z
LAST-MODIFIED:20210920T235756Z
UID:88480-1820430000-1820430000@macdnet.org
SUMMARY:Fergus CD Meeting
DESCRIPTION:
URL:https://macdnet.org/event-calendar/__trashed-23__trashed/2027-09-08/
CATEGORIES:CD Board Meetings
END:VEVENT
BEGIN:VEVENT
DTSTART;TZID=America/Denver:20270908T193000
DTEND;TZID=America/Denver:20270908T193000
DTSTAMP:20260421T145409
CREATED:20210920T235754Z
LAST-MODIFIED:20210920T235754Z
UID:88481-1820431800-1820431800@macdnet.org
SUMMARY:Big Sandy CD Meeting
DESCRIPTION:
URL:https://macdnet.org/event-calendar/__trashed-9__trashed/2027-09-08/
CATEGORIES:CD Board Meetings
END:VEVENT
BEGIN:VEVENT
DTSTART;TZID=America/Denver:20270908T193000
DTEND;TZID=America/Denver:20270908T193000
DTSTAMP:20260421T145409
CREATED:20210920T235802Z
LAST-MODIFIED:20210920T235802Z
UID:88482-1820431800-1820431800@macdnet.org
SUMMARY:Upper Musselshell CD Meeting
DESCRIPTION:
URL:https://macdnet.org/event-calendar/__trashed-60__trashed/2027-09-08/
CATEGORIES:CD Board Meetings
END:VEVENT
BEGIN:VEVENT
DTSTART;TZID=America/Denver:20270909T130000
DTEND;TZID=America/Denver:20270909T130000
DTSTAMP:20260421T145409
CREATED:20210920T235802Z
LAST-MODIFIED:20210920T235802Z
UID:88487-1820494800-1820494800@macdnet.org
SUMMARY:Lewis & Clark CD Meeting
DESCRIPTION:Please see the Lewis & Clark CD website for more info.
URL:https://macdnet.org/event-calendar/__trashed-61__trashed/2027-09-09/
CATEGORIES:CD Board Meetings
END:VEVENT
BEGIN:VEVENT
DTSTART;TZID=America/Denver:20270909T133000
DTEND;TZID=America/Denver:20270909T133000
DTSTAMP:20260421T145409
CREATED:20210920T235759Z
LAST-MODIFIED:20210920T235759Z
UID:88488-1820496600-1820496600@macdnet.org
SUMMARY:Richland County CD Meeting
DESCRIPTION:
URL:https://macdnet.org/event-calendar/__trashed-45__trashed/2027-09-09/
CATEGORIES:CD Board Meetings
END:VEVENT
BEGIN:VEVENT
DTSTART;TZID=America/Denver:20270909T170000
DTEND;TZID=America/Denver:20270909T170000
DTSTAMP:20260421T145409
CREATED:20210920T235805Z
LAST-MODIFIED:20210920T235805Z
UID:88489-1820509200-1820509200@macdnet.org
SUMMARY:Carbon CD Meeting
DESCRIPTION:
URL:https://macdnet.org/event-calendar/__trashed-76__trashed/2027-09-09/
CATEGORIES:CD Board Meetings
END:VEVENT
BEGIN:VEVENT
DTSTART;TZID=America/Denver:20270909T190000
DTEND;TZID=America/Denver:20270909T190000
DTSTAMP:20260421T145409
CREATED:20210920T235758Z
LAST-MODIFIED:20210920T235758Z
UID:88490-1820516400-1820516400@macdnet.org
SUMMARY:Liberty County CD Meeting
DESCRIPTION:
URL:https://macdnet.org/event-calendar/__trashed-36__trashed/2027-09-09/
CATEGORIES:CD Board Meetings
END:VEVENT
END:VCALENDAR