BEGIN:VCALENDAR
VERSION:2.0
PRODID:-//Montana Association of Conservation Districts - ECPv6.15.20//NONSGML v1.0//EN
CALSCALE:GREGORIAN
METHOD:PUBLISH
X-ORIGINAL-URL:https://macdnet.org
X-WR-CALDESC:Events for Montana Association of Conservation Districts
REFRESH-INTERVAL;VALUE=DURATION:PT1H
X-Robots-Tag:noindex
X-PUBLISHED-TTL:PT1H
BEGIN:VTIMEZONE
TZID:America/Denver
BEGIN:DAYLIGHT
TZOFFSETFROM:-0700
TZOFFSETTO:-0600
TZNAME:MDT
DTSTART:20210314T090000
END:DAYLIGHT
BEGIN:STANDARD
TZOFFSETFROM:-0600
TZOFFSETTO:-0700
TZNAME:MST
DTSTART:20211107T080000
END:STANDARD
BEGIN:DAYLIGHT
TZOFFSETFROM:-0700
TZOFFSETTO:-0600
TZNAME:MDT
DTSTART:20220313T090000
END:DAYLIGHT
BEGIN:STANDARD
TZOFFSETFROM:-0600
TZOFFSETTO:-0700
TZNAME:MST
DTSTART:20221106T080000
END:STANDARD
BEGIN:DAYLIGHT
TZOFFSETFROM:-0700
TZOFFSETTO:-0600
TZNAME:MDT
DTSTART:20230312T090000
END:DAYLIGHT
BEGIN:STANDARD
TZOFFSETFROM:-0600
TZOFFSETTO:-0700
TZNAME:MST
DTSTART:20231105T080000
END:STANDARD
BEGIN:DAYLIGHT
TZOFFSETFROM:-0700
TZOFFSETTO:-0600
TZNAME:MDT
DTSTART:20240310T090000
END:DAYLIGHT
BEGIN:STANDARD
TZOFFSETFROM:-0600
TZOFFSETTO:-0700
TZNAME:MST
DTSTART:20241103T080000
END:STANDARD
END:VTIMEZONE
BEGIN:VEVENT
DTSTART;VALUE=DATE:20220614
DTEND;VALUE=DATE:20220617
DTSTAMP:20260425T184836
CREATED:20220216T200918Z
LAST-MODIFIED:20220610T165042Z
UID:25832-1655164800-1655423999@macdnet.org
SUMMARY:MACD Spring Board Meeting
DESCRIPTION:MACD 2022 Spring Board Meeting\nThe MACD Spring Board Meeting will take place in Helena at the State Capitol from June 14th-16th. Check back here for more updates.
URL:https://macdnet.org/event-calendar/macd-spring-board-meeting/
LOCATION:Helena\, Montana\, Helena\, MT\, 59601\, United States
CATEGORIES:CD Board Meetings,Events Calendar,Meetings
ATTACH;FMTTYPE=image/jpeg:https://macdnet.org/wp-content/uploads/2022/02/MACD-logo-state-square-clear-background-1.jpg
END:VEVENT
BEGIN:VEVENT
DTSTART;TZID=America/Denver:20220728T130000
DTEND;TZID=America/Denver:20220728T143000
DTSTAMP:20260425T184836
CREATED:20220721T195159Z
LAST-MODIFIED:20220721T195159Z
UID:30300-1659013200-1659018600@macdnet.org
SUMMARY:Resolutions Q and A Session
DESCRIPTION:[vc_row][vc_column][vc_column_text]Resolutions Q and A Session: Thursday\, July 28th at 1pm via zoom\nThis session will be recorded and posted on the MACD youtube page. If you have questions and are not able to attend\, please reach out to rebecca@macdnet.org.\nLearn More \nJoin Zoom Meeting https://us06web.zoom.us/j/89582521186?pwd=NTVCZnhFYWI1WDFWVmFkZGIyYmlXdz09 Meeting ID: 895 8252 1186 Passcode: 489442 One tap mobile +16694449171\,\,89582521186#\,\,\,\,*489442# US +16699006833\,\,89582521186#\,\,\,\,*489442# US (San Jose)[/vc_column_text][/vc_column][/vc_row]
URL:https://macdnet.org/event-calendar/resolutions-q-and-a-session/
LOCATION:Zoom
CATEGORIES:CD Board Meetings,Meetings,Trainings and Workshops
ATTACH;FMTTYPE=image/png:https://macdnet.org/wp-content/uploads/2022/06/MACD-Logo_Rect_Blue.png
END:VEVENT
BEGIN:VEVENT
DTSTART;VALUE=DATE:20221115
DTEND;VALUE=DATE:20221118
DTSTAMP:20260425T184836
CREATED:20220316T220127Z
LAST-MODIFIED:20221103T095600Z
UID:26413-1668470400-1668729599@macdnet.org
SUMMARY:MACD 2022 Annual Convention
DESCRIPTION:The 2022 Annual Convention will be held in Helena Montana. Check convention.macdnet.org for the most up-to-date information.
URL:https://macdnet.org/event-calendar/macd-2022-annual-convention/
LOCATION:Helena\, Montana\, Helena\, MT\, 59601\, United States
CATEGORIES:CD Board Meetings,Events Calendar,Meetings,Trainings and Workshops
ATTACH;FMTTYPE=image/jpeg:https://macdnet.org/wp-content/uploads/2022/02/MACD-logo-state-square-clear-background-1.jpg
END:VEVENT
BEGIN:VEVENT
DTSTART;VALUE=DATE:20230606
DTEND;VALUE=DATE:20230609
DTSTAMP:20260425T184836
CREATED:20230308T204839Z
LAST-MODIFIED:20230308T204839Z
UID:36567-1686009600-1686268799@macdnet.org
SUMMARY:Spring Board Meeting
DESCRIPTION:
URL:https://macdnet.org/event-calendar/spring-board-meeting/
LOCATION:Helena\, Montana\, Helena\, MT\, 59601\, United States
CATEGORIES:CD Board Meetings,Events Calendar,Meetings,Trainings and Workshops
ATTACH;FMTTYPE=image/png:https://macdnet.org/wp-content/uploads/2022/06/MACD-Logo_Rect_Blue.png
END:VEVENT
BEGIN:VEVENT
DTSTART;VALUE=DATE:20230815
DTEND;VALUE=DATE:20230816
DTSTAMP:20260425T184836
CREATED:20230702T011726Z
LAST-MODIFIED:20230702T011748Z
UID:38424-1692057600-1692143999@macdnet.org
SUMMARY:MACD Resolutions Deadline
DESCRIPTION:
URL:https://macdnet.org/event-calendar/macd-resolutions-deadline/
CATEGORIES:CD Board Meetings,Meetings,Miscellaneous
ATTACH;FMTTYPE=image/png:https://macdnet.org/wp-content/uploads/2021/12/macd-draft-3.png
END:VEVENT
END:VCALENDAR