BEGIN:VCALENDAR
VERSION:2.0
PRODID:-//Montana Association of Conservation Districts - ECPv6.15.20//NONSGML v1.0//EN
CALSCALE:GREGORIAN
METHOD:PUBLISH
X-WR-CALNAME:Montana Association of Conservation Districts
X-ORIGINAL-URL:https://macdnet.org
X-WR-CALDESC:Events for Montana Association of Conservation Districts
REFRESH-INTERVAL;VALUE=DURATION:PT1H
X-Robots-Tag:noindex
X-PUBLISHED-TTL:PT1H
BEGIN:VTIMEZONE
TZID:America/Denver
BEGIN:DAYLIGHT
TZOFFSETFROM:-0700
TZOFFSETTO:-0600
TZNAME:MDT
DTSTART:20260308T090000
END:DAYLIGHT
BEGIN:STANDARD
TZOFFSETFROM:-0600
TZOFFSETTO:-0700
TZNAME:MST
DTSTART:20261101T080000
END:STANDARD
BEGIN:DAYLIGHT
TZOFFSETFROM:-0700
TZOFFSETTO:-0600
TZNAME:MDT
DTSTART:20270314T090000
END:DAYLIGHT
BEGIN:STANDARD
TZOFFSETFROM:-0600
TZOFFSETTO:-0700
TZNAME:MST
DTSTART:20271107T080000
END:STANDARD
BEGIN:DAYLIGHT
TZOFFSETFROM:-0700
TZOFFSETTO:-0600
TZNAME:MDT
DTSTART:20280312T090000
END:DAYLIGHT
BEGIN:STANDARD
TZOFFSETFROM:-0600
TZOFFSETTO:-0700
TZNAME:MST
DTSTART:20281105T080000
END:STANDARD
END:VTIMEZONE
BEGIN:VEVENT
DTSTART;TZID=America/Denver:20270318T093000
DTEND;TZID=America/Denver:20270318T143000
DTSTAMP:20260420T152342
CREATED:20210920T235804Z
LAST-MODIFIED:20210920T235804Z
UID:60151-1805362200-1805380200@macdnet.org
SUMMARY:Gallatin CD Meeting
DESCRIPTION:Please go to the Gallatin CD website https://gallatin.macdnet.org/ for more info.
URL:https://macdnet.org/event-calendar/__trashed-70__trashed/2027-03-18/
CATEGORIES:CD Board Meetings
END:VEVENT
BEGIN:VEVENT
DTSTART;TZID=America/Denver:20270318T170000
DTEND;TZID=America/Denver:20270318T170000
DTSTAMP:20260420T152342
CREATED:20210920T235800Z
LAST-MODIFIED:20210920T235800Z
UID:65720-1805389200-1805389200@macdnet.org
SUMMARY:Hill County CD Meeting
DESCRIPTION:
URL:https://macdnet.org/event-calendar/__trashed-53__trashed/2027-03-18/
CATEGORIES:CD Board Meetings
END:VEVENT
BEGIN:VEVENT
DTSTART;TZID=America/Denver:20270318T190000
DTEND;TZID=America/Denver:20270318T190000
DTSTAMP:20260420T152342
CREATED:20210920T235801Z
LAST-MODIFIED:20210920T235801Z
UID:60150-1805396400-1805396400@macdnet.org
SUMMARY:Glacier County CD Meeting
DESCRIPTION:
URL:https://macdnet.org/event-calendar/__trashed-55__trashed/2027-03-18/
CATEGORIES:CD Board Meetings
END:VEVENT
BEGIN:VEVENT
DTSTART;TZID=America/Denver:20270318T190000
DTEND;TZID=America/Denver:20270318T190000
DTSTAMP:20260420T152342
CREATED:20210920T235804Z
LAST-MODIFIED:20210920T235804Z
UID:60152-1805396400-1805396400@macdnet.org
SUMMARY:Beaverhead CD Meeting
DESCRIPTION:Please go to the Beaverhead CD website at http://www.beaverheadwatershed.org/beaverhead-conservation-district/ for more information.
URL:https://macdnet.org/event-calendar/__trashed-72__trashed/2027-03-18/
CATEGORIES:CD Board Meetings
END:VEVENT
BEGIN:VEVENT
DTSTART;TZID=America/Denver:20270318T193000
DTEND;TZID=America/Denver:20270318T220000
DTSTAMP:20260420T152342
CREATED:20210920T235801Z
LAST-MODIFIED:20210920T235801Z
UID:60153-1805398200-1805407200@macdnet.org
SUMMARY:Lower Musselshell CD Meeting
DESCRIPTION:Please go to the Lower Musselshell CD website http://lmcdistrict.com/ for more info.
URL:https://macdnet.org/event-calendar/__trashed-54__trashed/2027-03-18/
CATEGORIES:CD Board Meetings
END:VEVENT
END:VCALENDAR