BEGIN:VCALENDAR
VERSION:2.0
PRODID:-//Montana Association of Conservation Districts - ECPv6.15.20//NONSGML v1.0//EN
CALSCALE:GREGORIAN
METHOD:PUBLISH
X-ORIGINAL-URL:https://macdnet.org
X-WR-CALDESC:Events for Montana Association of Conservation Districts
REFRESH-INTERVAL;VALUE=DURATION:PT1H
X-Robots-Tag:noindex
X-PUBLISHED-TTL:PT1H
BEGIN:VTIMEZONE
TZID:America/Denver
BEGIN:DAYLIGHT
TZOFFSETFROM:-0700
TZOFFSETTO:-0600
TZNAME:MDT
DTSTART:20240310T090000
END:DAYLIGHT
BEGIN:STANDARD
TZOFFSETFROM:-0600
TZOFFSETTO:-0700
TZNAME:MST
DTSTART:20241103T080000
END:STANDARD
BEGIN:DAYLIGHT
TZOFFSETFROM:-0700
TZOFFSETTO:-0600
TZNAME:MDT
DTSTART:20250309T090000
END:DAYLIGHT
BEGIN:STANDARD
TZOFFSETFROM:-0600
TZOFFSETTO:-0700
TZNAME:MST
DTSTART:20251102T080000
END:STANDARD
BEGIN:DAYLIGHT
TZOFFSETFROM:-0700
TZOFFSETTO:-0600
TZNAME:MDT
DTSTART:20260308T090000
END:DAYLIGHT
BEGIN:STANDARD
TZOFFSETFROM:-0600
TZOFFSETTO:-0700
TZNAME:MST
DTSTART:20261101T080000
END:STANDARD
END:VTIMEZONE
BEGIN:VEVENT
DTSTART;VALUE=DATE:20250621
DTEND;VALUE=DATE:20250629
DTSTAMP:20260420T010542
CREATED:20250612T200807Z
LAST-MODIFIED:20250612T200807Z
UID:74843-1750464000-1751155199@macdnet.org
SUMMARY:FWP Greater Short-Horned Lizard BioBlitz
DESCRIPTION:FWP Greater Short-Horned Lizard BioBlitz\nJune 21-28  \nGreater short-horned lizards are a native species found in sagebrush and grasslands of central and eastern Montana. Detectability for greater short-horned lizards has been low during structured surveys through Montana Fish\, Wildlife & Parks\, though incidental observations reported by members of the public have proven valuable in increasing observations statewide. In an effort to increase sampling efforts\, FWP is seeking help from the public. This year\, FWP\, along with various agency partners\, will host a greater short-horned lizard bioblitz from June 21 to June 28 in conjunction with national efforts through the Horned Lizard Conservation Society (HLCS). \nFWP will also host a free\, all-ages kickoff event for the bioblitz on Thursday\, June 19\, at the Billings office (2300 Lake Elmo Dr.) from 5:30 to 7:30 p.m. At this event\, FWP staff will give a presentation on the biology of greater short-horned lizards\, provide information on where to look for these lizards\, and lead a tutorial on using iNaturalist. There will also be crafts and activities for kids. \nFor more information on the bioblitz\, contact FWP nongame biologist Megan O’Reilly at moreilly@mt.gov or 406-247-2966.
URL:https://macdnet.org/event-calendar/fwp-greater-short-horned-lizard-bioblitz/
CATEGORIES:Events Calendar
END:VEVENT
BEGIN:VEVENT
DTSTART;VALUE=DATE:20250623
DTEND;VALUE=DATE:20250626
DTSTAMP:20260420T010542
CREATED:20250402T144118Z
LAST-MODIFIED:20250506T150750Z
UID:62906-1750636800-1750895999@macdnet.org
SUMMARY:Montana Range Days 2025
DESCRIPTION:Montana Range Days 2025\nJune 23-25  \nMiles City \nMore details coming soon.
URL:https://macdnet.org/event-calendar/montana-range-days-2025/
END:VEVENT
BEGIN:VEVENT
DTSTART;TZID=America/Denver:20250623T100000
DTEND;TZID=America/Denver:20250625T163000
DTSTAMP:20260420T010542
CREATED:20250428T205928Z
LAST-MODIFIED:20250428T205931Z
UID:66958-1750672800-1750869000@macdnet.org
SUMMARY:2025 NCSS National Conference
DESCRIPTION:2025 NCSS National Conference\nJune 23-25\, 2025 \nVirtual/Online \nThe National Cooperative Soil Survey is pleased to announce that registration is open for the 2025 National Cooperative Soil Survey Conference. Oregon State University is hosting the virtual conference from June 23-25 and will be using the Whova app. Instructions will be provided closer to the conference date. \nThis year’s conference theme is “Welcome to the Neighborhood: Living and Working with Partners on the Land.” \nRegistration Deadline and Fee: The conference is FREE to participate. Register at the  below by creating a non-OSU account login. Conference materials\, including a copy of Cataclysms on the Columbia by authors John Eliot Allen\, Marjorie Burns\, and Scott Burns\, are limited to the first 250 participants who have registered by May 15\, 2025. Materials for registrations received after May 15 will be available based on remaining supplies. However\, participants may register to attend the conference up until the conference begins. \nFor more information about the conference\, visit the NRCS 2025 NCSS National Conference website. \nRegister Here
URL:https://macdnet.org/event-calendar/2025-ncss-national-conference/
LOCATION:ONLINE
CATEGORIES:Events Calendar,Trainings and Workshops
END:VEVENT
BEGIN:VEVENT
DTSTART;TZID=America/Denver:20250623T163000
DTEND;TZID=America/Denver:20250625T120000
DTSTAMP:20260420T010542
CREATED:20250428T160228Z
LAST-MODIFIED:20250428T160230Z
UID:66945-1750696200-1750852800@macdnet.org
SUMMARY:NACD Northern Plains Regional Meeting
DESCRIPTION:NACD Northern Plains Regional Meeting\nJune 23-25\, 2025 \nBrookings\, SD \nHere is the current agenda for the NACD Northern Plains Regional Meeting.  This meeting will be held in Brookings\, SD June 23-25.  Registration forms will be sent out at a later date\, when prices are finalized. \nDO NOT CONFUSE THIS WITH THE NCDEA NORTHERN PLAINS REGIONAL MEETING – plans have not been finalized\, but we plan to have this in Kansas in the fall. \nCurrent Agenda
URL:https://macdnet.org/event-calendar/nacd-northern-plains-regional-meeting/
LOCATION:Brookings\, SD\, Brookings\, SD\, 57006\, United States
CATEGORIES:Events Calendar,Meetings,Trainings and Workshops
END:VEVENT
BEGIN:VEVENT
DTSTART;TZID=America/Denver:20250624T180000
DTEND;TZID=America/Denver:20250624T190000
DTSTAMP:20260420T010542
CREATED:20220303T180508Z
LAST-MODIFIED:20220303T180508Z
UID:38290-1750788000-1750791600@macdnet.org
SUMMARY:Broadwater Conservation District Monthly Meeting
DESCRIPTION:Monthly Meeting on the fourth Tuesday of every month.
URL:https://macdnet.org/event-calendar/broadwater-conservation-district-monthly-meeting/2025-06-24/
CATEGORIES:CD Board Meetings
END:VEVENT
BEGIN:VEVENT
DTSTART;TZID=America/Denver:20250624T190000
DTEND;TZID=America/Denver:20250624T190000
DTSTAMP:20260420T010542
CREATED:20210920T235759Z
LAST-MODIFIED:20210920T235759Z
UID:38448-1750791600-1750791600@macdnet.org
SUMMARY:Bitterroot CD Meeting
DESCRIPTION:Please see the Bitterroot CD website for more info.
URL:https://macdnet.org/event-calendar/__trashed-47__trashed/2025-06-24/
CATEGORIES:CD Board Meetings
END:VEVENT
END:VCALENDAR