BEGIN:VCALENDAR
VERSION:2.0
PRODID:-//Montana Association of Conservation Districts - ECPv6.15.20//NONSGML v1.0//EN
CALSCALE:GREGORIAN
METHOD:PUBLISH
X-ORIGINAL-URL:https://macdnet.org
X-WR-CALDESC:Events for Montana Association of Conservation Districts
REFRESH-INTERVAL;VALUE=DURATION:PT1H
X-Robots-Tag:noindex
X-PUBLISHED-TTL:PT1H
BEGIN:VTIMEZONE
TZID:America/Denver
BEGIN:DAYLIGHT
TZOFFSETFROM:-0700
TZOFFSETTO:-0600
TZNAME:MDT
DTSTART:20240310T090000
END:DAYLIGHT
BEGIN:STANDARD
TZOFFSETFROM:-0600
TZOFFSETTO:-0700
TZNAME:MST
DTSTART:20241103T080000
END:STANDARD
BEGIN:DAYLIGHT
TZOFFSETFROM:-0700
TZOFFSETTO:-0600
TZNAME:MDT
DTSTART:20250309T090000
END:DAYLIGHT
BEGIN:STANDARD
TZOFFSETFROM:-0600
TZOFFSETTO:-0700
TZNAME:MST
DTSTART:20251102T080000
END:STANDARD
BEGIN:DAYLIGHT
TZOFFSETFROM:-0700
TZOFFSETTO:-0600
TZNAME:MDT
DTSTART:20260308T090000
END:DAYLIGHT
BEGIN:STANDARD
TZOFFSETFROM:-0600
TZOFFSETTO:-0700
TZNAME:MST
DTSTART:20261101T080000
END:STANDARD
END:VTIMEZONE
BEGIN:VEVENT
DTSTART;VALUE=DATE:20250514
DTEND;VALUE=DATE:20250515
DTSTAMP:20260420T011349
CREATED:20250506T164645Z
LAST-MODIFIED:20250506T164645Z
UID:68205-1747180800-1747267199@macdnet.org
SUMMARY:Interagency Bison Management Plan Virtual Meeting
DESCRIPTION:Interagency Bison Management Plan Virtual Meeting\nMay 14 \nPartner agencies in the Interagency Bison Management Plan will meet virtually on May 14 for their annual spring meeting. \nThe meeting will be held over Zoom\, and the link is available on the IBMP’s new website\, ibmpinfo.org. There will be a public feedback session during the meeting. Individuals who wish to provide feedback must register online by May 13 at 11:59 p.m. Mountain Time. \nTo view the meeting agenda and to register to participate in the public feedback session\, click here.
URL:https://macdnet.org/event-calendar/interagency-bison-management-plan-virtual-meeting/
LOCATION:Zoom
CATEGORIES:Events Calendar
END:VEVENT
BEGIN:VEVENT
DTSTART;TZID=America/Denver:20250514T073000
DTEND;TZID=America/Denver:20250514T083000
DTSTAMP:20260420T011349
CREATED:20231228T222059Z
LAST-MODIFIED:20231228T222059Z
UID:41026-1747207800-1747211400@macdnet.org
SUMMARY:MACD Finance Committee
DESCRIPTION:The MACD Finance Committee meets on the second Wednesday of the Month at 7:30am via zoom. (This is typically the Wednesday prior to MACD Board Meetings). Contact Rebecca Boslough for meeting details.
URL:https://macdnet.org/event-calendar/macd-finance-committee-4/2025-05-14/
LOCATION:Zoom
END:VEVENT
BEGIN:VEVENT
DTSTART;TZID=America/Denver:20250514T090000
DTEND;TZID=America/Denver:20250514T090000
DTSTAMP:20260420T011349
CREATED:20210920T235756Z
LAST-MODIFIED:20210920T235756Z
UID:37737-1747213200-1747213200@macdnet.org
SUMMARY:Yellowstone CD Meeting
DESCRIPTION:
URL:https://macdnet.org/event-calendar/__trashed-21__trashed/2025-05-14/
CATEGORIES:CD Board Meetings
END:VEVENT
BEGIN:VEVENT
DTSTART;TZID=America/Denver:20250514T120000
DTEND;TZID=America/Denver:20250514T143000
DTSTAMP:20260420T011349
CREATED:20250513T140128Z
LAST-MODIFIED:20250513T140128Z
UID:68945-1747224000-1747233000@macdnet.org
SUMMARY:USDA BFR Veterans Webinar Series
DESCRIPTION:USDA BFR Veterans Webinar Series\nMay 14-May 15  \n12:00PM-02:30PM (May 14)\, 12:00PM-02:00PM (May 15)  \nJoin USDA for a free webinar series for military veterans\, transitioning service members\, and military spouses on how to work with the U.S. Department of Agriculture (USDA) to prepare for a career in agriculture. This webinar series is designed to provide information about USDA Beginning Farmer and Rancher resources for the military community. \nRegister Here \n\n\n\n\nWednesday\, May 14\, 2025\n2:00 – 4:30pm Eastern \n\nUSDA Key Personnel Introduction and Overview\nVeterans and the USDA\, with Michael Sherman Introduction to USDA’s definition of military veteran farmer and rancher and how it differs across agencies.\nHow to Get Started\, with Michael Sherman Guidance on how to prepare for a successful appointment at the local Service Center.\nCredit Worthiness\, with Amanda Robertson Learn the factors FSA Loan Officers use to determine credit worthiness.\n\n\n\nThursday\, May 15\, 2025\n2:00 – 4:00pm Eastern \n\nValue-Added Producer Grants (VAPG)\, with Carlos Contreas and DeLea Taylor Overview of grant program to help with value-added production and sales.\nEnvironmental Quality Incentives Program (EQIP)\, with Floyd Nauls Learn how to integrate conservation practices into working land.
URL:https://macdnet.org/event-calendar/usda-bfr-veterans-webinar-series/2025-05-14/
LOCATION:Zoom
CATEGORIES:Events Calendar
END:VEVENT
BEGIN:VEVENT
DTSTART;TZID=America/Denver:20250514T130000
DTEND;TZID=America/Denver:20250514T130000
DTSTAMP:20260420T011349
CREATED:20210920T235755Z
LAST-MODIFIED:20210920T235755Z
UID:37735-1747227600-1747227600@macdnet.org
SUMMARY:Daniels County CD Meeting
DESCRIPTION:
URL:https://macdnet.org/event-calendar/__trashed-18__trashed/2025-05-14/
CATEGORIES:CD Board Meetings
END:VEVENT
BEGIN:VEVENT
DTSTART;TZID=America/Denver:20250514T130000
DTEND;TZID=America/Denver:20250515T133000
DTSTAMP:20260420T011349
CREATED:20250507T214351Z
LAST-MODIFIED:20250507T214351Z
UID:68400-1747227600-1747315800@macdnet.org
SUMMARY:PLPW Advisory Committee Meeting
DESCRIPTION:PLPW Advisory Committee Meeting\nMay 14-15  \n01:00PM-05:00PM (5/14)\, 08:30AM-01:15PM (5/15) \nMontana FWP Region 4 Office  \n4600 Giant Springs Road \nGreat Falls\, MT 59405 \nThe Private Land/Public Wildlife Advisory Committee will meet May 14 and 15 at the Montana Fish\, Wildlife & Parks’ Region 4 office in Great Falls. The public is welcome to attend in person or register to make public comment via Zoom. The meeting runs from 1 to 5 p.m. on May 14 and from 8:30 a.m. to 1:15 p.m. on May 15. For more information or to sign up to make public comment through Zoom\, go to fwp.mt.gov/plpw. For more information on PLPW and a full agenda\, visit fwp.mt.gov/plpw.
URL:https://macdnet.org/event-calendar/plpw-advisory-committee-meeting/
LOCATION:Montana FWP Region 4 Office\, 4600 Giant Springs Road\, Great Falls\, Montana\, 59405
CATEGORIES:Events Calendar
END:VEVENT
BEGIN:VEVENT
DTSTART;TZID=America/Denver:20250514T133000
DTEND;TZID=America/Denver:20250514T133000
DTSTAMP:20260420T011349
CREATED:20210920T235754Z
LAST-MODIFIED:20210920T235754Z
UID:37736-1747229400-1747229400@macdnet.org
SUMMARY:Valley County CD Meeting
DESCRIPTION:
URL:https://macdnet.org/event-calendar/__trashed-8__trashed/2025-05-14/
CATEGORIES:CD Board Meetings
END:VEVENT
BEGIN:VEVENT
DTSTART;TZID=America/Denver:20250514T170000
DTEND;TZID=America/Denver:20250514T200000
DTSTAMP:20260420T011349
CREATED:20250324T151852Z
LAST-MODIFIED:20250324T151854Z
UID:60820-1747242000-1747252800@macdnet.org
SUMMARY:Red Lodge Ales Bear Awareness Pint Night
DESCRIPTION:Red Lodge Ales Bear Awareness Pint Night\nMay 14  \n05:00PM-08:00PM  \nRed Lodge Ales  \n1445 Broadway Ave N \nRed Lodge\, MT 59068
URL:https://macdnet.org/event-calendar/red-lodge-ales-bear-awareness-pint-night/
LOCATION:Red Lodge Ales\, 1445 Broadway Ave N\, Red Lodge\, Montana\, 59068
CATEGORIES:Events Calendar
END:VEVENT
BEGIN:VEVENT
DTSTART;TZID=America/Denver:20250514T173000
DTEND;TZID=America/Denver:20250514T190000
DTSTAMP:20260420T011349
CREATED:20250513T135725Z
LAST-MODIFIED:20250513T135725Z
UID:68938-1747243800-1747249200@macdnet.org
SUMMARY:Nightjars Night In
DESCRIPTION:Nightjars Night In\nMay 14  \n05:30PM-07:00PM \nFWP Miles City Office \n352 Interstate 94 Business Loop \n Miles City\, MT 59301 \n\nAre you a bird enthusiast? Would you like to learn more about species like common nighthawks and poorwills\, and maybe help FWP to conduct surveys of these fascinating creatures? Come join Montana Fish\, Wildlife & Parks’ non-game biology staff on Wednesday\, May 14\, at 5:30 p.m. at the FWP Miles City office for an informative presentation! FWP is partnering with Montana Audubon Society to bolster our data on nightjars. This is a great citizen science opportunity!\n\n\n\n\n\nFor questions\, email FWP non-game biologist Amanda Hall at amanda.hall@mt.gov or call 406-234-0900.
URL:https://macdnet.org/event-calendar/nightjars-night-in/
LOCATION:FWP Miles City\, 352 Interstate 94 Business Loop\, Miles City\, Montana\, 59301
CATEGORIES:Events Calendar
END:VEVENT
BEGIN:VEVENT
DTSTART;TZID=America/Denver:20250514T180000
DTEND;TZID=America/Denver:20250514T200000
DTSTAMP:20260420T011349
CREATED:20250506T152003Z
LAST-MODIFIED:20250506T152003Z
UID:68155-1747245600-1747252800@macdnet.org
SUMMARY:Pasture Walks
DESCRIPTION:Pasture Walks\nSecond Wednesday of each month through September 2025  \n06:00PM-08:00PM  \nPetroleum County Community Center \n207 W Main Street  \nWinnett\, MT 59087 \nMay 14: Reseeding Native Perennials \nJune 11: Riparian Restoration & LTBPR w/Clint Smith\, FWP \nJuly 9: Cattle nutrition & forage testing w/Dr. Becca Woodford \nAugust 13: Grazing & Range Health w/Emily Standley\, RMG \nSeptember 10: Conifer Encroachment with ACES Conservation Committee \nFor more information\, contact Kendall at kendall@winnettaces.org. \n 
URL:https://macdnet.org/event-calendar/pasture-walks/2025-05-14/
LOCATION:PETROLEUM COUNTY COMMUNITY CENTER\, 207 W Main Street\, Winnett\, Montana\, 59087
CATEGORIES:Events Calendar
END:VEVENT
BEGIN:VEVENT
DTSTART;TZID=America/Denver:20250514T190000
DTEND;TZID=America/Denver:20250514T190000
DTSTAMP:20260420T011349
CREATED:20210920T235756Z
LAST-MODIFIED:20210920T235756Z
UID:37732-1747249200-1747249200@macdnet.org
SUMMARY:Fergus CD Meeting
DESCRIPTION:
URL:https://macdnet.org/event-calendar/__trashed-23__trashed/2025-05-14/
CATEGORIES:CD Board Meetings
END:VEVENT
BEGIN:VEVENT
DTSTART;TZID=America/Denver:20250514T193000
DTEND;TZID=America/Denver:20250514T193000
DTSTAMP:20260420T011349
CREATED:20210920T235754Z
LAST-MODIFIED:20210920T235754Z
UID:37733-1747251000-1747251000@macdnet.org
SUMMARY:Big Sandy CD Meeting
DESCRIPTION:
URL:https://macdnet.org/event-calendar/__trashed-9__trashed/2025-05-14/
CATEGORIES:CD Board Meetings
END:VEVENT
BEGIN:VEVENT
DTSTART;TZID=America/Denver:20250514T193000
DTEND;TZID=America/Denver:20250514T193000
DTSTAMP:20260420T011349
CREATED:20210920T235802Z
LAST-MODIFIED:20210920T235802Z
UID:37734-1747251000-1747251000@macdnet.org
SUMMARY:Upper Musselshell CD Meeting
DESCRIPTION:
URL:https://macdnet.org/event-calendar/__trashed-60__trashed/2025-05-14/
CATEGORIES:CD Board Meetings
END:VEVENT
END:VCALENDAR