BEGIN:VCALENDAR
VERSION:2.0
PRODID:-//Montana Association of Conservation Districts - ECPv6.15.20//NONSGML v1.0//EN
CALSCALE:GREGORIAN
METHOD:PUBLISH
X-ORIGINAL-URL:https://macdnet.org
X-WR-CALDESC:Events for Montana Association of Conservation Districts
REFRESH-INTERVAL;VALUE=DURATION:PT1H
X-Robots-Tag:noindex
X-PUBLISHED-TTL:PT1H
BEGIN:VTIMEZONE
TZID:America/Denver
BEGIN:DAYLIGHT
TZOFFSETFROM:-0700
TZOFFSETTO:-0600
TZNAME:MDT
DTSTART:20240310T090000
END:DAYLIGHT
BEGIN:STANDARD
TZOFFSETFROM:-0600
TZOFFSETTO:-0700
TZNAME:MST
DTSTART:20241103T080000
END:STANDARD
BEGIN:DAYLIGHT
TZOFFSETFROM:-0700
TZOFFSETTO:-0600
TZNAME:MDT
DTSTART:20250309T090000
END:DAYLIGHT
BEGIN:STANDARD
TZOFFSETFROM:-0600
TZOFFSETTO:-0700
TZNAME:MST
DTSTART:20251102T080000
END:STANDARD
BEGIN:DAYLIGHT
TZOFFSETFROM:-0700
TZOFFSETTO:-0600
TZNAME:MDT
DTSTART:20260308T090000
END:DAYLIGHT
BEGIN:STANDARD
TZOFFSETFROM:-0600
TZOFFSETTO:-0700
TZNAME:MST
DTSTART:20261101T080000
END:STANDARD
END:VTIMEZONE
BEGIN:VEVENT
DTSTART;VALUE=DATE:20250510
DTEND;VALUE=DATE:20250511
DTSTAMP:20260421T034756
CREATED:20250401T202345Z
LAST-MODIFIED:20250401T202345Z
UID:62810-1746835200-1746921599@macdnet.org
SUMMARY:SRWG Rain Barrel Workshop in Fairfield
DESCRIPTION:SRWG Rain Barrel Workshop in Fairfield\nMay 10  \nFor more information\, contact Madison Coyler. \n 
URL:https://macdnet.org/event-calendar/srwg-rain-barrel-workshop-in-fairfield/
CATEGORIES:Events Calendar
END:VEVENT
BEGIN:VEVENT
DTSTART;VALUE=DATE:20250510
DTEND;VALUE=DATE:20250511
DTSTAMP:20260421T034756
CREATED:20250423T212601Z
LAST-MODIFIED:20250423T212753Z
UID:66122-1746835200-1746921599@macdnet.org
SUMMARY:Lake Elmo open for gas motorboat testing May 10 and 17
DESCRIPTION:Lake Elmo open for gas motorboat testing May 10 and 17\nMay 10 & 17  \nBefore boating season gets into full swing this summer\, Montana Fish\, Wildlife & Parks is opening Lake Elmo to gasoline motorboats for two Saturdays in May. The events are intended to give boat owners an opportunity to test equipment for safety and will be held May 10 and May 17. \nClick here for more information.
URL:https://macdnet.org/event-calendar/lake-elmo-open-for-gas-motorboat-testing-may-10-and-17/2025-05-10/
LOCATION:Lake Elmo
CATEGORIES:Events Calendar
END:VEVENT
END:VCALENDAR