BEGIN:VCALENDAR
VERSION:2.0
PRODID:-//Montana Association of Conservation Districts - ECPv6.15.20//NONSGML v1.0//EN
CALSCALE:GREGORIAN
METHOD:PUBLISH
X-ORIGINAL-URL:https://macdnet.org
X-WR-CALDESC:Events for Montana Association of Conservation Districts
REFRESH-INTERVAL;VALUE=DURATION:PT1H
X-Robots-Tag:noindex
X-PUBLISHED-TTL:PT1H
BEGIN:VTIMEZONE
TZID:America/Denver
BEGIN:DAYLIGHT
TZOFFSETFROM:-0700
TZOFFSETTO:-0600
TZNAME:MDT
DTSTART:20240310T090000
END:DAYLIGHT
BEGIN:STANDARD
TZOFFSETFROM:-0600
TZOFFSETTO:-0700
TZNAME:MST
DTSTART:20241103T080000
END:STANDARD
BEGIN:DAYLIGHT
TZOFFSETFROM:-0700
TZOFFSETTO:-0600
TZNAME:MDT
DTSTART:20250309T090000
END:DAYLIGHT
BEGIN:STANDARD
TZOFFSETFROM:-0600
TZOFFSETTO:-0700
TZNAME:MST
DTSTART:20251102T080000
END:STANDARD
BEGIN:DAYLIGHT
TZOFFSETFROM:-0700
TZOFFSETTO:-0600
TZNAME:MDT
DTSTART:20260308T090000
END:DAYLIGHT
BEGIN:STANDARD
TZOFFSETFROM:-0600
TZOFFSETTO:-0700
TZNAME:MST
DTSTART:20261101T080000
END:STANDARD
END:VTIMEZONE
BEGIN:VEVENT
DTSTART;VALUE=DATE:20250425
DTEND;VALUE=DATE:20250426
DTSTAMP:20260420T200437
CREATED:20250401T182932Z
LAST-MODIFIED:20250401T182932Z
UID:62765-1745539200-1745625599@macdnet.org
SUMMARY:Lake County CD Earth Day and Pollinator Seed Giveaway
DESCRIPTION:Lake County CD Earth Day and Pollinator Seed Giveaway\nApril 25  \nFor more information\, contact Caroline at LakeCD@macdnet.org. 
URL:https://macdnet.org/event-calendar/lake-county-cd-earth-day-and-pollinator-seed-giveaway/
CATEGORIES:Events Calendar
END:VEVENT
BEGIN:VEVENT
DTSTART;TZID=America/Denver:20250425T090000
DTEND;TZID=America/Denver:20250425T120000
DTSTAMP:20260420T200437
CREATED:20250319T191614Z
LAST-MODIFIED:20250319T191614Z
UID:60145-1745571600-1745582400@macdnet.org
SUMMARY:Winter Gardening Series: Kids in the Garden w/Roubie Younkin
DESCRIPTION:Winter Gardening Series: Kids in the Garden w/Roubie Younkin\nApril 25  \n09:00AM-12:00PM  \nJoin Valley County Conservation District and Roubie Younkin for this gardening class designed just for kids! This class\, aimed for kids aged six and up\, will teach basic gardening skills and help kids start seeds to grow at home. To RSVP\, contact Valley County Conservation District at vccdmt20@gmail.com or (406)-228-4321. \n 
URL:https://macdnet.org/event-calendar/winter-gardening-series-kids-in-the-garden-w-roubie-younkin/
CATEGORIES:Events Calendar
END:VEVENT
BEGIN:VEVENT
DTSTART;TZID=America/Denver:20250425T100000
DTEND;TZID=America/Denver:20250425T110000
DTSTAMP:20260420T200437
CREATED:20250415T190454Z
LAST-MODIFIED:20250416T143242Z
UID:64966-1745575200-1745578800@macdnet.org
SUMMARY:Health Insurance Q&A with SWMITC and Mountain Health Co-Op
DESCRIPTION:Health Insurance Q&A with SWMITC and Mountain Health Co-Op\nApril 25  \n10:00AM-11:00AM  \nJoin this training to learn and discuss group eligibility\, the utilization of both Copay and HSA medical plans\, prescription drug information\, and dental and vision benefits. Employees are encouraged to ask any and all questions they may have regarding group benefits. \nAbout the trainer: Julie Blockey is the general manager of ReliExchange (formerly Southwestern Montana Insurance Center). She has been an agent for the past 35 years.  \nClick here for the Zoom link. \nMeeting ID: 826 8645 5592
URL:https://macdnet.org/event-calendar/health-insurance-qa-with-swmitc-and-mountain-health-co-op/
LOCATION:Zoom
CATEGORIES:Events Calendar
END:VEVENT
END:VCALENDAR