BEGIN:VCALENDAR
VERSION:2.0
PRODID:-//Montana Association of Conservation Districts - ECPv6.15.20//NONSGML v1.0//EN
CALSCALE:GREGORIAN
METHOD:PUBLISH
X-ORIGINAL-URL:https://macdnet.org
X-WR-CALDESC:Events for Montana Association of Conservation Districts
REFRESH-INTERVAL;VALUE=DURATION:PT1H
X-Robots-Tag:noindex
X-PUBLISHED-TTL:PT1H
BEGIN:VTIMEZONE
TZID:America/Denver
BEGIN:DAYLIGHT
TZOFFSETFROM:-0700
TZOFFSETTO:-0600
TZNAME:MDT
DTSTART:20240310T090000
END:DAYLIGHT
BEGIN:STANDARD
TZOFFSETFROM:-0600
TZOFFSETTO:-0700
TZNAME:MST
DTSTART:20241103T080000
END:STANDARD
BEGIN:DAYLIGHT
TZOFFSETFROM:-0700
TZOFFSETTO:-0600
TZNAME:MDT
DTSTART:20250309T090000
END:DAYLIGHT
BEGIN:STANDARD
TZOFFSETFROM:-0600
TZOFFSETTO:-0700
TZNAME:MST
DTSTART:20251102T080000
END:STANDARD
BEGIN:DAYLIGHT
TZOFFSETFROM:-0700
TZOFFSETTO:-0600
TZNAME:MDT
DTSTART:20260308T090000
END:DAYLIGHT
BEGIN:STANDARD
TZOFFSETFROM:-0600
TZOFFSETTO:-0700
TZNAME:MST
DTSTART:20261101T080000
END:STANDARD
END:VTIMEZONE
BEGIN:VEVENT
DTSTART;TZID=America/Denver:20250419T100000
DTEND;TZID=America/Denver:20250419T150000
DTSTAMP:20260420T135622
CREATED:20250307T145612Z
LAST-MODIFIED:20250307T145612Z
UID:57872-1745056800-1745074800@macdnet.org
SUMMARY:Montana Matters Youth Outdoor Experience
DESCRIPTION:Montana Matters Youth Outdoor Experience\nApril 19  \n10:00AM-03:00PM  \n20250307_montana_youth_flyer
URL:https://macdnet.org/event-calendar/montana-matters-youth-outdoor-experience-2/
LOCATION:Lewis and Clark County Fairgrounds\, 98 W Custer Ave\, Helena\, MT\, 59602\, United States
CATEGORIES:Events Calendar
END:VEVENT
BEGIN:VEVENT
DTSTART;TZID=America/Denver:20250419T100000
DTEND;TZID=America/Denver:20250419T160000
DTSTAMP:20260420T135623
CREATED:20250324T150954Z
LAST-MODIFIED:20250324T151045Z
UID:60816-1745056800-1745078400@macdnet.org
SUMMARY:Bear Education at ZooMontana’s Party for the Planet
DESCRIPTION:Bear Education at ZooMontana’s Party for the Planet\nApril 19  \n10:00AM-04:00PM  \n ZooMontana grizzly bear exhibit \n2100 S. Shiloh Road  \nBillings\, MT 59106  \n Join FWP staff at this ZooMontana event to learn about bear safety and awareness while recreating outdoors. Staff will also lead inert bear spray demonstrations. The FWP booth will be near the grizzly bear exhibit at ZooMontana\, where grizzly bears George and Willy will explore a campsite inside of their enclosure. This information is designed for the general public\, tourists and outdoor recreationists. For more info on this event\, click here.
URL:https://macdnet.org/event-calendar/bear-education-at-zoomontanas-party-for-the-planet/
LOCATION:ZooMontana\, 2100 S. Shiloh Road\, Billings\, Montana\, 59106
END:VEVENT
END:VCALENDAR