BEGIN:VCALENDAR
VERSION:2.0
PRODID:-//Montana Association of Conservation Districts - ECPv6.15.20//NONSGML v1.0//EN
CALSCALE:GREGORIAN
METHOD:PUBLISH
X-ORIGINAL-URL:https://macdnet.org
X-WR-CALDESC:Events for Montana Association of Conservation Districts
REFRESH-INTERVAL;VALUE=DURATION:PT1H
X-Robots-Tag:noindex
X-PUBLISHED-TTL:PT1H
BEGIN:VTIMEZONE
TZID:America/Denver
BEGIN:DAYLIGHT
TZOFFSETFROM:-0700
TZOFFSETTO:-0600
TZNAME:MDT
DTSTART:20240310T090000
END:DAYLIGHT
BEGIN:STANDARD
TZOFFSETFROM:-0600
TZOFFSETTO:-0700
TZNAME:MST
DTSTART:20241103T080000
END:STANDARD
BEGIN:DAYLIGHT
TZOFFSETFROM:-0700
TZOFFSETTO:-0600
TZNAME:MDT
DTSTART:20250309T090000
END:DAYLIGHT
BEGIN:STANDARD
TZOFFSETFROM:-0600
TZOFFSETTO:-0700
TZNAME:MST
DTSTART:20251102T080000
END:STANDARD
BEGIN:DAYLIGHT
TZOFFSETFROM:-0700
TZOFFSETTO:-0600
TZNAME:MDT
DTSTART:20260308T090000
END:DAYLIGHT
BEGIN:STANDARD
TZOFFSETFROM:-0600
TZOFFSETTO:-0700
TZNAME:MST
DTSTART:20261101T080000
END:STANDARD
END:VTIMEZONE
BEGIN:VEVENT
DTSTART;VALUE=DATE:20250414
DTEND;VALUE=DATE:20250418
DTSTAMP:20260419T220724
CREATED:20250326T214014Z
LAST-MODIFIED:20250326T214428Z
UID:61435-1744588800-1744934399@macdnet.org
SUMMARY:National Forum on Biological Control
DESCRIPTION:National Forum on Biological Control\nApril 14-17  \nGraduate by Hilton Annapolis  \n126 West Street \nAnnapolis\, MD 21401 \nClick here to register or to learn more about this event.
URL:https://macdnet.org/event-calendar/national-forum-on-biological-control/
CATEGORIES:Events Calendar
END:VEVENT
BEGIN:VEVENT
DTSTART;VALUE=DATE:20250416
DTEND;VALUE=DATE:20250417
DTSTAMP:20260419T220724
CREATED:20250401T201837Z
LAST-MODIFIED:20250401T201837Z
UID:62808-1744761600-1744847999@macdnet.org
SUMMARY:SRWG Water Management Working Group & SRWG Board Meetings
DESCRIPTION:SRWG Water Management Working Group & SRWG Board Meetings\nApril 16 \n10:00AM-01:00PM  \nThe Water Management Working Group meeting will begin at 10:00AM\, with the Board meeting occurring after the Working Group meeting is done. Both meetings are open to the public. For more information\, contact Madison Coyler.
URL:https://macdnet.org/event-calendar/srwg-water-management-working-group-srwg-board-meetings/
CATEGORIES:Events Calendar
END:VEVENT
BEGIN:VEVENT
DTSTART;TZID=America/Denver:20250416T100000
DTEND;TZID=America/Denver:20250416T120000
DTSTAMP:20260419T220724
CREATED:20220119T234558Z
LAST-MODIFIED:20250709T143953Z
UID:37117-1744797600-1744804800@macdnet.org
SUMMARY:Employee Roundtable
DESCRIPTION:EO Roundtable Meetings usually meet on the third Wednesday of the month. For this month’s zoom information contact Chris Evans (chris@lewisandclarkcd.org). [Note: The EO Roundtable meetings for July 2025 and August 2025 have both been cancelled. For more information\, contact Chris Evans.]\n\nTopic: MCDEO Roundtable\nTime: 10:00 AM Mountain Time (US and Canada)\nPlease download and import the following iCalendar (.ics) files to your calendar system.\nMonthly: https://us02web.zoom.us/meeting/tZYlcO6vqj4vH9JCgJL-Wxx0Fi_fv8J3lFOD/ics?icsToken=DEGG1umcCWKBUYQiuQAALAAAADwKmtGvG2Rvb0Ff-PjxGh-OCZo8B4pWN1MFq51i9EHWuYLq0wiyxAIgdIFl_0MckQV3gWP3-FYgUYYRQTAwMDAwMQ&meetingMasterEventId=lPa1Rf1TSMegj2n2gdrRKQ\n\nJoin Zoom Meeting\nhttps://us02web.zoom.us/j/82877745556Meeting ID: 828 7774 5556\nPasscode: 626512— \nOne tap mobile\n+13462487799\,\,82877745556#\,\,\,\,*626512# US (Houston)\n+16694449171\,\,82877745556#\,\,\,\,*626512# US \n— \nDial by your location\n• +1 346 248 7799 US (Houston)\n• +1 669 444 9171 US\n• +1 669 900 9128 US (San Jose)\n• +1 719 359 4580 US\n• +1 253 205 0468 US\n• +1 253 215 8782 US (Tacoma)\n• +1 689 278 1000 US\n• +1 301 715 8592 US (Washington DC)\n• +1 305 224 1968 US\n• +1 309 205 3325 US\n• +1 312 626 6799 US (Chicago)\n• +1 360 209 5623 US\n• +1 386 347 5053 US\n• +1 507 473 4847 US\n• +1 564 217 2000 US\n• +1 646 558 8656 US (New York)\n• +1 646 931 3860 US \nMeeting ID: 828 7774 5556\nPasscode: 626512
URL:https://macdnet.org/event-calendar/employee-roundtable-2/2025-04-16/
LOCATION:Zoom
CATEGORIES:Events Calendar,Meetings,Trainings and Workshops
END:VEVENT
BEGIN:VEVENT
DTSTART;TZID=America/Denver:20250416T120000
DTEND;TZID=America/Denver:20250416T130000
DTSTAMP:20260419T220724
CREATED:20250327T181940Z
LAST-MODIFIED:20250327T181940Z
UID:61590-1744804800-1744808400@macdnet.org
SUMMARY:Good Fires & Bad Fires For Watershed Health
DESCRIPTION:Good Fires & Bad Fires For Watershed Health Webinar\nApril 16 \n12:00PM-01:00PM \nThe fourth webinar of WLA’s 2025 Water Webinar series The fourth webinar of WLA’s 2025 Water and Working Lands Webinar series will explore how fire impacts the water cycle and stream health in the West\, both positively and negatively\, and how human intervention is being used to emphasize the positive. What are the barriers to good fire? Why do we have bad fires and how can we minimize their harm before they strike and in their aftermath? \n\nJoin them to hear from landowners and burn bosses on how they’ve made common cause with a healthy fire regime in the West.
URL:https://macdnet.org/event-calendar/good-fires-bad-fires-for-watershed-health/
LOCATION:Zoom
CATEGORIES:Events Calendar
END:VEVENT
BEGIN:VEVENT
DTSTART;TZID=America/Denver:20250416T120000
DTEND;TZID=America/Denver:20250416T133000
DTSTAMP:20260419T220724
CREATED:20250414T140445Z
LAST-MODIFIED:20250414T140445Z
UID:64760-1744804800-1744810200@macdnet.org
SUMMARY:NAISMA: Spotted Lanternfly in North America Webinar
DESCRIPTION:NAISMA: Spotted Lanternfly in North America: Insights\, Impacts\, and Preparing for the Future\nApril 16  \n12:00PM-01:30PM  \nJoin NAISMA for an insightful webinar featuring a panel of experts discussing the spotted lanternfly invasion in North America. Learn about the biology and management of this invasive pest\, debunk common myths\, and gain updates on how human-mediated transport is driving its spread. Experts will also share the latest findings on cold tolerance thresholds and their role in assessing the risk of northward expansion. Additionally\, discover how Washington is preparing for the spotted lanternfly invasion and its potential impacts\, including threats to cultural resources. \nClick here to register.
URL:https://macdnet.org/event-calendar/naisma-spotted-lanternfly-in-north-america-webinar/
LOCATION:Zoom
CATEGORIES:Events Calendar
END:VEVENT
BEGIN:VEVENT
DTSTART;TZID=America/Denver:20250416T150000
DTEND;TZID=America/Denver:20250416T150000
DTSTAMP:20260419T220724
CREATED:20210920T235803Z
LAST-MODIFIED:20210920T235803Z
UID:37119-1744815600-1744815600@macdnet.org
SUMMARY:Prairie County CD Meeting
DESCRIPTION:
URL:https://macdnet.org/event-calendar/__trashed-68__trashed/2025-04-16/
CATEGORIES:CD Board Meetings
END:VEVENT
BEGIN:VEVENT
DTSTART;TZID=America/Denver:20250416T160000
DTEND;TZID=America/Denver:20250416T160000
DTSTAMP:20260419T220724
CREATED:20210920T235804Z
LAST-MODIFIED:20210920T235804Z
UID:37120-1744819200-1744819200@macdnet.org
SUMMARY:Lincoln Conservation District
DESCRIPTION:The Lincoln Conservation District Meetings alternate bimonthly between the U.S.F.S. Office in Eureka\, and Plum Creek Timberlands Office in Libby.
URL:https://macdnet.org/event-calendar/__trashed-69__trashed/2025-04-16/
CATEGORIES:CD Board Meetings
END:VEVENT
BEGIN:VEVENT
DTSTART;TZID=America/Denver:20250416T190000
DTEND;TZID=America/Denver:20250416T190000
DTSTAMP:20260419T220724
CREATED:20210920T235758Z
LAST-MODIFIED:20210920T235758Z
UID:37122-1744830000-1744830000@macdnet.org
SUMMARY:Green Mountain CD Meeting
DESCRIPTION:
URL:https://macdnet.org/event-calendar/__trashed-41__trashed/2025-04-16/
CATEGORIES:CD Board Meetings
END:VEVENT
BEGIN:VEVENT
DTSTART;TZID=America/Denver:20250416T190000
DTEND;TZID=America/Denver:20250416T220000
DTSTAMP:20260419T220724
CREATED:20210920T235808Z
LAST-MODIFIED:20210920T235808Z
UID:37118-1744830000-1744840800@macdnet.org
SUMMARY:BHWC Monthly Meeting
DESCRIPTION:
URL:https://macdnet.org/event-calendar/__trashed-87__trashed/2025-04-16/
CATEGORIES:Miscellaneous
END:VEVENT
END:VCALENDAR