BEGIN:VCALENDAR
VERSION:2.0
PRODID:-//Montana Association of Conservation Districts - ECPv6.15.20//NONSGML v1.0//EN
CALSCALE:GREGORIAN
METHOD:PUBLISH
X-ORIGINAL-URL:https://macdnet.org
X-WR-CALDESC:Events for Montana Association of Conservation Districts
REFRESH-INTERVAL;VALUE=DURATION:PT1H
X-Robots-Tag:noindex
X-PUBLISHED-TTL:PT1H
BEGIN:VTIMEZONE
TZID:America/Denver
BEGIN:DAYLIGHT
TZOFFSETFROM:-0700
TZOFFSETTO:-0600
TZNAME:MDT
DTSTART:20240310T090000
END:DAYLIGHT
BEGIN:STANDARD
TZOFFSETFROM:-0600
TZOFFSETTO:-0700
TZNAME:MST
DTSTART:20241103T080000
END:STANDARD
BEGIN:DAYLIGHT
TZOFFSETFROM:-0700
TZOFFSETTO:-0600
TZNAME:MDT
DTSTART:20250309T090000
END:DAYLIGHT
BEGIN:STANDARD
TZOFFSETFROM:-0600
TZOFFSETTO:-0700
TZNAME:MST
DTSTART:20251102T080000
END:STANDARD
BEGIN:DAYLIGHT
TZOFFSETFROM:-0700
TZOFFSETTO:-0600
TZNAME:MDT
DTSTART:20260308T090000
END:DAYLIGHT
BEGIN:STANDARD
TZOFFSETFROM:-0600
TZOFFSETTO:-0700
TZNAME:MST
DTSTART:20261101T080000
END:STANDARD
END:VTIMEZONE
BEGIN:VEVENT
DTSTART;VALUE=DATE:20250409
DTEND;VALUE=DATE:20250411
DTSTAMP:20260422T031603
CREATED:20250227T182730Z
LAST-MODIFIED:20250311T192339Z
UID:56118-1744156800-1744329599@macdnet.org
SUMMARY:CMP 2025 Forum
DESCRIPTION:CMP 2025 Forum\nApril 9-10  \nSalish-Kootenai College  \n36244 Joe McDonald Drive  \nRonan\, MT 59864  \nThe Crown Managers Partnership (CMP)\, and the Confederated Salish and Kootenai Tribes (CSKT)\, are excited to invite you to the 2025 CMP Forum. \nThis year’s theme is focused on the partnership and collaboration across communities and borders in the Crown of the Continent Ecosystem. This gathering will bring together conservation professionals\, community leaders\, agencies and members committed to protecting and preserving the region’s unique natural and cultural landscapes. All are welcome and encouraged to attend the forum. \nJoin us at Salish Kootenai College in Pablo\, Montana\, for an enriching two-day forum designed to discuss existing projects and explore new opportunities for cross-boundary conservation efforts. The event will include a mix of informative sessions\, purposeful discussions\, and field trips that highlight the important work being implemented in the region. \nClick here to register or to learn more about this event.
URL:https://macdnet.org/event-calendar/cmp-2025-forum/
LOCATION:Salish Kootenai College\, 36244 Joe McDonald Dr\, Ronan\, MT\, 59864\, United States
CATEGORIES:Events Calendar
ORGANIZER;CN="Crown Managers Partnership":MAILTO:crownmanagers@gmail.com
END:VEVENT
BEGIN:VEVENT
DTSTART;TZID=America/Denver:20250409T073000
DTEND;TZID=America/Denver:20250409T083000
DTSTAMP:20260422T031603
CREATED:20231228T222059Z
LAST-MODIFIED:20231228T222059Z
UID:41025-1744183800-1744187400@macdnet.org
SUMMARY:MACD Finance Committee
DESCRIPTION:The MACD Finance Committee meets on the second Wednesday of the Month at 7:30am via zoom. (This is typically the Wednesday prior to MACD Board Meetings). Contact Rebecca Boslough for meeting details.
URL:https://macdnet.org/event-calendar/macd-finance-committee-4/2025-04-09/
LOCATION:Zoom
END:VEVENT
BEGIN:VEVENT
DTSTART;TZID=America/Denver:20250409T090000
DTEND;TZID=America/Denver:20250409T090000
DTSTAMP:20260422T031603
CREATED:20210920T235756Z
LAST-MODIFIED:20210920T235756Z
UID:37062-1744189200-1744189200@macdnet.org
SUMMARY:Yellowstone CD Meeting
DESCRIPTION:
URL:https://macdnet.org/event-calendar/__trashed-21__trashed/2025-04-09/
CATEGORIES:CD Board Meetings
END:VEVENT
BEGIN:VEVENT
DTSTART;TZID=America/Denver:20250409T090000
DTEND;TZID=America/Denver:20250409T160000
DTSTAMP:20260422T031603
CREATED:20250325T155514Z
LAST-MODIFIED:20250325T155514Z
UID:61098-1744189200-1744214400@macdnet.org
SUMMARY:Lewis & Clark CD Pollinator Seed Pick-Up
DESCRIPTION:Lewis & Clark CD Pollinator Seed Pick-Up\nApril 9  \n09:00AM-04:00PM  \nUSDA Service Center  \n790 Colleen Street  \nHelena\, MT 59601  \nStaff time is limited. If you have signed up for seed and cannot pick it up on one of these dates\, you will need to contact Chris Evans to set up an appointment to pick up the seed. \nSeed is being claimed quickly this year. If you’ve not yet signed up for seed\, and would like to\, go to our website and sign up. \nThose who are willing to provide follow up monitoring (one email a year requesting photos of your plot)\, will get priority for seed this year.
URL:https://macdnet.org/event-calendar/lewis-clark-cd-pollinator-seed-pick-up/
LOCATION:Helena USDA Service Center\, 790 Colleen Street\, Helena\, Montana\, 59601
CATEGORIES:Events Calendar
ORGANIZER;CN="Lewis and Clark Conservation District":MAILTO:lccd@mt.net
END:VEVENT
BEGIN:VEVENT
DTSTART;TZID=America/Denver:20250409T130000
DTEND;TZID=America/Denver:20250409T130000
DTSTAMP:20260422T031603
CREATED:20210920T235755Z
LAST-MODIFIED:20210920T235755Z
UID:37060-1744203600-1744203600@macdnet.org
SUMMARY:Daniels County CD Meeting
DESCRIPTION:
URL:https://macdnet.org/event-calendar/__trashed-18__trashed/2025-04-09/
CATEGORIES:CD Board Meetings
END:VEVENT
BEGIN:VEVENT
DTSTART;TZID=America/Denver:20250409T133000
DTEND;TZID=America/Denver:20250409T133000
DTSTAMP:20260422T031603
CREATED:20210920T235754Z
LAST-MODIFIED:20210920T235754Z
UID:37061-1744205400-1744205400@macdnet.org
SUMMARY:Valley County CD Meeting
DESCRIPTION:
URL:https://macdnet.org/event-calendar/__trashed-8__trashed/2025-04-09/
CATEGORIES:CD Board Meetings
END:VEVENT
BEGIN:VEVENT
DTSTART;TZID=America/Denver:20250409T190000
DTEND;TZID=America/Denver:20250409T190000
DTSTAMP:20260422T031603
CREATED:20210920T235756Z
LAST-MODIFIED:20210920T235756Z
UID:37057-1744225200-1744225200@macdnet.org
SUMMARY:Fergus CD Meeting
DESCRIPTION:
URL:https://macdnet.org/event-calendar/__trashed-23__trashed/2025-04-09/
CATEGORIES:CD Board Meetings
END:VEVENT
BEGIN:VEVENT
DTSTART;TZID=America/Denver:20250409T193000
DTEND;TZID=America/Denver:20250409T193000
DTSTAMP:20260422T031603
CREATED:20210920T235754Z
LAST-MODIFIED:20210920T235754Z
UID:37058-1744227000-1744227000@macdnet.org
SUMMARY:Big Sandy CD Meeting
DESCRIPTION:
URL:https://macdnet.org/event-calendar/__trashed-9__trashed/2025-04-09/
CATEGORIES:CD Board Meetings
END:VEVENT
BEGIN:VEVENT
DTSTART;TZID=America/Denver:20250409T193000
DTEND;TZID=America/Denver:20250409T193000
DTSTAMP:20260422T031603
CREATED:20210920T235802Z
LAST-MODIFIED:20210920T235802Z
UID:37059-1744227000-1744227000@macdnet.org
SUMMARY:Upper Musselshell CD Meeting
DESCRIPTION:
URL:https://macdnet.org/event-calendar/__trashed-60__trashed/2025-04-09/
CATEGORIES:CD Board Meetings
END:VEVENT
END:VCALENDAR