BEGIN:VCALENDAR
VERSION:2.0
PRODID:-//Montana Association of Conservation Districts - ECPv6.15.20//NONSGML v1.0//EN
CALSCALE:GREGORIAN
METHOD:PUBLISH
X-ORIGINAL-URL:https://macdnet.org
X-WR-CALDESC:Events for Montana Association of Conservation Districts
REFRESH-INTERVAL;VALUE=DURATION:PT1H
X-Robots-Tag:noindex
X-PUBLISHED-TTL:PT1H
BEGIN:VTIMEZONE
TZID:America/Denver
BEGIN:DAYLIGHT
TZOFFSETFROM:-0700
TZOFFSETTO:-0600
TZNAME:MDT
DTSTART:20240310T090000
END:DAYLIGHT
BEGIN:STANDARD
TZOFFSETFROM:-0600
TZOFFSETTO:-0700
TZNAME:MST
DTSTART:20241103T080000
END:STANDARD
BEGIN:DAYLIGHT
TZOFFSETFROM:-0700
TZOFFSETTO:-0600
TZNAME:MDT
DTSTART:20250309T090000
END:DAYLIGHT
BEGIN:STANDARD
TZOFFSETFROM:-0600
TZOFFSETTO:-0700
TZNAME:MST
DTSTART:20251102T080000
END:STANDARD
BEGIN:DAYLIGHT
TZOFFSETFROM:-0700
TZOFFSETTO:-0600
TZNAME:MDT
DTSTART:20260308T090000
END:DAYLIGHT
BEGIN:STANDARD
TZOFFSETFROM:-0600
TZOFFSETTO:-0700
TZNAME:MST
DTSTART:20261101T080000
END:STANDARD
END:VTIMEZONE
BEGIN:VEVENT
DTSTART;VALUE=DATE:20250401
DTEND;VALUE=DATE:20250403
DTSTAMP:20260423T154926
CREATED:20250227T183431Z
LAST-MODIFIED:20250311T192358Z
UID:56132-1743465600-1743638399@macdnet.org
SUMMARY:Montana Beaver Working Group Annual Meeting
DESCRIPTION:Montana Beaver Working Group\nApril 1-2  \nMore information coming soon.
URL:https://macdnet.org/event-calendar/montana-beaver-working-group-annual-meeting/
CATEGORIES:Events Calendar
END:VEVENT
BEGIN:VEVENT
DTSTART;VALUE=DATE:20250401
DTEND;VALUE=DATE:20250408
DTSTAMP:20260423T154926
CREATED:20250305T151153Z
LAST-MODIFIED:20250311T192427Z
UID:57170-1743465600-1744070399@macdnet.org
SUMMARY:Soil Health Week
DESCRIPTION:Soil Health Week\nApril 1-7 \nJoin in the celebration of Montana’s 2nd annual Soil Health Week! \nThe weeklong celebration is designed to raise awareness about how healthy soils can increase crop yields\, strengthen food security\, create greater climate resiliency\, and improve nutrition. Soil Health Day and Week highlights the work of everyone stewarding soil health across Montana. \nClick here for more info.
URL:https://macdnet.org/event-calendar/soil-health-week/
CATEGORIES:Events Calendar
END:VEVENT
BEGIN:VEVENT
DTSTART;TZID=America/Denver:20250402T170000
DTEND;TZID=America/Denver:20250402T170000
DTSTAMP:20260423T154926
CREATED:20210920T235801Z
LAST-MODIFIED:20210920T235801Z
UID:36824-1743613200-1743613200@macdnet.org
SUMMARY:Garfield County CD Meeting
DESCRIPTION:
URL:https://macdnet.org/event-calendar/__trashed-58__trashed/2025-04-02/
CATEGORIES:CD Board Meetings
END:VEVENT
BEGIN:VEVENT
DTSTART;TZID=America/Denver:20250402T173000
DTEND;TZID=America/Denver:20250402T190000
DTSTAMP:20260423T154926
CREATED:20250317T143348Z
LAST-MODIFIED:20250317T143350Z
UID:59674-1743615000-1743620400@macdnet.org
SUMMARY:Madison CD Soil Testing Workshop
DESCRIPTION:Madison CD Soil Testing Workshop\nApril 2\, 2025 \n05:30PM-07:00PM \nThe Madison Valley Public Library  \n210 Main St\, Ennis\, MT  \nAre you curious about what’s going on beneath your feet? Join Kaleena Miller and the Madison Conservation District for a free workshop about soil testing\, and what you can do to help your plants and soil thrive. For more info\, contact us at (406) 682-3181 or maia@madisoncd.org. \nInformational Flyer  \n 
URL:https://macdnet.org/event-calendar/madison-cd-soil-testing-workshop/
LOCATION:The Madison Valley Public Library\, 210 Main St\, Ennis\, 59729\, United States
CATEGORIES:Events Calendar,Trainings and Workshops
END:VEVENT
BEGIN:VEVENT
DTSTART;TZID=America/Denver:20250402T190000
DTEND;TZID=America/Denver:20250402T190000
DTSTAMP:20260423T154926
CREATED:20210920T235801Z
LAST-MODIFIED:20210920T235801Z
UID:36827-1743620400-1743620400@macdnet.org
SUMMARY:Powder River CD Meeting
DESCRIPTION:
URL:https://macdnet.org/event-calendar/__trashed-56__trashed/2025-04-02/
CATEGORIES:CD Board Meetings
END:VEVENT
BEGIN:VEVENT
DTSTART;TZID=America/Denver:20250402T190000
DTEND;TZID=America/Denver:20250402T190000
DTSTAMP:20260423T154926
CREATED:20210920T235805Z
LAST-MODIFIED:20210920T235805Z
UID:36826-1743620400-1743620400@macdnet.org
SUMMARY:McCone County CD Meeting
DESCRIPTION:Please see the McCone County CD website for more info.
URL:https://macdnet.org/event-calendar/__trashed-74__trashed/2025-04-02/
CATEGORIES:CD Board Meetings
END:VEVENT
BEGIN:VEVENT
DTSTART;TZID=America/Denver:20250402T200000
DTEND;TZID=America/Denver:20250402T200000
DTSTAMP:20260423T154926
CREATED:20210920T235802Z
LAST-MODIFIED:20210920T235802Z
UID:36825-1743624000-1743624000@macdnet.org
SUMMARY:Eastern Sanders County CD Meeting
DESCRIPTION:
URL:https://macdnet.org/event-calendar/__trashed-62__trashed/2025-04-02/
CATEGORIES:CD Board Meetings
END:VEVENT
END:VCALENDAR